BEGIN:VCALENDAR
VERSION:2.0
PRODID:-//https://techplay.jp//JP
CALSCALE:GREGORIAN
METHOD:PUBLISH
X-WR-CALDESC:業務システムデザイン勉強会 #3
X-WR-CALNAME:業務システムデザイン勉強会 #3
X-WR-TIMEZONE:Asia/Tokyo
BEGIN:VTIMEZONE
TZID:Asia/Tokyo
BEGIN:STANDARD
DTSTART:19700101T000000
TZOFFSETFROM:+0900
TZOFFSETTO:+0900
TZNAME:JST
END:STANDARD
END:VTIMEZONE
BEGIN:VEVENT
UID:752165@techplay.jp
SUMMARY:業務システムデザイン勉強会 #3
DTSTART;TZID=Asia/Tokyo:20191113T190000
DTEND;TZID=Asia/Tokyo:20191113T213000
DTSTAMP:20260420T081419Z
CREATED:20190926T062604Z
DESCRIPTION:イベント詳細はこちら\nhttps://techplay.jp/event/75216
 5?utm_medium=referral&utm_source=ics&utm_campaign=ics\n\nイベント概
 要\nシステムが大きくなるにつれデザインも複雑にな
 ります。\n書籍やWebからは一般的なWebデザイン論を学
 ぶことができますが、生きた実例に触れる機会はあま
 りありません。\nそこで各社の取り組みについて、日
 々どのように考えデザインをしているのか聞いてみる
 機会を作りたいと思い、今回開催する運びとなりまし
 た。\nUI/UX、フロントエンドなど、業務システムのデザ
 インにまつわる話題が中心の勉強会となります\n日時
 （開始~終了)\n2019年11月13日(水) 　19:00 ～ 21:30\n※遅れ
 ても入場できます\n受付開始時間\n18:30\n会場\n株式会社
 マネーフォワード 京都支店\n定員\n25人\n参加費\n無料\n
 懇親会参加費\n500円（懇親会参加者のみ）\nアンケート
 \nhttps://docs.google.com/forms/d/e/1FAIpQLSdhFXPNuK_B46dwZv2QkptVjbpTL9f
 HB3OB8oqSyvAP0rEC1Q/viewform\nハッシュタグ\n#kyotoui\nセッショ
 ン\n※発表者は変更することがあります\n\n\n\n時間\nテ
 ーマ\n発表者\n\n\n\n\n18:30\n開場\n\n\n\n18:55\nオープニング
 /会場諸注意\n\n\n\n19:00   ~ 19:20\n理想的なユーザー体験
 を描くためのデザインプロセス(仮)\n株式会社マネーフ
 ォワード\n\n\n19:30 ~ 19:50\nSansanのUIガイドラインについ
 て- なぜガイドラインを作った (ている)のか- どういう
 ふうに運用しているのか- 今後やりたいこと\nSansan株式
 会社\n\n\n20:00 ~ 20:30\nReactを使ったSPA開発での失敗の歴
 史と改善策\n株式会社トマルバ\n\n\n20:30\n懇親会\n\n\n\n21
 :30\nクロージング／撤収\n\n\n\n
LOCATION:株式会社マネーフォワード 京都支店 京都府京都
 市中京区三条通河原町東入中島町78 明治屋京都ビル4F
URL:https://techplay.jp/event/752165?utm_medium=referral&utm_source=ics&utm
 _campaign=ics
END:VEVENT
END:VCALENDAR
