BEGIN:VCALENDAR
VERSION:2.0
PRODID:-//https://techplay.jp//JP
CALSCALE:GREGORIAN
METHOD:PUBLISH
X-WR-CALDESC:X-Tech JAWS 【第9回】~祝2周年！神様、クラウド
 をありがとう！~
X-WR-CALNAME:X-Tech JAWS 【第9回】~祝2周年！神様、クラウド
 をありがとう！~
X-WR-TIMEZONE:Asia/Tokyo
BEGIN:VTIMEZONE
TZID:Asia/Tokyo
BEGIN:STANDARD
DTSTART:19700101T000000
TZOFFSETFROM:+0900
TZOFFSETTO:+0900
TZNAME:JST
END:STANDARD
END:VTIMEZONE
BEGIN:VEVENT
UID:752188@techplay.jp
SUMMARY:X-Tech JAWS 【第9回】~祝2周年！神様、クラウドをあ
 りがとう！~
DTSTART;TZID=Asia/Tokyo:20191011T190000
DTEND;TZID=Asia/Tokyo:20191011T214000
DTSTAMP:20260424T212747Z
CREATED:20190926T140014Z
DESCRIPTION:イベント詳細はこちら\nhttps://techplay.jp/event/75218
 8?utm_medium=referral&utm_source=ics&utm_campaign=ics\n\nFinTech(金融)
 だけに限らず、InsureTech(保険)、HealthTech(ヘルスケア)、M
 ediTech(医療)、AdTech(広告)、EdTech(教育)、LegalTech(法律)な
 ど、あらゆる業界において技術革新が求められるなか
 で、クラウドの利用ひいては、AWSの利用の加速と業界
 間・異業種企業間のハブになれるようなそんな支部（
 コミュニティ）としての役割を果たせられたらと思い
 、X-Tech JAWSは誕生しました。\n\nX-Tech JAWSはAWSを利用し
 ている異業種企業間との交流の場であり、技術の学習
 、サービスの情報交換、サービス提携などのやりとり
 の場として活用される勉強会です。業界間の壁を超え
 た交流が行われることを期待しています。\n\nこの度、
 多種多様な登壇者メンバーにご協力いただけることと
 なりました。\n皆様の参加を是非お待ちしております
 。\n\n公開しているタイトルについて仮設定とついたも
 のは、運営側で仮に設定したタイトルです。\n当日ま
 でに変更になる可能性があります。ご了承ください。\
 n\nなお、終了後の懇親会募集は行わない予定ですが、
 その場の雰囲気で有志で行きましょう。\n\n開催概要\n\
 n【日時】\n2019年10月11日（金）　19:00～21:00（開場18:30/
 前説19:00）\n※なお、運営メンバーも聴講者であるため
 、受付は19:30で閉めますので、遅れずに入館ください
 。\n※遅刻の方は、「#xtechjaws遅刻」でつぶやいていた
 だくと、ベストエフォートで迎えにいきます。\n※全
 編Chimeで聴けるかは登壇者次第となります。予めご了
 承ください。\n\n【場所】\n〒141-0021 東京都品川区上大
 崎3-1-1 目黒セントラルスクエア 21F アマゾン ウェブ サ
 ービス ジャパン\n\nスケジュール 講師\n\n\n\n時間\n内容
 \n領域\n\n\n\n18:30\n受け付け開始\n\n\n\n18:55\n運営からの
 お知らせ\n\n\n\n19:00〜19:05\nX-Tech JAWS運営メンバー 吉江 
 瞬『X-Tech JAWSの紹介』\n\n\n\n19:05～19:25 （20分）\n#1: 株
 式会社justInCase\,株式会社justInCaseTechnologies 小笠原 寛明\
 , 吉住 宗朔『保険API&クレカ付帯保険チェッカーのバッ
 クエンド』\nInsurTech\n\n\n19:25〜19:30\nQ&A、アンケート記
 入\n\n\n\n19:30～19:50 （20分）\n#2: AI inside 株式会社 野田 
 明良『AI-OCR「DX Suite」を支える AWS』\nAITech\n\n\n19:50〜19:
 55\nQ&A、アンケート記入\n\n\n\n19:55～20:15 （20分）\n#3: 株
 式会社フレクト遠藤 匠\, 篠原 翔『なめらか&リアルタ
 イムな動態管理を支えるCariotのAWS基盤』\nMobiTech\n\n\n20:
 15〜20:20\nQ&A、アンケート記入\n\n\n\n20:20〜20:30\n休憩(X-Te
 chな宣伝したい方はこの間にどうぞ)\n\n\n\n20:30～20:50 （
 20分）\n#4: AppsFlyer Japan Country Manager 大坪 直哉\, Tech Lead 
 胡 亮 『意外と知られていないアプリビジネスの裏側 
 〜イスラエル発モバイル広告効果測定最大手AppsFlyerが
 語るリアルタイムのビッグデータ分析を支えるKafka&AWS
 の活用〜』\nAdTech\n\n\n20:50〜20:55\nQ&A、アンケート記入\n
 \n\n\n20:55～21:20 （25分）\n#5: パネルディスカッション『
 祝2周年！X-Tech JAWSの表から裏まで運営に聞いちゃうパ
 ネル』　パネラー1：吉江 瞬@NRI（X-Tech JAWS）　パネラ
 ー2：波田野 裕一@運用設計ラボ（X-Tech JAWS）　パネラ
 ー3：世古 修平@ PwCコンサルティング（X-Tech JAWS）　パ
 ネラー4：瀬戸島 敏宏@NRI（X-Tech JAWS）　パネラー5：萩
 村 卓也@NRI（X-Tech JAWS）　パネラー6：あべんべん@MTEC（
 X-Tech JAWS）　モデレーター：JAWS-UG on ASCII 大谷イビサ\n\
 n\n\n21:20〜21:25\nクロージング\n\n\n\n21:25～21:40\n撤収\n\n\n
 \n\nTwitter\n\nID: @xtechjaws\nハッシュタグは#xtechjaws #xtechjaws
 09\nです。\n\n会場提供\n\nアマゾン ウェブ サービス ジ
 ャパン株式会社\n\n注意\n\n・会場にはWifiはありますが
 電源がございません。ご了承ください。\n・イベント
 についてのTwitterやSNSへの投稿は原則OKですが、写真撮
 影は禁止とさせていただきます。\n   また、投稿につ
 いてNGな部分は講師の方々に従いましょう。\n以上のル
 ールをご理解下さい。\n\nリモート参加について\n\nAmazo
 n Chimeを使って、イベントを配信するためのURLを、イベ
 ント開始直前に、参加者にのみお送りします。 Chimeの
 制約上MAX100名までの参加としています。 多少、音声・
 画質問題はでてくる可能性もありますこと、ご了承く
 ださい。 URLは本イベントのメッセージ送信機能を使っ
 て開催直前にお送りします。 別途、Chimeのクライアン
 トツールをインストールする必要はない想定です。 当
 日、現地に来られる方はChime用URLのアクセスはしない
 でください。 なお、接続に関する不具合対応方法やク
 レーム等に対してはお受けいたしかねます。 Chimeの接
 続URLは18:30すぎにDoorkeeperより送る予定です。 Doorkeeper
 アカウント登録されているSNSサービスなどを登録して
 いるメールアドレス宛に届きますので、 そちらをご確
 認ください。 \n\n運営メンバー\n\n吉江 瞬\n波田野 裕一
 \n世古 修平\n瀬戸島 敏宏\n萩村 卓也\nあべんべん
LOCATION:アマゾン ウェブ サービス ジャパン  〒141-0021 東
 京都品川区上大崎3-1-1 目黒セントラルスクエア 21F
URL:https://techplay.jp/event/752188?utm_medium=referral&utm_source=ics&utm
 _campaign=ics
END:VEVENT
END:VCALENDAR
