BEGIN:VCALENDAR
VERSION:2.0
PRODID:-//https://techplay.jp//JP
CALSCALE:GREGORIAN
METHOD:PUBLISH
X-WR-CALDESC:WordPressもくもく勉強会@本庄 #17 【※いつもと
 時間が変わります】
X-WR-CALNAME:WordPressもくもく勉強会@本庄 #17 【※いつもと
 時間が変わります】
X-WR-TIMEZONE:Asia/Tokyo
BEGIN:VTIMEZONE
TZID:Asia/Tokyo
BEGIN:STANDARD
DTSTART:19700101T000000
TZOFFSETFROM:+0900
TZOFFSETTO:+0900
TZNAME:JST
END:STANDARD
END:VTIMEZONE
BEGIN:VEVENT
UID:752646@techplay.jp
SUMMARY:WordPressもくもく勉強会@本庄 #17 【※いつもと時間
 が変わります】
DTSTART;TZID=Asia/Tokyo:20191015T193000
DTEND;TZID=Asia/Tokyo:20191015T213000
DTSTAMP:20260420T121602Z
CREATED:20190930T044245Z
DESCRIPTION:イベント詳細はこちら\nhttps://techplay.jp/event/75264
 6?utm_medium=referral&utm_source=ics&utm_campaign=ics\n\nWordPressもく
 もく勉強会@本庄\n※いつもと開始時間が変わり 19:30~と
 なります！\n概要\nWordPressについて、ただただ「黙々」
 と勉強や作業をするもくもく会です。\nセミナーのよ
 うに、登壇者の話を聞くような会ではなく、その時間
 に会場に集ってひたすら作業をしたり、その場にいる
 人にわからないことを質問してみる…といった気軽な
 会です！\nWordPress初心者の方でもお気軽にご参加下さ
 い！\n「もくもく会」ですが、ずっと黙々と作業する
 だけでなく、参加者同士でお話をしたり、名刺交換し
 たり…交流を深めていただければと思います！\n参加
 条件\n\nWordPressに興味がある方\n\nWordPressに興味がある
 方なら誰でもご参加頂けます。\nWordPressのサイトを持
 っていない！・WordPressを触ったこともない！…といっ
 た方でもOKです！\nもくもく会でやること\nWordPressに関
 わることに各自もくもくと取り組んでみて下さい。\n\n
 ブログの記事を書く\n新しいWordPressサイトを作る\nテー
 マやプラグインについて調べる\n運営しているWordPress
 サイトのカスタマイズをする\nテーマを作る\nプラグイ
 ンを作る\n\nなどなど…\n特にお題は用意しませんので
 各自「今日のやること」を考えてきて下さい。\n持ち
 物\nノートPC、書籍など各自作業に必要な物をご持参く
 ださい。\n※会場では有線LANが利用できます。\n※主催
 者私物の無線LANルーターでWi-Fi環境を用意致しますが
 、家庭用の機器のため大人数の接続に耐えられない恐
 れがあります。ご了承ください。\n※通信環境が心配
 な方はご自身でモバイルWi-Fiなどをご用意下さい。\n会
 場\nはにぽんプラザ 3F 「IT活動室」\nhttp://www.city.honjo.lg
 .jp/haniponplaza/index.html\n住所：埼玉県本庄市銀座1丁目1番
 1号\n\n※駐車場につきましては、はにぽんプラザの駐
 車場・臨時駐車場、もしくは近隣のコインパーキング
 をご利用下さい。\n※19:00にはにぽんプラザの利用がお
 わる団体と入れ違いで駐車できる可能性があるので、
 お車でお越しの方は19:00過ぎに会場に来ることをおす
 すめします。\n※会場内での食事（お菓子等含む）は
 禁止されております。食事をする場合は建物外でお願
 い致します。\n※飲み物についてもペットボトルや水
 筒など、フタが閉まるものをご持参下さい。（建物内
 に自動販売機もございます）\n\nタイムスケジュール\n\
 n\n\n時間\n内容\n\n\n\n\n19:30〜\n開場・受付開始・各自作
 業開始\n\n\n19:45〜20:00\nこの会についての説明 / 自己紹
 介\n\n\n20:00〜20:20\nLT（1人5分 1~3人まで）\n\n\n20:00〜21:00\
 n各自もくもくと作業\n\n\n21:45〜22:00\n片付け・撤収\n\n\n
 \n※ 当日予告なく時間配分・内容が変更になる可能性
 がございます。\n※ 懇親会はありません。\n自己紹介
 について\n会の最初に簡単な自己紹介を予定していま
 す。\n\nお名前（ハンドルネームでも可）\nWordPressとど
 のように付き合っているか\n\n例) ブログを書いている
 、Webサイト制作している、これから始めようと思う…
 などなど\n\n\n本日のもくもく会でやろうとしているこ
 と\n\nプロジェクターもあるので、3分くらいであれば
 プロジェクターを使って発表頂くことも可能です。\n
 ※HDMIケーブルは主催者側で用意しますが、PCとの接続
 コネクタ（HDMI端子とPCをつなぐ変換コネクタ）は各自
 ご用意下さい。\n※USB-C - HDMIの変換コネクタについて
 は主催者私物をお貸しすることができます。\nLTについ
 て\nLT（Lightning Talk）発表者も募集しております。\n（5
 分程度）\n内容はWordPressに関することであればジャン
 ルは問いません。\n発表希望の方は「LTします」枠で参
 加登録をお願いします。\n参加費\n200円\n※会場代とし
 て頂いております。\n※PayPayでの支払いにも対応して
 おります。\n※領収書の発行には対応しておりません
 。\nハッシュタグ\n#mkmkwphonjo\nお問い合わせ\nイベント
 に関するお問い合わせはこちら(主催者ブログ)からお
 願いします。\n注意事項\nリクルーティング、勧誘、採
 用活動、営業活動など、目的に沿わない行為につきま
 して、主催者が相応しくないと判断した場合は即刻退
 出処分とします。\n全員が気持ちよく過ごすことが出
 来るよう、ご協力をお願い致します。\n
LOCATION:はにぽんプラザ 3F 「IT活動室」 埼玉県本庄市銀
 座1丁目1番1号
URL:https://techplay.jp/event/752646?utm_medium=referral&utm_source=ics&utm
 _campaign=ics
END:VEVENT
END:VCALENDAR
