BEGIN:VCALENDAR
VERSION:2.0
PRODID:-//https://techplay.jp//JP
CALSCALE:GREGORIAN
METHOD:PUBLISH
X-WR-CALDESC:Tableau（タブロー）無料ハンズオンセミナーin
 広島
X-WR-CALNAME:Tableau（タブロー）無料ハンズオンセミナーin
 広島
X-WR-TIMEZONE:Asia/Tokyo
BEGIN:VTIMEZONE
TZID:Asia/Tokyo
BEGIN:STANDARD
DTSTART:19700101T000000
TZOFFSETFROM:+0900
TZOFFSETTO:+0900
TZNAME:JST
END:STANDARD
END:VTIMEZONE
BEGIN:VEVENT
UID:753370@techplay.jp
SUMMARY:Tableau（タブロー）無料ハンズオンセミナーin広島
DTSTART;TZID=Asia/Tokyo:20191024T150000
DTEND;TZID=Asia/Tokyo:20191024T173000
DTSTAMP:20260422T230730Z
CREATED:20191003T081943Z
DESCRIPTION:イベント詳細はこちら\nhttps://techplay.jp/event/75337
 0?utm_medium=referral&utm_source=ics&utm_campaign=ics\n\nTableau(タブ
 ロー）無料ハンズオンセミナーin広島\n概要\n広島で、
 セルフサービスBIツール「Tableau（タブロー）」の紹介
 セミナーを開催いたします。Tableauは、マウスの操作で
 簡単に、データの分析、ビジュアル化（グラフ作成）
 、ダッシュボードの作成ができるソフトです。本セミ
 ナーでは、ハンズオン形式で、実際にTableauを操作して
 、その優れた操作性を体験いただけます。\n主　催： 
 株式会社シリウス・データサイエンス／株式会社シリ
 ウス１\n日　時：2019年10月24日（木）　15:00~17:30\n対　
 象：Tableauに初めて触る方、使い始めたばかりの方\n参
 加費：無料\n※　当日は、Tableau Desktop（試用版も可）
 がインストールされたPC をご持参ください。　　試用
 版ダウンロード：　http://www.sirius-ds.com　→「Tableau試用
 版ダウンロード」をクリック\n※　もしPCを持参できな
 い場合は、セミナー申し込み時にご相談ください。　
 　貸出機をご用意いたします。（先着３名様）　　貸
 出機ご利用の方は、当日、14：40にお越しいただき、貸
 出機にTableau試用版をイントールいただいてから　　セ
 ミナーにご参加いただきます。　　インストール時に
 必要となりますのでメールアドレスをご用意ください
 。\nタイムスケジュール\n\n\n\n時間\n内容\n\n\n14:40〜\n受
 付開始\n\n\n15:00〜15:30\nTableauのご紹介・Dataの可視化に
 ついて\n\n\n15:30〜17:00\n\nTableau Desktop 基本操作体験\n\n\n\
 n17:00〜17:30\n\nTableau Online(Tableau Server)ご紹介・Q&A\n\n\n\n\n
 ※ 当日予告なく時間配分・内容が変更になる可能性が
 ございます。\n注意事項\n※ 参加を辞退する場合は、
 詳細ページより申込のキャンセルをお願い致します。
 ※ 無断キャンセル・欠席が続く場合、次回以降の参加
 をお断りさせていただく場合がございますのでご了承
 ください。\n 
LOCATION:シリウス１　１０階会議室 広島市中区橋本町７-1
 4
URL:https://techplay.jp/event/753370?utm_medium=referral&utm_source=ics&utm
 _campaign=ics
END:VEVENT
END:VCALENDAR
