BEGIN:VCALENDAR
VERSION:2.0
PRODID:-//https://techplay.jp//JP
CALSCALE:GREGORIAN
METHOD:PUBLISH
X-WR-CALDESC:WEBデザイナー＆コーダー向けGulp講座　～Sassの
 コンパイルができる環境をカンタン構築～
X-WR-CALNAME:WEBデザイナー＆コーダー向けGulp講座　～Sassの
 コンパイルができる環境をカンタン構築～
X-WR-TIMEZONE:Asia/Tokyo
BEGIN:VTIMEZONE
TZID:Asia/Tokyo
BEGIN:STANDARD
DTSTART:19700101T000000
TZOFFSETFROM:+0900
TZOFFSETTO:+0900
TZNAME:JST
END:STANDARD
END:VTIMEZONE
BEGIN:VEVENT
UID:754075@techplay.jp
SUMMARY:WEBデザイナー＆コーダー向けGulp講座　～Sassのコ
 ンパイルができる環境をカンタン構築～
DTSTART;TZID=Asia/Tokyo:20191114T193000
DTEND;TZID=Asia/Tokyo:20191114T210000
DTSTAMP:20260420T195923Z
CREATED:20191008T081738Z
DESCRIPTION:イベント詳細はこちら\nhttps://techplay.jp/event/75407
 5?utm_medium=referral&utm_source=ics&utm_campaign=ics\n\nNode.jsがベー
 スのタスクランナー「Gulp」の開発環境を簡単に構築で
 きる方法をお伝えします\nGulpの開発環境を使ってWEBペ
 ージを作成してみたいという方に\nGulpのインストール
 から、ローカルサーバーを起動しSassのコンパイルがで
 きる環境の構築までを丁寧に解説いたします。\n\n\n\n
 ◆開催日時\n2019/11/14(木)　19:30～21:00\n［受付開始19:15］
 \n◆当日の内容\n・Gulpについて\n・Gulpのインストール
 方法について\n・Sassのコンパイルができる環境構築方
 法について\nGulpでの開発環境を構築するにあたり、イ
 ンストールから構築まで一貫した流れで解説いたしま
 す。\n講師を務める現役フロントエンドエンジニアか
 らの実践的な内容になっています。\n※内容が若干変
 更となる場合もございます。\n◆ご参加の対象者\nWebサ
 イト制作に関する業務経験のある方を想定しています
 。\n以下に当てはまる方は是非ご参加ください。\n\nHTML
 、CSS、Sassなどのコーディング知識があり、WEBページを
 作成したことがある方\nGulpを使ってみたいが、コマン
 ドライン操作に抵抗がある方\nNode.jsをインストールし
 たPCをご用意いただける方（Win/Mac問いません）\n\n◆当
 日の持ち物について\n\n筆記用具\nノートPC\n\n※講座中
 は当社のWi-Fiに接続して頂き、モジュールのダウンロ
 ードを行いますので、\nインターネット接続が可能なPC
 のご用意をお願いいたします。\n※PCをご用意いただく
 際には、時間の都合上、事前にNode.jsのインストールを
 お願いいたします。\nNode.jsのインストールは下記URLか
 ら「10.16.3 LTS 推奨版」をお選びください。\nhttps://nodejs
 .org/ja/\n◆ご参加にあたって\nインターリンク株式会社
 では、社員が技術的なことや趣味をテーマに勉強会や
 交流会を開催しています。\n参加される方は、本ペー
 ジよりご予約いただくか、以下のメールアドレスまで
 直接ご連絡ください。\nseminar_info@interlink.ne.jp\nまた、
 複数のサイトで同時に募集を行っております都合上、
 予約枠以上のご応募が集中した場合、別日でのご案内
 をさせていただく可能性がございます。予めご了承く
 ださいませ。\nなお、ご不明点やお問い合わせなどは
 お気軽に上記メールアドレス宛にお願いいたします。\
 n\n【インターリンク株式会社について】\nWeb制作(HTML5/C
 SS3/jQuery/JavaScript)やシステム開発(PHP/Java)、インフラ構
 築(Linux/Windows)まで一貫したサービスを提供しているIT
 企業です。 クライアントへの企画提案から要件定義、
 設計、構築、リリース、その後の運用改善までトータ
 ルでご支援しています。 当社では、副業もOK。社員の
 個人での活動や趣味を応援しています。\n
LOCATION:インターリンク株式会社 東京都千代田区九段北4-
 1-3　飛栄九段北ビル7F
URL:https://techplay.jp/event/754075?utm_medium=referral&utm_source=ics&utm
 _campaign=ics
END:VEVENT
END:VCALENDAR
