BEGIN:VCALENDAR
VERSION:2.0
PRODID:-//https://techplay.jp//JP
CALSCALE:GREGORIAN
METHOD:PUBLISH
X-WR-CALDESC:〈10/22@千歳・子供向け〉プログラミング的思
 考を学ぼう！
X-WR-CALNAME:〈10/22@千歳・子供向け〉プログラミング的思
 考を学ぼう！
X-WR-TIMEZONE:Asia/Tokyo
BEGIN:VTIMEZONE
TZID:Asia/Tokyo
BEGIN:STANDARD
DTSTART:19700101T000000
TZOFFSETFROM:+0900
TZOFFSETTO:+0900
TZNAME:JST
END:STANDARD
END:VTIMEZONE
BEGIN:VEVENT
UID:754278@techplay.jp
SUMMARY:〈10/22@千歳・子供向け〉プログラミング的思考を
 学ぼう！
DTSTART;TZID=Asia/Tokyo:20191022T103000
DTEND;TZID=Asia/Tokyo:20191022T141500
DTSTAMP:20260425T181949Z
CREATED:20191009T141134Z
DESCRIPTION:イベント詳細はこちら\nhttps://techplay.jp/event/75427
 8?utm_medium=referral&utm_source=ics&utm_campaign=ics\n\nプログラミ
 ングを学びたい・体験したい子ども達に、公立千歳科
 学技術大学のスタッフがプログラミング教室を開きま
 す。\nお知らせとお詫び（10月19日 11時）\n13:30からの回
 について、終了時間の記載にミスがありました。お詫
 びして訂正いたします。\n\n誤）13:30 〜 15:30\n正）13:30 
 〜 15:00\n\n体験テーマ：ゲームでプログラミング的思考
 を学ぼう！\nCodeSpark Academy with The Foos というゲームアプ
 リで、パズルを解いたり、自分でゲームを作りながら
 、プログラミングに大切な考え方を楽しく学びましょ
 う！\n\n\n画像はCodeSpark 公式サイト から引用していま
 す。\n対象\n千歳市や近隣市町村にお住まいの小学1年
 生〜小学6年生の児童とその保護者※各時間 児童 8組ま
 で （先着順） \n\n\nプログラミング未体験の児童でもOK
 です。保護者の方も一緒にご体験ください。\n1回の申
 し込みでご兄弟等での参加も可能です。詳しくは申し
 込み時の人数欄にご記入ください。ただし、機材に不
 足が発生した場合は、ご兄弟で一緒に取り組んでいた
 だく可能性があります。予めご容赦ください。\n以前
 に同じ内容に参加した児童は、発展編に挑戦できます
 。\n持ち物・参加費は不要です。\n未就学児や中学生以
 上の参加も可能です。お申し込みの上、ご相談くださ
 い。\n学校教育に携わる方の見学も歓迎しております
 （直接会場にお越しください）。\n\n会場\nまちライブ
 ラリー＠千歳タウンプラザ 会議室  \n〒066-0063 北海道
 千歳市幸町4丁目30\n申し込み方法\nまちライブラリー窓
 口での受付・問い合わせの対応は行っておりません。 
  \n事前に右上の「このイベントに申し込む」ボタンか
 らお申し込みをお願いします。\n諸注意\n\n事故等の防
 止のため、必ず保護者の方の付き添いをお願いいたし
 ます。\n会場や取組風景の記録写真を撮影する場合や
 、取材が行われる場合があります。\n記録写真は顔や
 表情がわからないよう加工した上で、広報・研究の目
 的でWeb等に掲載する場合があります。\n教室の目的と
 は関係のない、勧誘・販売等の行為は堅くお断りいた
 します。\n\n主催・問い合わせ先\n公立千歳科学技術大
 学（SNCちとせ事業）\n担当：山川広人（techcist@photon.chit
 ose.ac.jp）
LOCATION:まちライブラリー＠千歳タウンプラザ 北海道千
 歳市幸町4丁目30(千歳タウンプラザ)
URL:https://techplay.jp/event/754278?utm_medium=referral&utm_source=ics&utm
 _campaign=ics
END:VEVENT
END:VCALENDAR
