BEGIN:VCALENDAR
VERSION:2.0
PRODID:-//https://techplay.jp//JP
CALSCALE:GREGORIAN
METHOD:PUBLISH
X-WR-CALDESC:情報銀行プラットフォームを成長させるUI×基
 盤開発・アプリ開発×データサイエンス
X-WR-CALNAME:情報銀行プラットフォームを成長させるUI×基
 盤開発・アプリ開発×データサイエンス
X-WR-TIMEZONE:Asia/Tokyo
BEGIN:VTIMEZONE
TZID:Asia/Tokyo
BEGIN:STANDARD
DTSTART:19700101T000000
TZOFFSETFROM:+0900
TZOFFSETTO:+0900
TZNAME:JST
END:STANDARD
END:VTIMEZONE
BEGIN:VEVENT
UID:754386@techplay.jp
SUMMARY:情報銀行プラットフォームを成長させるUI×基盤開
 発・アプリ開発×データサイエンス
DTSTART;TZID=Asia/Tokyo:20191119T193000
DTEND;TZID=Asia/Tokyo:20191119T214500
DTSTAMP:20260419T161157Z
CREATED:20191010T065145Z
DESCRIPTION:イベント詳細はこちら\nhttps://techplay.jp/event/75438
 6?utm_medium=referral&utm_source=ics&utm_campaign=ics\n\n概要\n2019年
 から日本でも本格化してきた情報銀行事業。メガバン
 クも参入するなど、注目度も増しています。電通グル
 ープのマイデータ・インテリジェンスは日本でも先駆
 けて情報銀行事業を展開しています。\n\n生活者が安心
 して快適にデータを登録できるUIUXはどのように設計さ
 れたか？\n情報銀行を加速させる基盤開発・アプリ開
 発はどのようにされているのか？\n取得されたデータ
 をどのようにサイエンスして、ビジネス活用している
 か？\n\n今回のイベントでは、情報銀行を事例にデータ
 取得するUI・基盤開発・アプリ開発・データ分析につ
 いてお話をうかがいます。新規事業やデータビジネス
 に興味があるエンジニア、データサイエンティスト、U
 Iデザイナーの方はぜひご参加ください！\n\nタイムス
 ケジュール\n\n\n\n時間\n内容\n\n\n19:00〜\n受付開始\n\n\n19
 :30〜19:35\nオープニング\n\n\n19:35〜19:45\n\n情報銀行の世
 界\n森田 弘昭\n\n\n\n19:45〜20:05\n\n情報銀行のUIUX\n多田 
 明日賀\n\n\n\n20:05〜20:25\n\n情報銀行を加速させるための
 システム開発\n平林 和樹\n\n\n\n20:25〜20:45\n\n情報銀行の
 データサイエンス\n青木 光子\n\n\n\n20:45〜20:55\n\n情報銀
 行の未来\n田中 真\n\n\n\n20:55〜21:00\nアンケート\n\n\n21:00
 〜21:45\n懇親会\n\n\n\n※ 当日予告なく時間配分・内容が
 変更になる可能性がございます。\n登壇者\n\n\n\n\n森田 
 弘昭\n株式会社マイデータ・インテリジェンス取締役
 執行役員 COO\n広告代理店の営業を経て、1998年電通テッ
 ク入社。 銀行、クレジットカード会社、2005年から株
 式会社電通にて不動産会社、 大手流通チェーンを中心
 に「デジタル」「ＣＲＭ」「プロモーション」 領域で
 、数多くのプロジェクトをプロデュース。2011年電通テ
 ックにて、顧客企業のオウンドメディア、 SNS、デジタ
 ルプロモーション等の戦略・実装に携わり、デジタル
 マーケティングセンター長、 ID事業室長を歴任。2018年
 ９月より株式会社マイデータ・インテリジェンス　 取
 締役執行役員COOに就任。生活者のパーソナルデータ預
 託を受け、安心安全にデータ流通を行う基盤を柱に、
 生活者と企業をつなぐ新たなエコシステム構築を目指
 す。\n\n\n\n\n\n多田 明日賀\n株式会社マイデータ・イン
 テリジェンスMEY事業部 コンテンツ開発ユニット ユニ
 ットリーダー\n事業会社にて広報やマーケティングに
 関わりつつ、新規事業の立ち上げを推進。商品企画、W
 ebサイトのディレクションやユーザーとのコミュニケ
 ーション設計、コンテンツ企画に従事。2012年より、企
 業のデジタルマーケティングを支援する会社にて、MA
 のプリセールスやコンテンツ企画、BtoC向けSNS運用、Web
 サイトの企画・制作に従事。生活者視点に立った、サ
 イト内外の体験設計を通して企業の課題解決をサポー
 トする。 2017年電通テック入社。2019年よりマイデータ
 ・インテリジェンス出向にて「情報銀行」という新し
 い概念の浸透と定着に向け、より良いサービス構築に
 日々邁進中。\n\n\n\n\n\n平林 和樹\n株式会社マイデータ
 ・インテリジェンスプラットフォーム開発事業部\n2013
 年よりシステム開発会社にて、量販系業務システムの
 開発に従事。2017年に電通テックに入社後、ナショナル
 クライアントのキャンペーンのシステム開発や、ディ
 レクションを担当。2018年2月より、同社の新規事業部
 員としてサービス開発を経験、MDIに出向後も情報銀行
 事業のシステム開発を担当。現在はプロジェクトマネ
 ージャーとして活躍できるよう実務経験を積んでいる
 。趣味はサウナ。\n\n\n\n\n\n青木 光子\n株式会社マイデ
 ータ・インテリジェンスMEY事業部 マーケティングユニ
 ット ユニットリーダー\n外食企業に入社後、WEB会員サ
 ービス立ち上げ、経営企画を経て、データサイエンテ
 ィストとしてビッグデータ解析による顧客動向分析に
 基づいた店舗売上予測や、各種プロモーションの効果
 算出ロジック策定などマーケティングのPDCA改善業務に
 従事。 2018年電通テック入社。同年10月よりマイデータ
 インテリジェンスに出向。生活者１万人に対する大規
 模実証実験のプランニングをはじめとした、企業の事
 業成長を促すデータ取得と活用を推進。\n\n\n\n\n\n田中 
 真\n株式会社マイデータ・インテリジェンスプラット
 フォーム開発事業部　事業部長\n素材メーカー、国際
 協力事業を経て組込ソフトウェアの株式会社ACCESSに入
 社。大手キャリア担当、韓国現地法人CEOを歴任後、東
 京電力株式会社（当時）へ入社。電力設備活用、ドロ
 ーン等新規プロジェクト開発を指揮。2018年株式会社電
 通国際情報サービスへ入社し、株式会社マイデータ・
 インテリジェンスへ出向、現職。\n\n\n\n参加対象\n新規
 事業やデータビジネスに興味があるPM・エンジニア・
 データサイエンティスト・UIデザイナー\n参加費\n無料\
 n
LOCATION:TECH PLAY SHIBUYA 東京都渋谷区宇田川町20-17 NMF渋谷公
 園通りビル 8F
URL:https://techplay.jp/event/754386?utm_medium=referral&utm_source=ics&utm
 _campaign=ics
END:VEVENT
END:VCALENDAR
