BEGIN:VCALENDAR
VERSION:2.0
PRODID:-//https://techplay.jp//JP
CALSCALE:GREGORIAN
METHOD:PUBLISH
X-WR-CALDESC:kosen-fun勉強会
X-WR-CALNAME:kosen-fun勉強会
X-WR-TIMEZONE:Asia/Tokyo
BEGIN:VTIMEZONE
TZID:Asia/Tokyo
BEGIN:STANDARD
DTSTART:19700101T000000
TZOFFSETFROM:+0900
TZOFFSETTO:+0900
TZNAME:JST
END:STANDARD
END:VTIMEZONE
BEGIN:VEVENT
UID:754829@techplay.jp
SUMMARY:kosen-fun勉強会
DTSTART;TZID=Asia/Tokyo:20191102T103000
DTEND;TZID=Asia/Tokyo:20191102T140000
DTSTAMP:20260425T103905Z
CREATED:20191014T141952Z
DESCRIPTION:イベント詳細はこちら\nhttps://techplay.jp/event/75482
 9?utm_medium=referral&utm_source=ics&utm_campaign=ics\n\nkosen-fun\nkosen
 -fun 勉強会とは\n函館工業高等専門学校と公立はこだて
 未来大学の交流勉強会です。\n開催日時　※注[開場、
 開始時刻が30分変更になりました。]\n開催日時：2019 年
  11 月 2 日 (土) 10:00 開場 10:30 開始 予定\n場所 : 函館工
 業高等専門学校　〒042-8501 北海道函館市戸倉町１４−
 １ \n5年生産システム工学科情報コースの教室\n※当日
 の詳細集合場所は募集終了後に確定します。\n※登壇
 者の人数によって予定が前後する可能性があります。\
 n※場所が分からない人のために要所要所に案内人を立
 てておきます\n対象者\n\n学生の方\n技術系のお話が好
 きな方\n技術に興味のある方\n函館高専に行ってみたい
 方\n\n参加費\n無料。\nただし、会場までの交通費支援
 はありません。\n参加にあたっての注意事項\n参加する
 にあたって全員が函館高専側に所属先と本名などを提
 出する必要があります。\n以下のURLにアクセスし、ア
 ンケートにご記入ください。\n高専未来大合同勉強会
 参加者名簿 - Google Form\n個人情報の取り扱いについて\n
 この情報は勉強会主宰側では保存せず、函館工業高等
 専門学校での人数管理のみに利用いたします。\n登壇
 者募集!!\nkosen-fun 勉強会では登壇者を募集しています!\
 n内容は 技術に関することなら何でもオッケー!\n皆様
 のご参加をお待ちしております。\n登壇する場合\n参加
 時のアンケートで 登壇する を選択してください。\nま
 たその際、登壇内容についてのアンケートに併せてお
 答えください。\n登壇順\n登壇順は運営がランダムで決
 定します。\n登壇順に関して不都合がございましたら
 運営に連絡をお願いいたします。(運営代表Twitter)@kab__n
 an\nタイムテーブル\n\n\n\n時間\nタイトル\n発表者\n備考\
 n\n\n\n\n10:35 -10:50\nオープニング\n運営\n\n\n\nhoge\nfuga\npiyo
 \n登壇者の人数によって左右します\n\n\n10:55 -11:10\nLINQ(
 総合言語クエリ)の魅力\nAtria\nC# 3.0 にてLanguage Integrated 
 Query\,略してLINQと呼ばれる機能が追加されました。LINQ
 は様々なデータに対する検索や操作、加工などを共通
 の構文で端的に行うことを可能にします。本日はこのL
 INQを紹介したいと思います。\n\n\n11:15 - 11:25\n近況報告\
 nカブ\n近況報告をします\n\n\n11:30 - 11:35\npc届いたから
 遊んだ\nまる\n親からpcをいただいたのでいろんなベン
 チマーク試したりローカルで機械学習をしてみたり遊
 んだので紹介します。\n\n\n11:35 - 11:45\n休憩\n全員\n\n\n\n
 11:45 - 11:55\n仮想化技術とcrostini\nあわ\nコンテナ、そし
 てサーバーレスアーキテクチャなどにより最近話題の
 仮想化技術。今回はGoogleがだしたcrostini/crosvmの最近の
 動向についてお話します。\n\n\n12:00 - 12:05\n卒研で没に
 なったVRプラネタリウムの話\nよっすー\n2ヶ月くらいの
 進捗が5分で無くなりました。\n\n\n12:10 - 12:15\n人工知能
 の無能さについて\nたつお\n人工知能ができないことを
 紹介します\n\n\n12:15 - 12:25\n休憩\n全員\n\n\n\n12:25 - 12:30\n
 Unityシェーダーのやつ\nタクミン\nUnityシェーダーの基
 本の勉強した部分のお話\n\n\n12:35 - 12:40\nLT会主催しよ
 うぜ\nこた\nオンラインLT会開いた話\n\n\n12:45 - 12:55\n概
 念\nけすのん\nなんか話します\n\n\n13:00 - ∞\n虚無\nゆひ
 \nなにもない (∞分)\n\n\nhoge\nfuga\npiyo\n登壇者の人数に
 よって左右します\n\n\n13:45-14:00\nクロージング & 撤収\n
 運営\n\n\n\n
LOCATION:函館工業高等専門学校 〒042-8501 北海道函館市戸
 倉町１４−１
URL:https://techplay.jp/event/754829?utm_medium=referral&utm_source=ics&utm
 _campaign=ics
END:VEVENT
END:VCALENDAR
