BEGIN:VCALENDAR
VERSION:2.0
PRODID:-//https://techplay.jp//JP
CALSCALE:GREGORIAN
METHOD:PUBLISH
X-WR-CALDESC:【札幌】今日からはじめる「i-Construction」
X-WR-CALNAME:【札幌】今日からはじめる「i-Construction」
X-WR-TIMEZONE:Asia/Tokyo
BEGIN:VTIMEZONE
TZID:Asia/Tokyo
BEGIN:STANDARD
DTSTART:19700101T000000
TZOFFSETFROM:+0900
TZOFFSETTO:+0900
TZNAME:JST
END:STANDARD
END:VTIMEZONE
BEGIN:VEVENT
UID:755851@techplay.jp
SUMMARY:【札幌】今日からはじめる「i-Construction」
DTSTART;TZID=Asia/Tokyo:20191113T150000
DTEND;TZID=Asia/Tokyo:20191113T170000
DTSTAMP:20260425T133835Z
CREATED:20191021T142134Z
DESCRIPTION:イベント詳細はこちら\nhttps://techplay.jp/event/75585
 1?utm_medium=referral&utm_source=ics&utm_campaign=ics\n\nセミナー概
 要\n\n土木建設産業への就業者数は近年漸減を続けてお
 り、人口減少社会の到来や担い手不足といった問題を
 改善するアプローチとして、ICT（AI/IoT）の活用が求め
 られています。\nまた、現場の生産性向上や省人化を
 目指した「i-Construction」の取り組みに注目が集まる中
 、新しいテクノロジーを活用した様々な製品・サービ
 スが市場に登場していますが、採用事例や最新動向に
 触れる機会が限られているのが現状です。\n本セミナ
 ーでは、AIやIoTを活用した製品・サービスの最新事例
 をご紹介し、建設業界のデジタルトランスフォーメー
 ションへの理解を深めていただくことを目的としてい
 ます。\n\n※本セミナーは当社の独自開催であり、CPDS
 認定セミナーではありません。CPDSのユニットは取得い
 ただけませんので、ご留意の程よろしくお願いいたし
 ます。\n対象者\n\n\n建設土木現場の生産性向上や省人
 化の方法を知りたい方\nこれからi-Constructionの取り組み
 をはじめようとしている方\nICT（AI/IoT）を活用した製
 品・事例を知りたい方\n\n\nタイムテーブル\n\n\n\n14：40\
 n受付開始\n\n\n15：00\n第1部　セミナー概要／i-Construction
 とはなにか（30分）\n\n\n15：30\n休憩（5分）\n\n\n15：35\n
 第2部　今日からはじめる「i-Construction」〜ICT(AI/IoT)を
 活用した建設現場の生産性向上〜（45分）\n\n\n16：20\n
 休憩（5分）\n\n\n16：25\n第3部　AI/IoT製品・事例のご紹
 介（35分）\n\n\n17：00\n終了\n\n\n\n登壇者\n\n【第1部】\n
 エコモット株式会社\n経営企画部 マーケティンググル
 ープ マネージャー\n國塚 篤郎\n\n【第2部、第3部】\nエ
 コモット株式会社\n営業本部コンストラクションソリ
 ューション部 札幌営業所 所長\n⾼⻄ 光樹\n主催\n\nエ
 コモット株式会社\nhttps://www.ecomott.co.jp/\n注意事項\n\n\n
 当日は受付にてお名刺を1枚頂戴いたします。\n会場後
 方から撮影したセミナー中のお写真をSNS等で投稿させ
 て頂く場合があります。\n本セミナーでいただいた内
 容は、弊社の個人情報保護方針に基づき適切に管理い
 たします。エコモットの個人情報保護方針については
 プライバシーポリシーをご覧ください。\n
LOCATION:TKPガーデンシティPREMIUM札幌大通　カンファレン
 スルーム6B 〒060-0061 北海道札幌市中央区南1条西1丁目8-
 2(高桑ビル6階)
URL:https://techplay.jp/event/755851?utm_medium=referral&utm_source=ics&utm
 _campaign=ics
END:VEVENT
END:VCALENDAR
