BEGIN:VCALENDAR
VERSION:2.0
PRODID:-//https://techplay.jp//JP
CALSCALE:GREGORIAN
METHOD:PUBLISH
X-WR-CALDESC:プロジェクション先進技術研究会2019 落合陽一
 、渡辺英治など登壇!
X-WR-CALNAME:プロジェクション先進技術研究会2019 落合陽一
 、渡辺英治など登壇!
X-WR-TIMEZONE:Asia/Tokyo
BEGIN:VTIMEZONE
TZID:Asia/Tokyo
BEGIN:STANDARD
DTSTART:19700101T000000
TZOFFSETFROM:+0900
TZOFFSETTO:+0900
TZNAME:JST
END:STANDARD
END:VTIMEZONE
BEGIN:VEVENT
UID:756381@techplay.jp
SUMMARY:プロジェクション先進技術研究会2019 落合陽一、
 渡辺英治など登壇!
DTSTART;TZID=Asia/Tokyo:20191115T100000
DTEND;TZID=Asia/Tokyo:20191115T190000
DTSTAMP:20260421T045713Z
CREATED:20191025T025705Z
DESCRIPTION:イベント詳細はこちら\nhttps://techplay.jp/event/75638
 1?utm_medium=referral&utm_source=ics&utm_campaign=ics\n\nプロジェク
 ション先進技術研究会2019\n－The Future is Now－ AR×AI (人
 工知能)・次世代モビリティ\nプロジェクション/光学技
 術から派生するAR\, AI\, 車載、センサー、Lidar、レーザ
 ー、アート等々、全ての応用技術について、豪華な講
 師陣から発表があります。IDW PRJ はディスプレイに関
 してアジアで最も大きな学会であり、そのワークショ
 ップであるPRJ (Large area display and theirprojection components)の
 分科会として当セミナーを主催して5年目となりました
 。\nIDWにおける発表は英語ですが、当技術研究会は日
 本語でこれら技術について、最新発表が行われる唯一
 の場となっています。関連する企業の展示、デモ、名
 刺交換の場としても唯一のものとなっています。\nプ
 ログラム\n\n\n\n\n発表者\nタイトル\n\n\n\n\n10:05 – 11:50\n1
 00分でわかるAIの構築とAI視覚の実現\n渡辺英治（基礎
 生物学研究所）\n\n\n12:00 - 12:45\n面対称結像光学素子を
 用いたHMDに関する研究： Air Mount Retinal Projector\n落合陽
 一（筑波大学）\n\n\n14:00 – 14:20\n鉄道車両向けヘッド
 アップディスプレイ（HUD） JR東日本様E235系試験報告\n
 大橋 聡、中原 彰太（三菱電機）\n\n\n14:20 – 14:40\n現場
 で使える　現場が変わる！進化したスマートグラス 「
 Versatile （バーサタイル）」\n石場　義久（山本光学）\
 n\n\n14:40 – 15:00\nLIDAR市場の現状と今後 -車載から新規
 用途へ-\n本橋 直樹（テクノ・システム・リサーチ）\n\
 n\n15:50 – 16:20\nARやAIで人間の創造性を高める\n土佐 尚
 子（京都大学）\n\n\n16:20 – 16:50\nTOFセンシング応用人
 動作解析\n渡邊　昭信（日立製作所）\n\n\n16:50 – 17:20\n
 高速画像処理技術が拓く人間調和型情報環境\n石川 正
 俊（東京大学）\n\n\n17:30 – 18:50\nデモ展示・情報交換
 会（無料）\n\n\n\n\n場所\n日本女子大学　桜楓２号館\n
 〒112-0015　文京区目白台1-16-7　桜楓2号館\n交通：     都
 バス「日本女子大学前」徒歩5分\nJR目白駅より徒歩15分
 \n主催\n\nIDW PRJワークショップ/プロジェクション先進
 技術研究会実行委員会\n\n後援\n\n日本光学会レーザー
 ディスプレイ技術研究グループ\nレーザー学会\nレーザ
 ーの自動車応用」専門委員会\n可視光半導体レーザー
 応用コンソーシアム\nオプトロニクス社\n\nデモ展示\n
 丸文，CATEYE， AI視覚（基礎生物学研究所＆宇都宮大学
 ），最新市場調査報告書展示（グローバルインフォメ
 ーション）、Versatile（山本光学）、ディスプレイ業界
 のサプライチェーン全体を対象とした調査レポート、
 サービス紹介（DSCC)\n研究会参加費\n事前申込 9\,000円（
 11月1日午前11時まで申し込み分）、当日10\,000円　\n当
 日現金にてお支払い下さい。領収書を発行致します。
 参加費は税込み金額です。\n参加希望の方はこちらに
 て申込フォームに必要事項を記入の上ご提出下さい。\
 nアクセスに問題がある場合は、氏名・会社名・メール
 アドレス・情報交換会参加有無を明記の上、E-mailにて
 下記までお申込み下さい。\nPRJ研究会実行委員会研究
 会受付担当 idwprj■gmail.com（■を@に変えて下さい）\nお
 問合せ先\nPRJ研究会実行委員会 事務局\nIDW PRJワークシ
 ョップ/プロジェクション先進技術研究会実行委員会（
 PRJ研究会実行委員会）\n代表：　大内 敏（日立製作所
 ）\n実行委員長：　山本　裕紹（宇都宮大学）\n委員：
 　秋元（ソニー）朝倉（nittoh）市橋（パナソニック）
 岩井（大阪大）大原（丸文）川添（東京大）菊池（NHK
 技研）畑中（ウシオ電機）桑田（三菱電機）鹿間（摂
 南大）杉浦（三菱電機）鈴木（JVCケンウッド）高相（
 テレパシージャパン）高山（本田技術研究所）竪（九
 州大）中口（千葉大）林（岡本硝子）藤原（日立製作
 所）山谷（日本精機）倉本（スタンレー電気）倉重（
 大日本印刷）\n顧問：　黒田（宇都宮大）山本（大阪
 大）志村（東京大）小川（日本女子大）
LOCATION:日本女子大 桜楓２号館 文京区目白台1-16-7
URL:https://techplay.jp/event/756381?utm_medium=referral&utm_source=ics&utm
 _campaign=ics
END:VEVENT
END:VCALENDAR
