BEGIN:VCALENDAR
VERSION:2.0
PRODID:-//https://techplay.jp//JP
CALSCALE:GREGORIAN
METHOD:PUBLISH
X-WR-CALDESC:3DCG Meetup #16
X-WR-CALNAME:3DCG Meetup #16
X-WR-TIMEZONE:Asia/Tokyo
BEGIN:VTIMEZONE
TZID:Asia/Tokyo
BEGIN:STANDARD
DTSTART:19700101T000000
TZOFFSETFROM:+0900
TZOFFSETTO:+0900
TZNAME:JST
END:STANDARD
END:VTIMEZONE
BEGIN:VEVENT
UID:756656@techplay.jp
SUMMARY:3DCG Meetup #16
DTSTART;TZID=Asia/Tokyo:20191207T143000
DTEND;TZID=Asia/Tokyo:20191207T210000
DTSTAMP:20260425T223037Z
CREATED:20191027T142638Z
DESCRIPTION:イベント詳細はこちら\nhttps://techplay.jp/event/75665
 6?utm_medium=referral&utm_source=ics&utm_campaign=ics\n\n皆さん、お
 待たせしました！ 3DMU #16の開催です！\n会場はドリコ
 ム様にご提供いただいています！！ アクセスマップ\n
 会場にたどり着けないケースが見受けられるようです
 （内容としては以下の通り）  \n\nアルコタワーアネッ
 クスという別のビルに行ってしまう\nドリコム様のア
 クセスマップを見て別オフィス（山手オフィス）に行
 ってしまう\nエレベーターを乗り間違えてしまう（17階
 に行けない低層階用のやつがあるのでご注意ください
 ）\n雅叙園に行ってしまう（アルコタワーは雅叙園と
 は別の建物です）\n\n東京都目黒区下目黒1丁目8-1　ア
 ルコタワー17F ビルですのでご注意を！\n当日の流れ\n
 イベント参加時に受付票が発行されますので、それを
 会場の入り口にてお見せ下さい。\n後は自由に席に座
 って下さい。(場所には限りがありますのでなるべく相
 席にして頂けると助かります)\n懇親会\n会場にて\n参加
 費\n1500円\n※懇親会無料。来場されるみなさまの分の
 フードとドリンクをご用意致しますのでぜひ最後まで
 ご参加ください！\nプログラム\n\n\n\n時間\n登壇者\nタ
 イトルと詳細\n\n\n\n\n14:30〜15:00\n受付\n\n\n\n15:00〜15:10\n
 会場説明\n\n\n\n15:10〜16:15\nMiyata\nサポート職が教える問
 題解決の方法ソフトウェアを使っていて、やり方がわ
 からないときや問題にぶつかったときの解決方法をサ
 ポートの仕事の経験から紹介します。\n\n\n16:20〜17:25\n
 實方佑介 株式会社ブルームスキーム CTOkimakuri.com\n3DxWeb
 サービスxBlender- Blender x バックエンド（コンテンツ変
 換用マイクロサービス）- サービス用モデリングツー
 ルとしてのBlender（Addonによるフロー簡略化・固定化）-
  フロントエンドでのデータ利用方法（Threejsのあれや
 これやが案外うまく動かなかったときにえいやってす
 る）以上の三本立てで、Webサービスでの3D利用の話を
 させていただこうと思っております！\n\n\n17:25〜17:35\n
 休憩\n\n\n\n17:35〜18:40\nkurosawaブログ\nFake of Real-Time Renderi
 ngUnrealEngineなどのゲームエンジンを使用した映像制作
 が珍しくなくなり、BlenderのEEVEEのようなリアルタイム
 レンダリングの技術を使ったレンダラーも登場してき
 たことで、ますますリアルタイムレンダリングが身近
 なものになりました。なかには単純に高速だからとい
 う理由でリアルタイムレンダリングを採用する例も増
 えていると聞きます。ではなぜリアルタイムレンダリ
 ングは高速なのでしょうか？UE4とBelnderを題材として、
 リアルタイムレンダリングでどういった嘘や簡略化や
 行われているのかを紹介しながら、設定や絵作りのコ
 ツについてお話します。\n\n\n18:45〜19:45\nMINO\nSubstancePain
 terとSubstanceDesignerの連携+α昨今のテクスチャワークフ
 ローにて無くてはならなくなってきたSubstancePainter。単
 体でも非常に強力なツールですがマテリアル素材・ジ
 ェネレーター等不足を感じることも否めません。そこ
 でSubstanceスイートであるSubstanceDesignerを連携させるこ
 とでより効率的で強力なワークフローの構築可能性を
 模索したいと思います。\n\n\n19:55〜20:00\n懇親会準備\n\n
 \n\n20:00〜21:00\n懇親会\n\n\n\n21:00\n会場完全撤収\n\n\n\n\n
 注意事項\n\nネット環境はwi-fiがご利用いただけますが
 、回線の込み具合等により接続が出来ない場合もござ
 います。その場合は各々で持ち寄って下さると助かり
 ます。\nコンセントには限りがありますので可能な方
 は電源タップを持参してシェアして頂けると助かりま
 す。\n会場には床埋め込み式の電源がありますが、Mac
 のACアダプタはささりません。\n登壇者の方以外の方は
 「一般者枠」でご参加下さい。\n動画配信は行ってお
 りません。\n領収書は発行していません。\n\n※上記情
 報は随時更新されて行きます。\n主催・窓口：めんた
 いこ(@kickbase)
LOCATION:株式会社ドリコム アルコタワー17F 東京都目黒区
 下目黒1−8−1
URL:https://techplay.jp/event/756656?utm_medium=referral&utm_source=ics&utm
 _campaign=ics
END:VEVENT
END:VCALENDAR
