BEGIN:VCALENDAR
VERSION:2.0
PRODID:-//https://techplay.jp//JP
CALSCALE:GREGORIAN
METHOD:PUBLISH
X-WR-CALDESC:札幌 Azure もくもく会 16
X-WR-CALNAME:札幌 Azure もくもく会 16
X-WR-TIMEZONE:Asia/Tokyo
BEGIN:VTIMEZONE
TZID:Asia/Tokyo
BEGIN:STANDARD
DTSTART:19700101T000000
TZOFFSETFROM:+0900
TZOFFSETTO:+0900
TZNAME:JST
END:STANDARD
END:VTIMEZONE
BEGIN:VEVENT
UID:757937@techplay.jp
SUMMARY:札幌 Azure もくもく会 16
DTSTART;TZID=Asia/Tokyo:20191123T130000
DTEND;TZID=Asia/Tokyo:20191123T180000
DTSTAMP:20260425T202011Z
CREATED:20191105T061214Z
DESCRIPTION:イベント詳細はこちら\nhttps://techplay.jp/event/75793
 7?utm_medium=referral&utm_source=ics&utm_campaign=ics\n\n札幌 Azure も
 くもく会\n札幌の人を中心として、Microsoft Azure とその
 関連のものを使ってもくもくと作業する会です。\n札
 幌で、Azureをもくもくとする会です。\n札幌在住の方は
 ぜひ現地にお越しください。\n札幌以外の方は、オン
 ラインでの参加もできます。\n（Slackチャンネル）\n何
 が必要？\n 自分のPCとネットワーク環境(WiFi)を用意  し
 てください。\nWiFiがない人は相談してください。\nど
 んな活動？\n会場に集まった人は、自分の好きなよう
 に Azure や Azure で動作するアプリケーションをいじり
 ます。\n困ったときは周りの人に聞いたり、雑談しま
 す。\n得意な分野がある人は、その分野でアドバイス
 や情報共有をします。\n苦手な分野は、得意な分野の
 人に聞いてみます。\nわからないことは、無理に答え
 ずにわからないと答えましょう。\nまた、余裕がある
 ときは一緒に考えて解決していきます。\nAzureをまず触
 ってみたいというかたで、「どこからAzureを学んでい
 けばいいかわからない……」というかたも\nMicrosoftが
 提供する無料のラーニングサイト"Microsoft Learn"を利用
 してもくもくと学習することもOKです。詰まった時は
 周りに声をかけてみてください。\n対象者\nMicrosoft Azure
  を触ってる人、触りたい人、\nなんとなくそこにいた
 い人。\n札幌の人は現地で、札幌以外の人は、オンラ
 インの参加もできます。\nオンライン参加希望のかた
 はconnpassのコメントでご連絡いただくか、当日Twitterの#
 SapporoAzMok2でご連絡ください。\nSkypeの会議室URLをご連
 絡いたします。\nこんな人を歓迎します\n\n触ってみた
 いけどわからない人\n普段触ってる人で共有したいこ
 とがある人\n少しだけでも参加してみたい人\n\n会場の
 様子\n\nオンライン参加の人とも一緒にやってます\n\n
LOCATION:エコモット㈱ 5F 会議室 北海道札幌市中央区北1条
 東2丁目5-2　札幌泉第2ビル 5F
URL:https://techplay.jp/event/757937?utm_medium=referral&utm_source=ics&utm
 _campaign=ics
END:VEVENT
END:VCALENDAR
