BEGIN:VCALENDAR
VERSION:2.0
PRODID:-//https://techplay.jp//JP
CALSCALE:GREGORIAN
METHOD:PUBLISH
X-WR-CALDESC:データサイエンティスト協会 九州支部セミナ
 ー2019 第3回
X-WR-CALNAME:データサイエンティスト協会 九州支部セミナ
 ー2019 第3回
X-WR-TIMEZONE:Asia/Tokyo
BEGIN:VTIMEZONE
TZID:Asia/Tokyo
BEGIN:STANDARD
DTSTART:19700101T000000
TZOFFSETFROM:+0900
TZOFFSETTO:+0900
TZNAME:JST
END:STANDARD
END:VTIMEZONE
BEGIN:VEVENT
UID:758204@techplay.jp
SUMMARY:データサイエンティスト協会 九州支部セミナー201
 9 第3回
DTSTART;TZID=Asia/Tokyo:20191115T150000
DTEND;TZID=Asia/Tokyo:20191115T170000
DTSTAMP:20260420T172001Z
CREATED:20191106T082049Z
DESCRIPTION:イベント詳細はこちら\nhttps://techplay.jp/event/75820
 4?utm_medium=referral&utm_source=ics&utm_campaign=ics\n\n\nデータサ
 イエンティスト協会九州支部セミナー2019 第3回\n概要
 説明\n2019年に九州支部を発足したデータサイエンティ
 スト協会は、2013年に東京で設立し翌年より活動をスタ
 ート。現在に至るまで複数の委員会活動が行われてい
 ます。本セミナーではこれまでの各委員会の活動をご
 紹介すると共に、パネルディスカッション形式でデー
 タサイエンスに関する様々なトピックについて議論し
 ます。これから、データ分析を始められる企業のみな
 さまのご参考になれば幸いです。\n登壇者\n\n\n\n\n\n\n株
 式会社電通デジタルプラットフォームセンター局長補\
 n佐伯 諭氏\n\n1998年早稲田大学大学院理工学研究科修了
 。デジタルマーケティング領域のデータ解析、アドテ
 クノロジー支援などを担当。前職の電通国際情報サー
 ビスではメディア最適化システムやCRMシステムのスク
 ラッチ開発を専門とし、プログラマー&SE歴7年。その後
 、外資系金融で金融アナリストとして従事。2007年より
 現職。データサイエンティスト協会理事。\n\n\n株式会
 社電通データ・テクノロジーセンター オンオフ統合デ
 ータソリューション部長\n眞鍋 尚行氏\n\n事業会社にて
 、顧客データベースを活用した大規模データ解析なら
 びに戦略立案に従事。 その後、金融系シンクタンクに
 て、金融機関向けの経営/マーケティング戦略のコンサ
 ルティング業務を経て、2010年1月に電通に入社。 電通
 入社後、一貫してデータドリブンなマス広告×Web広告
 の統合マーケティングを推進し、R&Dに加え、クライア
 ントに対してソリューションを提供。現在は、DMP開発
 業務に従事。データサイエンティスト協会 企画委員長
 。\n\n\nNOB DATA株式会社代表取締役社長\n大城 信晃氏\n\n
 ヤフー、DATUM STUDIO、LINE Fukuokaを経てNOB DATA株式会社を
 起業。2019年2月にデータサイエンティスト協会九州支
 部を設立。九州を拠点に全国のAI・データ活用推進に
 お悩みの企業に対する支援を行なっている。データサ
 イエンティスト協会 九州支部委員長。\n\n\n株式会社カ
 ホエンタープライズCTO\n宮田 和三郎氏\n\nシステム開発
 会社、外資DBベンダーを経て2015年にホームセンターグ
 ッデイを営む嘉穂無線に入社。社内でのデータ活用を
 リードした後、データ活用事業を専門に設立された株
 式会社カホエンタープライズへ移籍しCTO就任\n\n\n株式
 会社データテクノロジーラボゼネラルマネージャー\n
 竹川 毅氏\n\nメーカーを経て、市場調査会社インテー
 ジに入社。食品・飲料業界の大手メーカーの商品開発
 や売場開発のための消費者調査や購買履歴などのデー
 タ分析に従事。2018年にデータテクノロジーラボに入社
 。事業統括責任者として営業や組織作りをリード。\n\n
 \n\n\nタイムスケジュール\n\n\n\n\n時間\n講演内容\n\n\n14:3
 0 -\n受付\n\n\n15:00 - 16:25\nデータサイエンティスト協会
 の活動について　・協会の概要　・スキル定義委員会
 　・企画委員会　・調査・研究委員会　・コミュニテ
 ィ・ハブ委員会　・学生部　・九州支部\n\n\n16:25 - 17:00
 \n質疑応答・名刺交換など\n\n\n\n\n参加対象\n\n本セミナ
 ーに興味がある方どなたでもご参加いただけます。\n
 ※ データサイエンティスト協会の一般（個人）会員で
 はない方は、参加時に会員登録（無料）をお願いして
 おります。\n\n参加費\n無料\n持ち物\n受付番号（本ペー
 ジにて申し込み完了時に発行されます）※名刺交換を
 される方は、別途名刺をお持ちください。\n注意事項\n
 \n\n受付時に「キャンセル待ち」の方は、入場をお断り
 させていただきます。\n\n\n当日、受付番号を証明でき
 るもの（スマホやタブレットでの画面表示や申し込み
 完了メールを印刷した物）をご持参ください。受付に
 て確認できない場合、入場をお断りさせていただくこ
 ともございます。\n\n\n当日の講演内容・タイムテーブ
 ルは変更となる場合がございます。予めご了承くださ
 い。\n\n\n当日の会場内の様子を撮影した写真・動画な
 どを、本イベント主催の業務（ウェブサイトなどへの
 掲載を含む）に使用する場合がございます。ご了承の
 上、ご参加くださいますようお願いいたします。\n\n\n
 関係者以外の会場内での撮影はご遠慮願います。\n\n\n
 キャンセル処理を行わずにセミナーを欠席された場合
 、今後当協会主催のセミナー／勉強会へのお申し込み
 をお断りさせていただくこともございますので、予め
 ご了承のほどよろしくお願いいたします。\n\nお申し込
 み時にご提供いただいた情報は、一般社団法人データ
 サイエンティスト協会に提供し、イベント参加管理と
 今後のイベント開催等のご案内に利用させていただき
 ます。 上記にご同意のうえお申し込みください。\n\n 
 お願い \nデータサイエンティスト協会の一般（個人）
 会員に未登録の方は、以下より事前登録（無料）くだ
 さい。\nhttp://www.datascientist.or.jp/membership/\n\n主催\n一般
 社団法人データサイエンティスト協会\n\n
LOCATION:NATULUCKアクア博多 会議室B 福岡市博多区中洲5-3-8
URL:https://techplay.jp/event/758204?utm_medium=referral&utm_source=ics&utm
 _campaign=ics
END:VEVENT
END:VCALENDAR
