BEGIN:VCALENDAR
VERSION:2.0
PRODID:-//https://techplay.jp//JP
CALSCALE:GREGORIAN
METHOD:PUBLISH
X-WR-CALDESC:CM re:Growth 2019 SAPPORO
X-WR-CALNAME:CM re:Growth 2019 SAPPORO
X-WR-TIMEZONE:Asia/Tokyo
BEGIN:VTIMEZONE
TZID:Asia/Tokyo
BEGIN:STANDARD
DTSTART:19700101T000000
TZOFFSETFROM:+0900
TZOFFSETTO:+0900
TZNAME:JST
END:STANDARD
END:VTIMEZONE
BEGIN:VEVENT
UID:758679@techplay.jp
SUMMARY:CM re:Growth 2019 SAPPORO
DTSTART;TZID=Asia/Tokyo:20191217T173000
DTEND;TZID=Asia/Tokyo:20191217T214500
DTSTAMP:20260422T225222Z
CREATED:20191108T142218Z
DESCRIPTION:イベント詳細はこちら\nhttps://techplay.jp/event/75867
 9?utm_medium=referral&utm_source=ics&utm_campaign=ics\n\n12/17（火）
 に「CM re:Growth 2019 SAPPORO」を開催！\nCM re:Growthは、12/2（
 月）〜12/6（金）に開催される「AWS re:Invent 2019」の速報
 ・復習・まとめ的なお祭りイベント（※ビアバッシュ
 形式）です。\nラスベガスで開催される最大級のカン
 ファレンスイベント「AWS re:Invent」には、クラスメソッ
 ドからも毎年多数のエンジニアが現地参加しており、
 今年は80名以上で参加します。\n今回も、技術者による
 技術者のための内容でお送りする予定です。みなさま
 お誘い合わせの上、ぜひご参加ください！\nこんな方
 におすすめです\n\n「AWS re:Invent 2019」で発表された情報
 を短時間で把握したい\n「AWS re:Invent 2019」で発表され
 た新サービス/新機能の活用方法を知りたい\n「AWS re:Inv
 ent 2019」についてディープな話を聞きたい\n\nタイムテ
 ーブル\n\n\n\n時間\nセッションタイトル\n登壇者\n\n\n\n\n
 17:15〜17:30\n受付\n\n\n\n17:30〜17:35\nご挨拶、会場説明\n 
 取締役／AWS事業本部 部長 佐々木大輔 \n\n\n17:35〜18:00
 \n25分で理解するAWS re:Invent 2019アップデートまとめ\n 
 取締役／AWS事業本部 部長 佐々木大輔 \n\n\n18:00〜18:25
 \nTBD（サーバーレス系アップデートの話）\n CX事業本
 部 佐藤直哉 \n\n\n18:25〜18:50\nAWS re:Invent 2019のセッショ
 ン\n AWS事業本部 高橋知宏 \n\n\n18:50〜19:00\n休憩\n  \n
 \n\n19:00〜19:25\nAWS re:Invent 2019のセッション\n CX事業本部
  佐々木一洋 \n\n\n19:25〜19:50\nAWS re:Invent 2019のセッショ
 ン\n AWS事業本部 池田晃和 \n\n\n19:50〜20:15\nre:Invent 2019
  Analytics関連アップデート\n DA事業本部 石川覚 \n
 \n\n20:15〜20:25\n休憩\n  \n\n\n20:25〜20:50\nAWS re:Invent 2019の
 セッション\n AWS事業本部 斎藤千佳 \n\n\n20:50〜21:15\nTB
 D（EC2 Image Builderの話）\n AWS事業本部 柴田卓哉 \n\n\n21
 :15〜21:40\nAWS re:Invent 2019のセッション\n CX事業本部 清
 野剛史 \n\n\n21:40〜21:45\n閉会\n  \n\n\n\n※本イベントの
 コンテンツはAWS re:Invent 2019の発表内容によって変わり
 ます。\n開催要項\n日時\n2019年12月17日（火） 17:30～21:45
 （受付開始17:15）\n会場\nさっぽろテレビ塔 2F はまな
 す・あかしあ 2部屋連結\n北海道札幌市中央区大通西1
 丁目\nアクセス\n\n札幌市営地下鉄大通駅（東西線･南
 北線）より徒歩5分\n札幌市営地下鉄大通駅（東豊線）
 より徒歩1分\nJRさっぽろ駅 南口より徒歩15分\n\n※大通
 駅より向かう場合は、27番出口が目印です\n参加費\n無
 料
LOCATION:さっぽろテレビ塔 北海道札幌市中央区大通西1丁
 目さっぽろテレビ塔
URL:https://techplay.jp/event/758679?utm_medium=referral&utm_source=ics&utm
 _campaign=ics
END:VEVENT
END:VCALENDAR
