BEGIN:VCALENDAR
VERSION:2.0
PRODID:-//https://techplay.jp//JP
CALSCALE:GREGORIAN
METHOD:PUBLISH
X-WR-CALDESC:ゆるWeb勉強会@札幌 スペシャル / 探索的テスト
 を学ぼう！ with TEF道
X-WR-CALNAME:ゆるWeb勉強会@札幌 スペシャル / 探索的テスト
 を学ぼう！ with TEF道
X-WR-TIMEZONE:Asia/Tokyo
BEGIN:VTIMEZONE
TZID:Asia/Tokyo
BEGIN:STANDARD
DTSTART:19700101T000000
TZOFFSETFROM:+0900
TZOFFSETTO:+0900
TZNAME:JST
END:STANDARD
END:VTIMEZONE
BEGIN:VEVENT
UID:758683@techplay.jp
SUMMARY:ゆるWeb勉強会@札幌 スペシャル / 探索的テストを
 学ぼう！ with TEF道
DTSTART;TZID=Asia/Tokyo:20191218T190000
DTEND;TZID=Asia/Tokyo:20191218T213000
DTSTAMP:20260422T055746Z
CREATED:20191108T142233Z
DESCRIPTION:イベント詳細はこちら\nhttps://techplay.jp/event/75868
 3?utm_medium=referral&utm_source=ics&utm_campaign=ics\n\nお知らせ\n
 好評につき、本イベントの再演を決定いたしました!\n
 詳細はこちらをごらんください。\nhttps://mild-web-sap.connp
 ass.com/event/157594/\n\n※多くの方にご参加いただくため、
 本イベントの参加者の再演のご参加はお断りする場合
 がございます。\n　ご了承ください。\n\n2019/12/02 追記\n
 \n19時以降は正面玄関が閉まっている場合がございます
 。\n裏口より出入りになるためスタッフまで連絡して
 ください。\n\n連絡先:\n　参加者の方へ、別途メールで
 ご連絡します。\nゆるWeb勉強会@札幌\n主に「Web」とい
 うキーワードに関する、ゆるい勉強会です。\nプログ
 ラムを始めたばかりの人も、仕事でバリバリやってい
 る人も、どなたでも歓迎です！\n「勉強し初めて、次
 に何をやればいいんだろう？」\n「普段使っていない
 言語やフレームワーク、知っている人に導入部分を聞
 いてみたい。」\n「いつもはバックエンドだけど、た
 まに触るフロントエンドの話も知りたい。」\n「実際
 、みんな現場ではどうやって開発してるの？」\n仕事
 ・趣味を問わず、普段の仕事の内容も問わず、「Web系
 」に関することを、ゆるっとみんなで話してみたいで
 す。\n何より、私が聞いてみたい！\n※いつもと会場が
 異なります！\n今回のテーマ: 探索的テスト\n今回は、
 テスト系コミュニティ「TEF道」さんとのコラボレーシ
 ョンです！\nWebアプリケーションがバグで動かなくな
 って、ソッと閉じた経験はありませんか？\nせっかく
 アプリケーションを作ってもバグが多いと使ってもら
 えません。\nテストやらないといけないんだけど、や
 っぱり面倒で。。。その気持ちわかります！！\nソフ
 トウェアのテストのスタイルの一つに探索的テストと
 いうのがあります。\n探索的テストは軽量という特徴
 があり、アジャイル開発でも多く用いられています。\
 n本セッションはまだ探索的テストに慣れていない人の
 ための探索的テスト講座です。\n探索的テストってど
 ういうもの？どういう風にバグを見つけていけばいい
 んだろう？\n @nemorine と @MAQ69 が自身の経験を交えなが
 らお伝えします。\nもちろん座学だけではありません
 。Webアプリを使って実際にガチで探索的テストをやっ
 てみます。\n実施時の仮説～検証の思考の流れや、狙
 いどころなども併せてデモを交えつつ解説します。\n
 開催日時\n2019年12月18日 (水)\n18:45 - 21:30\n※時間につい
 ては多少前後する可能性があります。\nプログラム\n\n\
 n\n時間\n内容\n時間\n\n\n\n\n18:45\n開場・受付 (株式会社
 メンバーズエッジ 札幌オフィス)\n-\n\n\n19:00\n開始の挨
 拶\n5分\n\n\n19:05\nみんなで一言自己紹介\n10分\n\n\n19:15\n
 探索的テストを学ぶ\n120分〜150分\n\n\n21:30\n閉会の挨拶
 ・撤収\n-\n\n\n\n事前にご準備いただくもの\n今回は PC必
 須 となります。各自ご持参ください。\n今回のお題の
 『かんばんりすと』のURL\nhttp://kanbanlistfortohokutest.herokua
 pp.com/\nみんなで質問をしよう！\nこの勉強会では、「
 みんなでわいわい」することを大切にしたいと考えて
 います。\n発表の途中でも、気になったことを気軽に
 質問したり、周りの方達も知っていることをフォロー
 したり、\nゆるくやりとりをしていきたいです。\n質問
 は気軽に、答えはやさしく、みんなで暖かい空気を作
 っていきましょう！\nhttps://speakerdeck.com/tacck/yuruwebmian-qi
 ang-hui-at-zha-huang-number-1?slide=10\n* 初めに質問をする人は
 偉い！\n    * 他の人も質問しやすくなる\n* 素朴な質問
 をする人は偉い！\n    * 質問のハードルを下げる\n* 関
 係ない質問をする人は偉い！\n    * 話が広がる\n\n\n\n会
 場\n株式会社メンバーズエッジ 札幌オフィス\n〒064-0810
  北海道札幌市中央区南十条西1-1-65 11.CONCEPT SEPRAREビル 5
 階BC号室\n※1Fアパレル店舗内を通り、中央エレベータ
 より5Fへお越しください\n※いつもと会場が異なります
 ！\n参加費\n無料\nその他\n\n内容は一部変更になる場合
 があります。\n参加できなくなった場合は、お早めに
 キャンセルをお願いいたします。\n\n更新情報\n\n2019/12/
 02\nお知らせの追記\n\n\n2019/11/27\n再演のお知らせ\n\n\n201
 9/11/08\nイベントページ公開\n\n\n
LOCATION:株式会社メンバーズエッジ 札幌オフィス 〒064-081
 0 北海道札幌市中央区南１０条西１丁目１−６５
URL:https://techplay.jp/event/758683?utm_medium=referral&utm_source=ics&utm
 _campaign=ics
END:VEVENT
END:VCALENDAR
