BEGIN:VCALENDAR
VERSION:2.0
PRODID:-//https://techplay.jp//JP
CALSCALE:GREGORIAN
METHOD:PUBLISH
X-WR-CALDESC:SwiftUIの文法　その1
X-WR-CALNAME:SwiftUIの文法　その1
X-WR-TIMEZONE:Asia/Tokyo
BEGIN:VTIMEZONE
TZID:Asia/Tokyo
BEGIN:STANDARD
DTSTART:19700101T000000
TZOFFSETFROM:+0900
TZOFFSETTO:+0900
TZNAME:JST
END:STANDARD
END:VTIMEZONE
BEGIN:VEVENT
UID:758867@techplay.jp
SUMMARY:SwiftUIの文法　その1
DTSTART;TZID=Asia/Tokyo:20191123T184000
DTEND;TZID=Asia/Tokyo:20191123T194000
DTSTAMP:20260424T063757Z
CREATED:20191110T141226Z
DESCRIPTION:イベント詳細はこちら\nhttps://techplay.jp/event/75886
 7?utm_medium=referral&utm_source=ics&utm_campaign=ics\n\nこのセミナ
 ーはiOSアプリ作り初学者をアシストします。\nSwiftUIが
 発表されましたが、WWDCビデオとチュートリアルですん
 なり理解できましたか？\nこのセミナーではじっくり
 じっくりSwiftUIに取り組みます。\nまずはSwiftUIのViewに
 ついてです。\n数行のコードでビュー階層を作ること
 ができるヒミツを解き明かします。\n\niPadのSwift Playgrou
 nds 3.1 と Xcode 11.2.1（または11.2）で実行可能なサンプル
 コードを配布します。\nmacOS 10.14.4以降であればサンプ
 ルを実行し確認することができます。\nスライドPDFを
 配布しますので、会社への報告資料にもお役立てくだ
 さい。\n\n★会場は4階です\n\n開発者が講師となって直
 接レクチャーする少人数セミナーです。（参加者はそ
 の場でXcodeを操作し動作を確認します）\niPad の Swift Pla
 ygrounds 3.1 でも確認できます。\nXcode 11.2.1（または11.2）
  をインストール済みのMacがあれば参加できます。（mac
 OS 10.14.4以降）\n\n\n\nセミナー受講者のためのfacebook非
 公開グループを作成しました。情報交換などにご活用
 ください。\n\n\n毎月一回違ったテーマで開催します。1
 時間のセミナーで毎回完結です。\n次回12月14日の高橋
 担当は（仮）iOSアプリを作ろう2020、（仮）SwiftUIの文
 法その2　を予定しています。\n\nSwiftUIの文法　その1\n
 開催日時\n2019年11月23日（土曜）18:40から[1時間]（受付1
 8:30から）\n会場\nさっぽろ創世スクエア\n　札幌市民交
 流プラザ 4階 控室406 \n060-0001\n　北海道札幌市中央区北
 １条西１丁目 5\n最寄駅：札幌市営地下鉄東西線、南北
 線、東豊線「大通」駅\n※地下鉄大通駅地下通路直結
 （下車後会場までは20分程度かかります）\n地下街から
 の道順\n会場4階案内図\n参加費\n\n1名様1\,000円（税込）
 　会場でお支払いください\n学生割：実質半額、フル
 割：全て参加で1000円割引　あり\n\n募集人数\n\n15名\n事
 前登録制ですが、空きがある場合は、当日参加も可能
 です。\n（当日参加の場合もこのページから登録し満
 席でないことをご確認お願いします）\nセミナー受講
 者のためのfacebook非公開グループ参加には登録が必要
 です\n\n内容\nSwiftUIの文法　その1\n［初級レベル（一部
 中級の内容を含む）］（Swift言語の基礎知識は必要で
 す）\n最もシンプルなビュー配置コードを調べ、SwiftUI
 が従来のSwift文法で書かれていることを確認します。\n
 \n宣言型シンタックスについて\nView とは何か\nText 型と
 書体や色の指定\nVStack 型 \nイニシャライザを確認する\
 nなど\n\n対象\n\nMacをお使いの方\n中学生以上が対象で
 す\niOS用アプリ開発に興味のある方\nWWDCスカラーシッ
 プ参加を目指す方\n\n必要なもの\n\nXcode 11.2.1（または11
 .2）をインストールしたMac\nXcode 11.2.1のインストールは
 済ませてごご参加ください\n【Xcodeをインストールし一
 度は起動してください】\nXcodeのインストールには時間
 がかかります。当日会場ではインストールはできませ
 ん。\n\n講師について\n\n講師は「Swift5初級ガイド」の
 著者でiOSアプリ「neo文庫」などの作者です。\nSwift5初
 級ガイドは上記リンクのAppleのBook Storeより無料サンプ
 ルをダウンロードできます。\n\n\n\n\n開催当日、同じ会
 場で5つのセッションを行います。\n\n【ICT・アクセシ
 ビリティについて】13:20〜14:20 \n--- 事例紹介・プレゼ
 ンテーション --- \nhttps://sapporoswift.connpass.com/event/155218/ 
  \n\n【大人の？IoTプログラミング】14:40〜15:40 \n--- micro:
 bitを体験 --- \nhttps://sapporoswift.connpass.com/event/155216/  \n\n
 【PencilKit入門】16:00〜17:00 \n--- iPadOS最新フレームワー
 クを試す --- \nhttps://sapporoswift.connpass.com/event/155214/ \n\n
 【SwiftUI最初の一歩】17:20〜18:20\n--- まったく新しい環
 境を知ろう --- \nhttps://sapporoswift.connpass.com/event/153243/  \n
 \n【SwiftUIの文法　その1】18:40〜19:40 \n--- SwiftUIだってSwi
 ftだ --- \n このセッション \n\nフル割（一般）\n第一セ
 ッションは無料でご参加いただけます。二番目以降の
 セッションは有料（1\,000円）です。二番目以降4つすべ
 てのセッションにお申し込みの場合、1\,000円×4セッシ
 ョン=4\,000円を、合計でフル割：3\,000円になります。会
 場でお支払い時にお申し出ください。\n参加登録はセ
 ッション毎に必要です。\n学生割引\n「第四セッション
 」と「第五セッション」両方参加で計1\,000円に割引で
 す。\n学生の方は、「第二・第三・第四・第五」すべ
 て受講の場合、2\,000円になります。\n会場で受付時に
 自己申告してください。\n参加登録はセッション毎に
 必要です。\nFacebookグループ\nセミナー受講者のためのf
 acebook非公開グループを作りました。\n情報交換などに
 ご活用ください。\nご希望の方は、札幌Swiftに「いいね
 」をし、参加者であることをメッセージお知らせくだ
 さい。\n（facebookの仕様上、いいねをしていただけると
 、登録がスムーズに行えます。） \n\n\n質問、問い合わ
 せは『イベントへの問い合わせはこちらをご利用くだ
 さい』からリンクしている「イベント管理者への問い
 合わせ」からお願いします。\nみなさまのご参加をお
 待ちしています。
LOCATION:さっぽろ創世スクエア 北海道札幌市中央区北１
 条西１丁目 5　札幌市民交流プラザ
URL:https://techplay.jp/event/758867?utm_medium=referral&utm_source=ics&utm
 _campaign=ics
END:VEVENT
END:VCALENDAR
