BEGIN:VCALENDAR
VERSION:2.0
PRODID:-//https://techplay.jp//JP
CALSCALE:GREGORIAN
METHOD:PUBLISH
X-WR-CALDESC:Linux コツコツ勉強会6
X-WR-CALNAME:Linux コツコツ勉強会6
X-WR-TIMEZONE:Asia/Tokyo
BEGIN:VTIMEZONE
TZID:Asia/Tokyo
BEGIN:STANDARD
DTSTART:19700101T000000
TZOFFSETFROM:+0900
TZOFFSETTO:+0900
TZNAME:JST
END:STANDARD
END:VTIMEZONE
BEGIN:VEVENT
UID:759050@techplay.jp
SUMMARY:Linux コツコツ勉強会6
DTSTART;TZID=Asia/Tokyo:20191118T190000
DTEND;TZID=Asia/Tokyo:20191118T210000
DTSTAMP:20260425T103900Z
CREATED:20191111T141720Z
DESCRIPTION:イベント詳細はこちら\nhttps://techplay.jp/event/75905
 0?utm_medium=referral&utm_source=ics&utm_campaign=ics\n\n世界で最も
 普及している、オープンソースのオペレーティングシ
 ステム（OS）。いわゆるUNIX系OSの一種で、プログラム
 が公開されており誰でも自由に入手や使用、改変、再
 配布することができる。\nほとんどのLinuxディストリビ
 ューションは、何十ものプログラミング言語をサポー
 トしている。Linuxアプリケーションおよびオペレーテ
 ィングシステムを開発するのに使われているツール群
 の多くはGNUツールチェーンというものの中にみられる
 。これには、GNUコンパイラコレクション (GCC) や GNU buil
 d system が含まれている。GCCは、C言語、C、Ada、Java、Fort
 ranのコンパイラを提供している。今後GCCを置きかえる
 可能性がある候補として、2003年に初公開されたLLVMプ
 ロジェクトがある。LLVMプロジェクトは、LLVM基盤のひ
 とつの利用例として、C言語/C/Objective-Cに対応した近代
 的なオープンソースコンパイラであるClangを提供して
 いる。プロプライエタリなLinux用コンパイラとしては
 、Intel C Compiler、Sun Studio、IBM XL C/C Compilerなどがある。\
 nほとんどのディストリビューションは、Perl、Python、Ru
 by、PHPといった動的プログラミング言語もサポートし
 ている。また、C# (Mono) 、Vala、Schemeといった言語もサ
 ポートしている。各種のJava仮想マシンやJava開発キッ
 トもLinuxで動作する。これにはオリジナルのJVM、IBMのJ2
 SE RE、その他のオープンソース実装が含まれる。\nGNOME
 やKDEは良く知られたデスクトップ環境であり、アプリ
 ケーション開発のためのフレームワークを提供してい
 る。この2つのプロジェクトはそれぞれGObject/GTK+とQtに
 基づいており、両者ともC言語/C++だけでなく、様々な
 言語用のバインディングが提供されている。\nLinuxでは
 、いくつもの統合開発環境 (IDE) も利用することができ
 、例えば、Anjuta、Eclipse、Geany、ActiveState Komodo、KDevelop
 、Lazarus、MonoDevelop、NetBeans、Qt Creator、Omni Studioなどが
 ある。しかしながら、IDEを使わずに、テキストエディ
 タやその他の個別のツールを組み合わせて開発を行う
 者も多い[49]。\nこれを使いこなして、色々な機器を使
 いこなそう。\n今回は、得意の言語を初心者向けに講
 習することになりました。
LOCATION:インタークロス・クリエイティブ・センター 〒00
 3-0005 札幌市白石区東札幌5条1丁目1-1
URL:https://techplay.jp/event/759050?utm_medium=referral&utm_source=ics&utm
 _campaign=ics
END:VEVENT
END:VCALENDAR
