BEGIN:VCALENDAR
VERSION:2.0
PRODID:-//https://techplay.jp//JP
CALSCALE:GREGORIAN
METHOD:PUBLISH
X-WR-CALDESC:【ワークショップ】オウンドメディアで成果
 がでないあなたにWEBマーケのプロが直伝！戦略的オウ
 ンドメディアの運営方法
X-WR-CALNAME:【ワークショップ】オウンドメディアで成果
 がでないあなたにWEBマーケのプロが直伝！戦略的オウ
 ンドメディアの運営方法
X-WR-TIMEZONE:Asia/Tokyo
BEGIN:VTIMEZONE
TZID:Asia/Tokyo
BEGIN:STANDARD
DTSTART:19700101T000000
TZOFFSETFROM:+0900
TZOFFSETTO:+0900
TZNAME:JST
END:STANDARD
END:VTIMEZONE
BEGIN:VEVENT
UID:759477@techplay.jp
SUMMARY:【ワークショップ】オウンドメディアで成果がで
 ないあなたにWEBマーケのプロが直伝！戦略的オウンド
 メディアの運営方法
DTSTART;TZID=Asia/Tokyo:20191128T160000
DTEND;TZID=Asia/Tokyo:20191128T190000
DTSTAMP:20260423T193349Z
CREATED:20191114T103101Z
DESCRIPTION:イベント詳細はこちら\nhttps://techplay.jp/event/75947
 7?utm_medium=referral&utm_source=ics&utm_campaign=ics\n\n【ワークシ
 ョップ】オウンドメディアで成果がでないあなたにWEB
 マーケのプロが直伝！戦略的オウンドメディアの運営
 方法\n概要\nあなたが運営するオウンドメディアは成果
 が出ていますか？\n「頑張って多くのコンテンツを公
 開してもPVが増えない」「PVが増えても売り上げや問い
 合わせなどの成果に繋がっていない。」そんな悩みを
 抱えている方は多いのではないでしょうか？\nオウン
 ドメディアを成功させるためには、押さえなければな
 らないポイントがあります。それらは、KPIの設定方法
 や、SEO、UI・UXなど多岐に渡るためほとんどの場合、社
 内だけでは十分な知見が得られません。\nこのワーク
 ショップでは業界で数々の実績を残してきたWEBマーケ
 ティングのプロが、オウンドメディアを運営している
 方、これからメディアを立ち上げようとしている方に
 向けてオウンドメディアを成功させるポイントをレク
 チャーし、ご自身のサイトでそれが出来ているかを実
 際にチェックしていただくワークショップです。\nオ
 ウンドメディアの基本的なことを学べるワークショッ
 プなのでWEBマーケティングやWEBメディア初心者におす
 すめです。※上級者の方には物足りない可能性があり
 ますのでご了承ください\n\n※オウンドメディアの中で
 も記事コンテンツを中心としたメディアが対象のワー
 クショップになります。\nタイムスケジュール\n\n\n\n時
 間\n内容\n\n\n15:30〜\n受付開始\n\n\n16:00〜16:10\nオープニ
 ング\n\n\n16:10~17:30\n【ワークショップ】オウンドメディ
 アで成果がでないあなたにWEBマーケのプロが直伝！戦
 略的オウンドメディアの運営方法\n\n\n17:30~17:50\nまとめ
 \n\n\n17:50〜18:00\nアンケート回答\n\n\n18:00〜19:00\n懇親会
 　※お酒と軽食をご用意させていただきます\n\n\n\n※ 
 当日予告なく時間配分・内容が変更になる可能性がご
 ざいます。\n登壇者\n\n坪 昌史\n株式会社ヒトノテ　代
 表取締役\n2008年　株式会社サイバーエージェントにてS
 EO R&D機関の立ち上げ\n2010年　株式会社リクルートにて
 全社SEO技術責任者\n2015年　株式会社クラウドワークス
 　プラットフォーム事業部 事業部長\n2017年　株式会社
 ヒトノテ 創業\n \n\n山中 思温\n株式会社まーけっち　
 代表取締役　\n\nマーケティング会社にて、最年少で事
 業部長。立ち上げたアプリにて、若年層リサーチユー
 ザの国内No.１を達成。既存のリサーチ・コンサルサー
 ビスに課題を感じ、会社を設立。ベンチャーから大手
 企業・政府まで幅広く、マーケティング・戦略の支援
 を行う。\n共催\n\n株式会社まーけっち\n最大規模リサ
 ーチユーザー×テクノロジー　で解決\n◆リサーチシス
 テム/800万人の業界最大規模ユーザーネットワーク\nド
 コモプレミアムモニター・ECナビなど、10万件以上の大
 規模会員を有する複数のマーケティング系webサイト・
 アプリ・携帯キャリアのモニター等との連携により、
 特定サイトや特定広告からの募集に偏らない大規模プ
 ロモーションリサーチが可能です。\n \n参加対象\n・オ
 ウンドメディアを立ち上げ予定の法人の方\n・オウン
 ドメディアを運営中の法人の方\n・WEB施策の立案者、
 責任者、担当者\n・デジタルマーケティングに注力し
 たいと考える営業責任者\n\n※ リクルーティング、勧
 誘など、採用目的でのイベント参加はお断りしており
 ます。 \n※ 飲食のみを目的としたご応募・ご来場はご
 遠慮ください。\n\n\n※ 広告代理店の方のご参加もお断
 りしております。\n\n※ 同業他社のご参加はお断りし
 ています。あらかじめご了承ください。\n持ち物\n名刺
 \nPC（ご自身のサイトをご確認できる端末をお持ちくだ
 さい）\n参加費\n無料\nハッシュタグ\n#初心者　#デジタ
 ルマーケティング　#WEBマーケティング　#ワークショ
 ップ　#GoogleAnalytics　#SEO\n注意事項\n※ 参加を辞退する
 場合は、詳細ページより申込のキャンセルをお願い致
 します。※ 無断キャンセル・欠席が続く場合、次回以
 降の参加をお断りさせていただく場合がございますの
 でご了承ください。\n 
LOCATION:株式会社まーけっち　オフィス 東京都千代田区
 麹町3丁目3-6 麹町フロントビル 10F
URL:https://techplay.jp/event/759477?utm_medium=referral&utm_source=ics&utm
 _campaign=ics
END:VEVENT
END:VCALENDAR
