BEGIN:VCALENDAR
VERSION:2.0
PRODID:-//https://techplay.jp//JP
CALSCALE:GREGORIAN
METHOD:PUBLISH
X-WR-CALDESC:CXO Night #7 デザイン会社経営のリアル
X-WR-CALNAME:CXO Night #7 デザイン会社経営のリアル
X-WR-TIMEZONE:Asia/Tokyo
BEGIN:VTIMEZONE
TZID:Asia/Tokyo
BEGIN:STANDARD
DTSTART:19700101T000000
TZOFFSETFROM:+0900
TZOFFSETTO:+0900
TZNAME:JST
END:STANDARD
END:VTIMEZONE
BEGIN:VEVENT
UID:760579@techplay.jp
SUMMARY:CXO Night #7 デザイン会社経営のリアル
DTSTART;TZID=Asia/Tokyo:20191204T190000
DTEND;TZID=Asia/Tokyo:20191204T220000
DTSTAMP:20260420T145532Z
CREATED:20191122T055323Z
DESCRIPTION:イベント詳細はこちら\nhttps://techplay.jp/event/76057
 9?utm_medium=referral&utm_source=ics&utm_campaign=ics\n\nデザイン会
 社経営のリアル - CXO Night #7\n\nCXO Night について\nスター
 トアップにおけるデザイナーの重要度はどんどん高ま
 っています。\nCXO Nightはデザイナーを集めて、実践か
 ら課題や実用的なノウハウを共有するコミュニティに
 していきたいと思います。\n    今回はデザイン・クリ
 エイティブ会社を経営する方々に登壇いただき、この1
 0年でのクリエイティブ業界の変化、デザイン・クリエ
 イティブ会社を経営する難しさ、そしてこれからの成
 長戦略などをパネル形式で語っていただきます。\n\nCXO
  Night 開催の背景\n\n    CTO文化同様に、経営に関わるデ
 ザイナーを増やして健全な開発文化を啓蒙したい。\n  
   スタートアップに挑戦するデザイナーを増やしたい
 。\n    スタートアップのデザイナー同士で悩み相談を
 したい。\n    若手デザイナーのロールモデル探しとし
 て。\n\n\nこんな方におすすめです\n\n    スタートアッ
 プで働くデザイナー\n    スタートアップで働くことに
 興味関心のあるデザイナー\n    既にCCO / CXO / CDOの人\n  
   デザイナーの経営者候補をスカウトしたいスタート
 アップ経営者\n\n\n過去のイベントレポート\n\n    CXOが
 組織に与える影響ースタートアップにCXOが必要な理由\
 n    デザインを越境せよ CXO Night #3レポート【パネルデ
 ィスカッションシニア編】\n    CXO night 「delyがCXOを起
 用した理由」\n    日本を代表するCXOが語る「CXOのリア
 ル」——デザイナーだけでなく、経営陣として、事業
 者としての視点を\n\n\n登壇者\n\n    \n        \n        \n    
         株式会社カラス代表 / エードット取締役副社長\n
             牧野 圭太\n                 @MAKINO1121\n            \n  
           2009年博報堂入社(2015年退職)株式会社カラス代
 表/エードット取締役副社長。#ブランドジャーナリズ
 ムという「ブランドと社会を結びつける」クリエイテ
 ィブ・コミュニケーションを標榜し、啓蒙している。
 「広告がなくなる日」を執筆中(2月発売予定)。ときた
 ま文鳥文庫の店長。\n        \n    \n    \n        \n        \n  
           株式会社CINRA 代表取締役\n            杉浦 太一\n 
                 @ta1\n            \n            1982年東京生まれ。
 2003年大学在学時にCINRAを立ち上げ、2006年に株式会社に
 。アートや音楽などのカルチャーメディア『CINRA.NET』
 などのオンラインメディアを数多く運営する傍ら、経
 済産業省、観光庁、福岡市、資生堂、森ビルなどブラ
 ンディングやデジタルマーケティングに従事。創業か
 ら15年、高校時からの夢である教育事業を始めるべく
 準備中。\n        \n    \n    \n        \n        \n            BIRDM
 AN代表／Creative Director\n            築地 ロイ 良\n            
      @roy_BIRDMAN\n            \n            Sydney出身。Installing Cr
 azy Ideas Everywhereというミッションを掲げ、少しでも社
 会や世界を面白くしていきたいと思っている。最近で
 はメーカー企業やスタートアップとコラボレーション
 し、新たなプロダクトやサービス、体験や価値を生み
 出すコンサルティングも行っている。国内外にて400を
 超えるアワードを受賞。\n        \n    \n    \n        \n      
   \n            株式会社グッドパッチ 代表取締役CEO\n      
       土屋 尚史\n                 @tsuchinao83\n            \n       
      2011年9月に株式会社グッドパッチを設立。UI/UXデザ
 インを強みにしたプロダクト開発でスタートアップか
 ら大手企業まで数々の企業を支援。2018年にデザイナー
 のキャリア支援サービス「ReDesigner」を発表し、デザイ
 ナーの価値向上を目指す。\n        \n    \n    \n        \n   
      \n            dely株式会社 執行役員 CXO / Basecamp CEO\n    
         坪田 朋\n                 @tsubotax\n            \n           
  livedoor、DeNAなどで多くの新規事業立ち上げやUIUXデザ
 イン領域を専門とするデザイン組織の立ち上げを手掛
 ける。デザインファーム「Basecamp」を立ち上げてスタ
 ートアップの事業創出を支援。2019年7月からdely株式会
 社のCXOに就任。\n        \n    \n\n\nタイムスケジュール\n\
 n    \n        \n            時間\n            内容\n        \n    \n
     \n        \n            19:00\n            受付スタート\n      
   \n        \n            19:15〜19:20\n            OPENING\n        \n 
        \n            19:20〜20:10\n            \n                これ
 からの時代のデザイン・クリエイティブ会社の成長戦
 略\n                ・牧野 圭太 / 株式会社カラス代表 エ
 ードット取締役副社長\n                    ・杉浦 太一 / 
 株式会社CINRA代表取締役\n                    ・築地 ロイ 
 良 / BIRDMAN代表 / Creative Director\n                    ・モデレ
 ート：土屋 尚史 / 株式会社グッドパッチ 代表\n         
    \n        \n        \n            20:10〜20:20\n            \n       
          休憩\n            \n        \n        \n            20:20〜21
 :00\n            \n                未来のデザイン会社の姿\n   
              ・土屋 尚史 / 株式会社グッドパッチ 代表\n  
                   ・坪田 朋 / Basecamp CEO\n            \n        \n 
        \n            \n                21:00〜22:00\n            \n     
            懇親会\n                ご飯を食べたり、仲良く
 なったりする時間です。\n            \n        \n    \n\n※ 
 プログラムは変更となる場合がございますのでご了承
 ください\n\n参加対象\n本イベントに興味がある方\n\nTwi
 tterハッシュタグ\n#cxonight\n\n会場提供\nTECH PLAY SHIBUYA\n
LOCATION:TECH PLAY SHIBUYA 東京都渋谷区宇田川町20-17 NMF渋谷公
 園通りビル 8F
URL:https://techplay.jp/event/760579?utm_medium=referral&utm_source=ics&utm
 _campaign=ics
END:VEVENT
END:VCALENDAR
