BEGIN:VCALENDAR
VERSION:2.0
PRODID:-//https://techplay.jp//JP
CALSCALE:GREGORIAN
METHOD:PUBLISH
X-WR-CALDESC:【デザインシンキング体験講座】 グローバル
 テックベンダーSAP流 - ビジネスを成長させる思考フレ
 ームワーク勉強会の「きほんのキ」 -
X-WR-CALNAME:【デザインシンキング体験講座】 グローバル
 テックベンダーSAP流 - ビジネスを成長させる思考フレ
 ームワーク勉強会の「きほんのキ」 -
X-WR-TIMEZONE:Asia/Tokyo
BEGIN:VTIMEZONE
TZID:Asia/Tokyo
BEGIN:STANDARD
DTSTART:19700101T000000
TZOFFSETFROM:+0900
TZOFFSETTO:+0900
TZNAME:JST
END:STANDARD
END:VTIMEZONE
BEGIN:VEVENT
UID:761542@techplay.jp
SUMMARY:【デザインシンキング体験講座】 グローバルテッ
 クベンダーSAP流 - ビジネスを成長させる思考フレーム
 ワーク勉強会の「きほんのキ」 -
DTSTART;TZID=Asia/Tokyo:20200208T100000
DTEND;TZID=Asia/Tokyo:20200209T180000
DTSTAMP:20260420T210040Z
CREATED:20191129T022202Z
DESCRIPTION:イベント詳細はこちら\nhttps://techplay.jp/event/76154
 2?utm_medium=referral&utm_source=ics&utm_campaign=ics\n\n【デザイン
 シンキング体験講座】 -グローバルテックベンダーSAP
 流  ビジネスを成長させる思考フレームワーク勉強会
 の「きほんのキ」 -\n\nデザインシンキング、デザイン
 思考という言葉を聞いたことがありますか？デザイン
 と聞くとアートやファッションなどのイメージを持つ
 方も多いかもしれませんが、近年ビジネスの世界で熱
 い注目を浴びているのがこのデザインシンキングです
 。SAPはこれを全社的にいち早く取り入れた世界的企業
 として知られており、創業者のハッソ・プラットナー
 はデザイン・シンキングを提唱したIDEOとともに米スタ
 ンフォード大学内にd.schoolを設置し（今やデザインシ
 ンキングの聖地となっています）、SAPのソフトウェア
 開発やビジネスにも活用しています。\n\nデザインシン
 キングを初めて知って興味が湧いたという方、デザイ
 ンシンキングを耳にする機会はあったけれど、体験す
 る機会はなかなか持てなかったという方、この機会に
 奮ってご参加ください。\n\n【SAP（エスエーピー）とは
 ？】\nドイツに本社を置く世界第4位のソフトウェア企
 業です。エンタープライズ・アプリケーション・ソフ
 トウェアにおけるマーケットリーダーとしてあらゆる
 業種・規模の企業を支援しており、企業が継続的な収
 益性の高い事業を実現することに貢献するSAPのアプリ
 ケーションやサービスは、世界中で約43万7000社に導入
 されています。SAPはデザインシンキングを活用し、2010
 年から5年間で売上を2倍以上という急成長を遂げ今な
 お成長し続け、企業のイノベーション創出を支援して
 います。\n\n※同じ内容を2日間で開催します。お申し
 込み時に、参加を希望される日程の参加枠を選択くだ
 さい！\n\nタイムテーブル（※同じ内容を2日間で開催
 いたします）\n\n\n\n時間\n内容\n\n\n\n\n09:30-10:00\n受付開
 始\n\n\n10:00-10:10\nオープニング\n\n\n10:10-11:30\n\nデザイン
 シンキングって？\n\n\n\n11:30-12:30\nお昼休憩（お弁当と
 お茶をご用意します）\n\n\n12:30-16:00\n\nデザインシンキ
 ングワークショップ体験　・ペルソナへ共感　・アイ
 ディア創出　・チーム毎に発表※適宜休憩を挟みます
 。\n\n\n\n16:00-17:00\nクロージング＆ネットワーキング\n\n
 \n\n※ 当日予告なく時間配分、内容が変更になる可能
 性がございます。\n\n会場\nenspace 〒980-0803 宮城県仙台
 市青葉区国分町1-4-9\n\n参加対象\n　・デザインシンキ
 ングを初めて知って興味が湧いたという方　・デザイ
 ンシンキングを耳にする機会はあったけれど、ワーク
 ショップ未経験の方\n\nデザインシンキングの概要紹介
 及び、シンプルなワークショップの体験を通じて、“
 きほんのキ” を学んでいただく講座となっております
 ！\n\n持ち物\n　・特にありません　　・リラックスで
 きる、カジュアルな格好で是非ご参加ください\n\n参加
 費\n無料\n\n講師紹介\n\n\n\n\n吉越 輝信\nSAP Japan　エヴァ
 ンジェリスト & コミュニティマネージャーBusiness Innovat
 ors Network\nIT業界27年目、オープン系、Java、RIA、セキュ
 リティ、B2C、エンタープライズなど多岐に渡り、日系
 ・外資系で営業やビジネスデベロップメントを担当。S
 APは13年目。SAP on Cloud、スタートアップやアントレプレ
 ナーの方々とのコラボレーション、福井県鯖江市や沖
 縄県沖縄市をはじめとする地域の方々とのシビックテ
 ック、スポーツ x SAPなど、Next Innovationのデベロップメ
 ントを行なっております。Facebookカレー部部長。 入部
 お待ちしております！\n\n\n\n\nデザインシンキングサポ
 ートパートナー\nクレスコ・イー・ソリューション株
 式会社\n\n\n\n主催\n「sendai x-tech innovation project」とは\n\n
 仙台市をフィールドに、IoTやAI、VR/AR、5Gなどの先端技
 術とさまざまな産業との掛け合わせ（X-TECH）による新
 事業の創出やそれをリードする先端IT人材の育成・交
 流により、テクノロジーの力でイノベーションを生み
 出し、都市の体験をアップデートしていくことを目指
 すプロジェクトです。\n
LOCATION:enspace 〒980-0803 宮城県仙台市青葉区国分町1-4-9
URL:https://techplay.jp/event/761542?utm_medium=referral&utm_source=ics&utm
 _campaign=ics
END:VEVENT
END:VCALENDAR
