BEGIN:VCALENDAR
VERSION:2.0
PRODID:-//https://techplay.jp//JP
CALSCALE:GREGORIAN
METHOD:PUBLISH
X-WR-CALDESC:iPadのKeynoteでアプリを作ろう?!
X-WR-CALNAME:iPadのKeynoteでアプリを作ろう?!
X-WR-TIMEZONE:Asia/Tokyo
BEGIN:VTIMEZONE
TZID:Asia/Tokyo
BEGIN:STANDARD
DTSTART:19700101T000000
TZOFFSETFROM:+0900
TZOFFSETTO:+0900
TZNAME:JST
END:STANDARD
END:VTIMEZONE
BEGIN:VEVENT
UID:761701@techplay.jp
SUMMARY:iPadのKeynoteでアプリを作ろう?!
DTSTART;TZID=Asia/Tokyo:20191214T132000
DTEND;TZID=Asia/Tokyo:20191214T142000
DTSTAMP:20260423T111346Z
CREATED:20191130T062303Z
DESCRIPTION:イベント詳細はこちら\nhttps://techplay.jp/event/76170
 1?utm_medium=referral&utm_source=ics&utm_campaign=ics\n\nMOSA Multi-OS So
 ftware Artists と札幌Swiftは、プログラミングを楽しむセ
 ッションを開催しています。\nMOSA Malti-OS Software Artistに
 ついて\nhttp://www.mosa.gr.jp\nMOSAは、プログラミングに取
 り組む方々を応援する団体です。\n\niPadのKeynoteでアプ
 リを作ろう?!\n事例紹介・プレゼンテーション\nモバイ
 ル機器やパソコンには様々な機能があります。このセ
 ッションでは　Apple社のタブレット端末「iPad」で利用
 できる無料アプリ「Keynote」の使いこなしをプレゼンテ
 ーションします。Keynoteは「パワーポイント／Power Point
 」と同様のプレゼンテーション・アプリですが、イン
 タラクティブなプレゼンテーションをつくることで、
 まるでアプリケーションのように仕上げることもでき
 ます。このセッションでは、Keynoteのディープな（ウラ
 ワザ？）使いこなしも紹介します。\n参考Webページ\n・
 Keynote（日本語）\nhttps://www.apple.com/jp/keynote/\n\n会場\nさ
 っぽろ創世スクエア（札幌市民交流プラザ）\n　060-0001
  北海道札幌市中央区北１条西１丁目 ２丁目\n札幌市営
 地下鉄東西線、南北線、東豊線「大通」駅 31番出口か
 ら徒歩約2分\n※地下鉄大通駅地下通路直結（大通地下
 鉄駅・各ホームからは徒歩10〜20分程度）\nhttps://www.sapp
 oro-community-plaza.jp/access.html\n\n4階・控室403\nフロア案内
 図です。\nhttps://www.ikedajunji.com/mosa/map_4th_floor.jpeg\n\n必
 要なもの\n・特にありません。\n・iPadにKeynote(Appleの無
 料アプリ)をインストールしてご持参いただければ、そ
 の場でお試しいただけます。\n（ハンズオンではあり
 ませんので、進行は予定の通りになります。）\n\n扱う
 内容\n・Keynoteについて\n・事例紹介・プレゼンテーシ
 ョン\n・iPadの一般的な使い方\n\n対 象\n・iPadやiPhoneを
 もっと色々と使ってみたい方。\n・iPad\, iPhoneなどのiOS
 アプリ・プログラミングに興味のある方\n・一般の方
 。\n\n問い合わせ\n質問、問い合わせは「イベント管理
 者への問い合わせ」からお願いします。\n\n講師につい
 て\nMOSA Multi-OS Software Artists 暫定代表\n写真集、iOSアプ
 リをリリースしています。\nステレオ3D写真集、Stereo3D 
 KITAシリーズなど\nhttps://apple.co/2NonAn2\n\niPhoneとLEGOブロ
 ックで撮った作品など Apple iBooks Store\nhttps://apple.co/2uzhz
 Nm\n\nサーモグラフィック写真集などアマゾン・キンド
 ルストア\nhttps://amzn.to/2O5u2Rk\n\nステレオ3D撮影の最適な
 条件を計算するためのiOSアプリを公開しています。\nRi
 ttaiCalc3D\nhttps://itunes.apple.com/jp/app/rittaicalc3d/id424775719?mt=8
 \n\n\n\n開催当日、同じ会場で5つのセッションを行いま
 す。\n\n【iPadのKeynoteでアプリを作ろう?1】\n事例紹介・
 プレゼンテーション\n13:20〜14:20\nhttps://sapporoswift.connpass
 .com/event/157789/\n\n【AVFoundation 音声と音楽・AR編】\niPad Sw
 iftで試しましょう\n14:40〜15:40\nhttps://sapporoswift.connpass.co
 m/event/157790/\n\n【AVFoundation 映像と動画・AR編】\niPad Swift
 で試しましょう\n16:00〜17:00\nhttps://sapporoswift.connpass.com/e
 vent/157791/\n\n【iOSアプリを作ろう2020】\nSwiftUIを活用う\n
 17:20〜18:20\nhttps://sapporoswift.connpass.com/event/157845/\n\n【Swif
 tUIデータフロー入門】\nSwiftUIの文法 その2\n18:40〜19:40\n
 https://sapporoswift.connpass.com/event/157846/\n\n\nフル割（一般
 ）\n第一セッションは無料でご参加いただけます。二
 番目以降のセッションは有料（1\,000円）です。二番目
 以降4つすべてのセッションにお申し込みの場合、1\,000
 円×4セッション=4\,000円を、合計でフル割：3\,000円にな
 ります。会場でお支払い時にお申し出ください。\n参
 加登録はセッション毎に必要です。\niPad試用希望分は
 別途お支払いください。\n\n学生割引\n「第二セッショ
 ン」と「第三セッション」両方参加で計1\,000円に割引
 です。\n学生の方は、「第二・第三・第四・第五」す
 べて受講の場合、2\,000円になります。\n会場で受付時
 に自己申告してください。\n参加登録はセッション毎
 に必要です。\n\n\n事前登録制ですが、空きがある場合
 は、当日参加も可能です。\n
LOCATION:さっぽろ創世スクエア 〒060-0001 北海道札幌市中
 央区北１条西１丁目 ２丁目 (さっぽろ創世スクエア )
URL:https://techplay.jp/event/761701?utm_medium=referral&utm_source=ics&utm
 _campaign=ics
END:VEVENT
END:VCALENDAR
