BEGIN:VCALENDAR
VERSION:2.0
PRODID:-//https://techplay.jp//JP
CALSCALE:GREGORIAN
METHOD:PUBLISH
X-WR-CALDESC:ゼロから始めるSwiftUI
X-WR-CALNAME:ゼロから始めるSwiftUI
X-WR-TIMEZONE:Asia/Tokyo
BEGIN:VTIMEZONE
TZID:Asia/Tokyo
BEGIN:STANDARD
DTSTART:19700101T000000
TZOFFSETFROM:+0900
TZOFFSETTO:+0900
TZNAME:JST
END:STANDARD
END:VTIMEZONE
BEGIN:VEVENT
UID:763720@techplay.jp
SUMMARY:ゼロから始めるSwiftUI
DTSTART;TZID=Asia/Tokyo:20200111T160000
DTEND;TZID=Asia/Tokyo:20200111T170000
DTSTAMP:20260422T034945Z
CREATED:20191216T062028Z
DESCRIPTION:イベント詳細はこちら\nhttps://techplay.jp/event/76372
 0?utm_medium=referral&utm_source=ics&utm_campaign=ics\n\nMOSA Multi-OS So
 ftware Artists と札幌Swiftは、iOS\, iPadOS\, macOSのプログラミ
 ング・セッションを開催します。\nhttp://www.mosa.gr.jp\nMOS
 Aは、プログラミングに取り組む方々を応援する団体で
 す。\n\nゼロから始めるSwiftUI\niPadのPlaygroundsでライブ・
 コーディング！\nいつも使っているiPhoneや iPadのアプリ
 は、Macがあれば自分で作ることができます。またMacが
 なくてもiPadのSwift Playgroundsで、アプリ作りに使用する
 プログラミング言語、フレームワークをコーディング
 し試すことができます。（iPhone、iPadにインストールし
 て使用するアプリケーション化するのには、Mac Xcodeを
 利用します。）このセッションでは、iPadOS、iOSの最新
 フレームワーク・SwiftUIを紹介します。\nSwiftUIは、より
 優れたAppを、より少ないコードで記すことにフィーチ
 ャーしています。\nAppleでは、次の通り説明しています
 。\n『Swiftを利用してすべてのAppleプラットフォーム向
 けのユーザーインターフェイスを、革新的かつ極めて
 シンプルに構築することができます。1セットのツール
 とAPIを使用するだけで、あらゆるAppleデバイス向けの
 ユーザーインターフェイスを構築できます。読みやす
 く自然に記述できる宣言型Swiftシンタックスにより、Sw
 iftUIは新しいXcodeのデザインツールとシームレスに連携
 し、コードをデザインと完全に同期させます。Dynamic Ty
 pe、ダークモード、ローカリゼーション、アクセシビ
 リティに自動的に対応するため、SwiftUIのコードは、最
 初の1行の時点であなたがこれまでに書いた中で最もパ
 ワフルなUIコードになります。』\nどうですか？楽しみ
 ですね。\nセッションでは資料としてiPad Swift Playgrounds
 で試すコード、プレイグラウンドブックを配布します
 。このコードはMac Xcodeを使えば、iPhone、iPadでアプリ化
 することが可能です。実践的なコードを体験すること
 はアプリ作りの参考になるでしょう。\n\nなお、SwiftUI
 の特徴の一つ、Mac Xcode11では、デザインキャンバスで
 の編集内容と、隣接するエディタ内のコードはすべて
 完全に同期され、コードを入力するとすぐにプレビュ
 ーで確認できますが、このセッションでは、iPad Swift Pl
 aygroundsでライブ・コーディングを行いますので、コー
 ドの記述とその結果を確かめながらの進行になります
 。（デザインキャンバスからエディターへの反映はデ
 モをしません。）\n関連する情報は、次のAppleのページ
 に記載があります。\n1.SwiftUIの紹介（日本語）\nhttps://d
 eveloper.apple.com/jp/xcode/swiftui/\n2.Appleの開発者向けページ
 （日本語）\nhttps://developer.apple.com/jp/\n\n\n会場\nさっぽ
 ろ創世スクエア（札幌市民交流プラザ）\n　060-0001 北
 海道札幌市中央区北１条西１丁目 ２丁目\n札幌市営地
 下鉄東西線、南北線、東豊線「大通」駅 31番出口から
 徒歩約2分\n※地下鉄大通駅地下通路直結（大通地下鉄
 駅・各ホームからは徒歩10〜20分程度）\nhttps://www.sapporo
 -community-plaza.jp/access.html\n\n4階・控室405\nフロア案内図
 です。\nhttps://www.ikedajunji.com/mosa/map_4th_floor.jpeg\n\n必要
 なもの\n・特にありません。\n・iPadをご持参いただけ
 れば、その場で試しながら参加できます。ただし、ハ
 ンズオンではありませんので、進行は時間通りになり
 ます。\n\n配布資料\n・セッションで説明するプログラ
 ムのコードを配布します。\n\n扱う内容\n・SwiftUIフレー
 ムワークについて\n・iPhone\, iPadアプリの基本的な内容\
 n\n対 象\n・最新フレームワーク SwiftUIを試してみたい
 方\n・iPadをもっと色々と使ってみたい方\n・iPhone\, iPad
 などのアプリ・プログラミングに興味のある方\n・中
 学生以上の一般の方。\n・小学生でも興味がある方は
 参加可能ですが、保護者同伴でお願いします。\n　（
 参加受付は人数分行ってください。）\n\n問い合わせ\n
 質問、問い合わせは「イベント管理者への問い合わせ
 」からお願いします。\n\n講師について\nMOSA Multi-OS Softw
 are Artists 暫定代表\n写真集、iOSアプリをリリースして
 います。\nステレオ3D写真集、Stereo3D KITAシリーズなど\n
 https://apple.co/2NonAn2\n\niPhoneとLEGOブロックで撮った作品
 など Apple iBooks Store\nhttps://apple.co/2uzhzNm\n\nサーモグラフ
 ィック写真集などアマゾン・キンドルストア\nhttps://amz
 n.to/2O5u2Rk\n\nステレオ3D撮影の最適な条件を計算するた
 めのiOSアプリを公開しています。\nRittaiCalc3D\nhttps://itun
 es.apple.com/jp/app/rittaicalc3d/id424775719?mt=8\n\n\n\n開催当日、
 同じ会場で5つのセッションを行います。\n\n【AR Quick Lo
 okショーケース】\niPhoneとiPadでアプリの必要がない最
 新のAR体験!\n13:20〜14:20\nhttps://sapporoswift.connpass.com/event/1
 59702/\n\n【iPadとSwiftでReality Kitに挑戦】\n最新フレーム
 ワークを試しましょう\n14:40〜15:40\nhttps://sapporoswift.connp
 ass.com/event/159703/\n\n【ゼロから始めるSwiftUI】\niPadのPlayg
 roundsでライブ・コーディング！\n16:00〜17:00\nhttps://sappor
 oswift.connpass.com/event/159707/\n\n【SwiftUIでリスト表示】\nSwi
 ftUIの文法その3\n17:20〜18:20\nhttps://sapporoswift.connpass.com/ev
 ent/159711/\n\n【SwiftUIの画面切替】\nSwiftUIの文法じっくり
 解説\n18:40〜19:40\nhttps://sapporoswift.connpass.com/event/159712/\n\
 n\nフル割（一般）\n第一セッションは無料でご参加い
 ただけます。二番目以降のセッションは有料（1\,000円
 ）です。二番目以降4つすべてのセッションにお申し込
 みの場合、1\,000円×4セッション=4\,000円を、合計でフル
 割：3\,000円になります。会場でお支払い時にお申し出
 ください。\n参加登録はセッション毎に必要です。\niPa
 d試用希望分は別途お支払いください。\n\n学生割引\n「
 第二セッション」と「第三セッション」両方参加で計1
 \,000円に割引です。\n学生の方は、「第二・第三・第四
 ・第五」すべて受講の場合、2\,000円になります。\n会
 場で受付時に自己申告してください。\n参加登録はセ
 ッション毎に必要です。\n\n\n事前登録制ですが、空き
 がある場合は、当日参加も可能です。\n
LOCATION:さっぽろ創世スクエア 札幌市中央区北１条西１
 丁目 ２丁目 (さっぽろ創世スクエア )
URL:https://techplay.jp/event/763720?utm_medium=referral&utm_source=ics&utm
 _campaign=ics
END:VEVENT
END:VCALENDAR
