BEGIN:VCALENDAR
VERSION:2.0
PRODID:-//https://techplay.jp//JP
CALSCALE:GREGORIAN
METHOD:PUBLISH
X-WR-CALDESC:AR Quick Look ショーケース
X-WR-CALNAME:AR Quick Look ショーケース
X-WR-TIMEZONE:Asia/Tokyo
BEGIN:VTIMEZONE
TZID:Asia/Tokyo
BEGIN:STANDARD
DTSTART:19700101T000000
TZOFFSETFROM:+0900
TZOFFSETTO:+0900
TZNAME:JST
END:STANDARD
END:VTIMEZONE
BEGIN:VEVENT
UID:763722@techplay.jp
SUMMARY:AR Quick Look ショーケース
DTSTART;TZID=Asia/Tokyo:20200111T132000
DTEND;TZID=Asia/Tokyo:20200111T142000
DTSTAMP:20260423T103651Z
CREATED:20191216T062034Z
DESCRIPTION:イベント詳細はこちら\nhttps://techplay.jp/event/76372
 2?utm_medium=referral&utm_source=ics&utm_campaign=ics\n\nMOSA Multi-OS So
 ftware Artists と札幌Swiftは、プログラミングを楽しむセ
 ッションを開催しています。\nhttp://www.mosa.gr.jp\nMOSAは
 、プログラミングに取り組む方々を応援する団体です
 。\n\nAR Quick Lookショーケース\niPhoneとiPadでアプリの必
 要がない最新のAR体験!\nモバイル機器やパソコンには
 様々な機能があります。このセッションでは　AppleのiP
 honeとiPadで体験できる、最新のAR（拡張現実）事例、AR 
 Quick Lookを紹介します。一般的なARは、アプリをダウン
 ロードして体験しますが、AppleのAR Quick Lookは、アプリ
 をダウンロードする必要はありません。お持ちのiPhone
 かiPadでアプリをダウンロードすることなく体験するこ
 とができます。（最新のOSにアップデートする必要は
 あります。）\nAR Quick Lookでの紹介内容\n（いずれもiPhon
 e\, iPadでアプリケーションをインストールせずに体験
 できます。）\n・名刺・カードに対してAR出現\n・実物
 大ARでバーチャル体験\n・ARサウンド\n・ARで360度パノラ
 マVR\n・その他\n\n技術的背景は次の内容になります。\n
 ・顔認識\n・床（水平面）認識・物体配置\n・壁（垂直
 面）認識・物体配置\n・床・壁での物体移動\n・画像認
 識\n・物体認識\n・ARにタッチすると動きだす\n・ARにタ
 ッチすると音が出る\n・その他\n（持参されたiPhone\, iPa
 dの機種・OSバージョンによっては体験可能なARに制限
 があります）\n\n参考Webページ\n・AR：拡張現実（日本
 語）\nhttps://developer.apple.com/jp/augmented-reality/\n\n・AR Quick 
 Look（日本語）\nhttps://developer.apple.com/jp/augmented-reality/qui
 ck-look/\n\n会場\nさっぽろ創世スクエア（札幌市民交流
 プラザ）\n　060-0001 北海道札幌市中央区北１条西１丁
 目 ２丁目\n札幌市営地下鉄東西線、南北線、東豊線「
 大通」駅 31番出口から徒歩約2分\n※地下鉄大通駅地下
 通路直結（大通地下鉄駅・各ホームからは徒歩10〜20分
 程度）\nhttps://www.sapporo-community-plaza.jp/access.html\n\n4階・
 控室405\nフロア案内図です。\nhttps://www.ikedajunji.com/mosa/m
 ap_4th_floor.jpeg\n\n必要なもの\n・特にありません。\n・iPh
 oneかiPadをご持参いただければ、その場でお試しいただ
 けます。\n・最新のOSにアップデートしてご持参くださ
 い。\n\n扱う内容\n・AR（拡張現実）について\n・事例紹
 介・プレゼンテーション\n・AR Quick Lookについて\n\n対 
 象\n・モバイルAR（拡張現実）にご興味のある方\n・iPad
 やiPhoneをもっと色々と使ってみたい方\n・iPad\, iPhoneな
 どのiOSアプリ・プログラミングに興味のある方\n・一
 般の方\n\n問い合わせ\n質問、問い合わせは「イベント
 管理者への問い合わせ」からお願いします。\n\n講師に
 ついて\nMOSA Multi-OS Software Artists 暫定代表\n写真集、iOS
 アプリをリリースしています。\nステレオ3D写真集、Ste
 reo3D KITAシリーズなど\nhttps://apple.co/2NonAn2\n\niPhoneとLEGO
 ブロックで撮った作品など Apple iBooks Store\nhttps://apple.co
 /2uzhzNm\n\nサーモグラフィック写真集などアマゾン・キ
 ンドルストア\nhttps://amzn.to/2O5u2Rk\n\nステレオ3D撮影の最
 適な条件を計算するためのiOSアプリを公開しています
 。\nRittaiCalc3D\nhttps://itunes.apple.com/jp/app/rittaicalc3d/id4247757
 19?mt=8\n\n\n\n開催当日、同じ会場で5つのセッションを行
 います。\n\n【AR Quick Lookショーケース】\niPhoneとiPadで
 アプリの必要がない最新のAR体験!\n13:20〜14:20\nhttps://sap
 poroswift.connpass.com/event/159702/\n\n【iPadとSwiftでReality Kitに
 挑戦】\n最新フレームワークを試しましょう\n14:40〜15:4
 0\nhttps://sapporoswift.connpass.com/event/159703/\n\n【ゼロから始
 めるSwiftUI】\niPadのPlaygroundsでライブ・コーディング！\
 n16:00〜17:00\nhttps://sapporoswift.connpass.com/event/159707/\n\n【Swi
 ftUIでリスト表示】\nSwiftUIの文法その3\n17:20〜18:20\nhttps:
 //sapporoswift.connpass.com/event/159711/\n\n【SwiftUIの画面切替】
 \nSwiftUIの文法じっくり解説\n18:40〜19:40\nhttps://sapporoswift
 .connpass.com/event/159712/\n\n\nフル割（一般）\n第一セッシ
 ョンは無料でご参加いただけます。二番目以降のセッ
 ションは有料（1\,000円）です。二番目以降4つすべての
 セッションにお申し込みの場合、1\,000円×4セッション=
 4\,000円を、合計でフル割：3\,000円になります。会場で
 お支払い時にお申し出ください。\n参加登録はセッシ
 ョン毎に必要です。\niPad試用希望分は別途お支払いく
 ださい。\n\n学生割引\n「第二セッション」と「第三セ
 ッション」両方参加で計1\,000円に割引です。\n学生の
 方は、「第二・第三・第四・第五」すべて受講の場合
 、2\,000円になります。\n会場で受付時に自己申告して
 ください。\n参加登録はセッション毎に必要です。\n\n\
 n事前登録制ですが、空きがある場合は、当日参加も可
 能です。\n
LOCATION:さっぽろ創世スクエア 札幌市中央区北１条西１
 丁目 ２丁目 (さっぽろ創世スクエア )
URL:https://techplay.jp/event/763722?utm_medium=referral&utm_source=ics&utm
 _campaign=ics
END:VEVENT
END:VCALENDAR
