BEGIN:VCALENDAR
VERSION:2.0
PRODID:-//https://techplay.jp//JP
CALSCALE:GREGORIAN
METHOD:PUBLISH
X-WR-CALDESC:SwiftUIでリスト表示
X-WR-CALNAME:SwiftUIでリスト表示
X-WR-TIMEZONE:Asia/Tokyo
BEGIN:VTIMEZONE
TZID:Asia/Tokyo
BEGIN:STANDARD
DTSTART:19700101T000000
TZOFFSETFROM:+0900
TZOFFSETTO:+0900
TZNAME:JST
END:STANDARD
END:VTIMEZONE
BEGIN:VEVENT
UID:763723@techplay.jp
SUMMARY:SwiftUIでリスト表示
DTSTART;TZID=Asia/Tokyo:20200111T172000
DTEND;TZID=Asia/Tokyo:20200111T182000
DTSTAMP:20260422T003618Z
CREATED:20191216T062036Z
DESCRIPTION:イベント詳細はこちら\nhttps://techplay.jp/event/76372
 3?utm_medium=referral&utm_source=ics&utm_campaign=ics\n\nこのセミナ
 ーはiOSアプリ作り初学者をアシストします。\n驚くほ
 どの少ないソースコードでUI画面を表示できる SwiftUI 
 は、リスト表示も従来とはまったく違います。\n\niPhone
 やiPadアプリで最も使われているUI部品のひとつリスト
 （テーブル）を、これまでにくらべ劇的に少ない行数
 のコードで直感的に表示できるカラクリを体験してく
 ださい。\nリスト（List）とその仲間の共通点や使い分
 けも解説します。\nXcodeのPlaygroundとiPadのPlaygroundsどち
 らでも実行可能なサンプルとスライドPDFを配布します
 。\n\n★会場は4階です【控え室405】\n新年からSwiftUIプ
 ログラミングをはじめる人に最適な【ゼロから始めるS
 wiftUI】\niPadのPlaygroundsでライブ・コーディング！　も
 同じ会場です。\n\n開発者が講師となって直接レクチャ
 ーする少人数セミナーです。（参加者はその場でXcode
 を操作し動作を確認します）\nXcode 11.3（11.2.1でも大丈
 夫です）をインストール済みのMac、またはPlaygrounds 3.2
 または3.1をインストル済みのiPadどちらかがあれば参加
 できます。（macOS 10.14.4以降／iOS 13以降）\n\n\n\nセミナ
 ー受講者のためのfacebook非公開グループを作成しまし
 た。情報交換などにご活用ください。\n\n\n毎月一回違
 ったテーマで開催します。1時間のセミナーで毎回完結
 です。\n次回2月8日の高橋担当は（仮）SwiftUI画面レイ
 アウト、（仮）SwiftUI UI部品カタログ　を予定していま
 す。\n\nSwiftUI リスト表示\n開催日時\n2020年1月11日（土
 曜）17:20から[1時間]（受付17:10頃から） \n\n会場\nさっ
 ぽろ創世スクエア\n　札幌市民交流プラザ 4階 控室405 \
 n060-0001\n　北海道札幌市中央区北１条西１丁目 5\n最寄
 駅：札幌市営地下鉄東西線、南北線、東豊線「大通」
 駅\n※地下鉄大通駅地下通路直結（下車後会場までは20
 分程度かかります）\n地下街からの道順\n会場4階案内
 図 \n\n参加費\n\n1名様1\,000円（税込）　会場でお支払い
 ください\n学生割：実質半額、フル割：全て参加で1000
 円割引　あり\nサンプルとスライドPDFファイルを配布
 します。\nサンプルとPDFファイルをその場で受け取る
 ためのiPadかMacが必要です。\n\n\n募集人数\n\n13名\n事前
 登録制ですが、空きがある場合は、当日参加も可能で
 す。\n（当日参加の場合もこのページから登録し満席
 でないことをご確認お願いします）\nセミナー受講者
 のためのfacebook非公開グループ参加には登録が必要で
 す\n\n\n内容\nSwiftUI リスト表示\n［初級レベル（一部中
 級の内容を含みます）］（Swift言語の基礎知識は必要
 です） \n従来のUIKitとは全く別の方法でリストを表示
 します。\n\nリスト1行分の表示\n複数行の表示\n表示す
 るデータ\n行数の制限と制限を超える方法\nリスト・テ
 ーブル表示可能ないろいろな型\nXcodeのプレイグラウン
 ドで表示する場合の問題点\n \nなど \nイニシャライザ
 ・クロージャなどの用語は「Swift5初級ガイド」などで
 確認しておいてください。\n\n\n対象\n\nMacをお使いの方
 \n中学生以上が対象です\niOS用アプリ開発に興味のある
 方\nWWDCスカラーシップ参加を目指す方 \n\n\n必要なもの
 \n\nXcode 11.3（または11.2）をインストールしたMac\nまた
 は Playgrounds 3.1以降をインストールしたiPad\nXcode 11.3の
 インストールは済ませてごご参加ください\n【Xcodeをイ
 ンストールし一度は起動してください】\nXcodeのインス
 トールには時間がかかります。当日会場ではインスト
 ールはできません。 \n\n\n講師について\n\n講師は「Swift
 5初級ガイド」の著者でiOSアプリ「neo文庫」などの作者
 です。\nSwift5初級ガイドは上記リンクのAppleのBook Store
 より無料サンプルをダウンロードできます。\n\n\n\nnote
 でiOSアプリ作りに関連する記事を書いています。【有
 料記事はまとめて読めるマガジンがお得です】\n\n\n\n
 開催当日、同じ会場で次のセッションも開催します\n
 【AR Quick Lookショーケース】\niPhoneとiPadでアプリの必要
 がない最新のAR体験!\n13:20〜14:20\nhttps://sapporoswift.connpass
 .com/event/159702/\n\n【iPadとSwiftでReality Kitに挑戦】\n最新
 フレームワークを試しましょう\n14:40〜15:40\nhttps://sappor
 oswift.connpass.com/event/159703/\n\n【ゼロから始めるSwiftUI】\n
 iPadのPlaygroundsでライブ・コーディング！\n16:00〜17:00\nht
 tps://sapporoswift.connpass.com/event/159707/\n\n【SwiftUIでリスト
 表示】\nSwiftUIの文法じっくり解説\n17:20〜18:20\nhttps://sap
 poroswift.connpass.com/event/159711/\n\n【SwiftUIの画面切替】\nSwi
 ftUIの文法じっくり解説\n18:40〜19:40\nhttps://sapporoswift.conn
 pass.com/event/159712/\n\n\nフル割（一般）\n第一セッション
 は無料でご参加いただけます。二番目以降のセッショ
 ンは有料（1\,000円）です。二番目以降4つすべてのセッ
 ションにお申し込みの場合、1\,000円×4セッション=4\,000
 円を、合計でフル割：3\,000円になります。会場でお支
 払い時にお申し出ください。\n参加登録はセッション
 毎に必要です。\n学生割引\n「第四セッション」と「第
 五セッション」両方参加で計1\,000円に割引です。\n学
 生の方は、「第二・第三・第四・第五」すべて受講の
 場合、2\,000円になります。\n会場で受付時に自己申告
 してください。\n参加登録はセッション毎に必要です
 。\n\nFacebookグループ\nセミナー受講者のためのfacebook非
 公開グループを作りました。\n情報交換などにご活用
 ください。\nご希望の方は、札幌Swiftに「いいね」をし
 、参加者であることをメッセージお知らせください。\
 n（facebookの仕様上、いいねをしていただけると、登録
 がスムーズに行えます。） \n\n\n質問、問い合わせは『
 イベントへの問い合わせはこちらをご利用ください』
 からリンクしている「イベント管理者への問い合わせ
 」からお願いします。\nみなさまのご参加をお待ちし
 ています。
LOCATION:さっぽろ創世スクエア 北海道札幌市中央区北１
 条西１丁目 5　札幌市民交流プラザ
URL:https://techplay.jp/event/763723?utm_medium=referral&utm_source=ics&utm
 _campaign=ics
END:VEVENT
END:VCALENDAR
