BEGIN:VCALENDAR
VERSION:2.0
PRODID:-//https://techplay.jp//JP
CALSCALE:GREGORIAN
METHOD:PUBLISH
X-WR-CALDESC:第1回『Design It!』読書会｜アジャイル読書会@
 札幌
X-WR-CALNAME:第1回『Design It!』読書会｜アジャイル読書会@
 札幌
X-WR-TIMEZONE:Asia/Tokyo
BEGIN:VTIMEZONE
TZID:Asia/Tokyo
BEGIN:STANDARD
DTSTART:19700101T000000
TZOFFSETFROM:+0900
TZOFFSETTO:+0900
TZNAME:JST
END:STANDARD
END:VTIMEZONE
BEGIN:VEVENT
UID:763977@techplay.jp
SUMMARY:第1回『Design It!』読書会｜アジャイル読書会@札幌
DTSTART;TZID=Asia/Tokyo:20200123T190000
DTEND;TZID=Asia/Tokyo:20200123T210000
DTSTAMP:20260422T050143Z
CREATED:20191218T060032Z
DESCRIPTION:イベント詳細はこちら\nhttps://techplay.jp/event/76397
 7?utm_medium=referral&utm_source=ics&utm_campaign=ics\n\n第1回『Design
  It!』読書会\n\n\n\n概要\n\n札幌でアジャイル開発を実践
 する（したい）メンバーが集まる、熱い読書会！\n\n今
 回は、設計スキルを成長させたいプログラマーに向け
 たアーキテクティングの入門書『Design It!』を読みます
 。\n事前課題なしで集まったメンバーで読みましょう
 ！（もちろん事前に読んでおいてもOKです）\n\n今回はA
 BD（アクティブ・ブック・ダイアローグ）で進めます
 。\n\n\n\nアジャイル読書会@札幌とは\n\nもっとアジャイ
 ルについて知りたい！というエンジニアが集まる読書
 会です。\n\nアジャイル読書会 札幌 FaceBookページ\nhttps:
 //www.facebook.com/spr.reading.agile/\n\n\nタイムスケジュール\n\
 n19:00-19:15 自己紹介タイム、ABDの説明\n19:15-20:50 ABD\n20:50
 -21:00 まとめ\n\n進め方\n\n今回は以下を参考にABDで進め
 ます。\nhttps://kuranuki.sonicgarden.jp/2019/02/abd.html\n\nなお、
 通常ABDでは本を1冊読み切りますが、当読書会では各参
 加者の担当を10ページ程度とし、数回に分けて読み切
 る予定です。\n\nお茶とお菓子を用意しますので、リラ
 ックスした雰囲気でアジャイルとシステム開発の現場
 について語り合いましょう。\n\n\n持ち物\n\nDesign It!（
 電子書籍も可）\n※事前に購入の上ご参加ください。\n
 \n\n飲食について\n\nお茶、お水などを用意します。\n持
 ち込みも可能です。\n\n\n会場について\n\n札幌市中央区
 南10条西1丁目1番65号\n11.CONCEPT SPERARE BLD 5F メンバーズエ
 ッジ 札幌オフィス\n\n※1Fアパレル店舗内を通り、中央
 エレベータより5Fへお越しください。\n\n注意事項\n\n19
 時以降は正面玄関が閉まっている場合があります。\n
 裏口より出入りになるためスタッフまで連絡してくだ
 さい。\n\n連絡先は、参加者の方へ別途メールで連絡し
 ます。\n\n\n懇親会\n\n終了後懇親会を予定しています。
 \n懇親会に参加希望の方は申し込み時に参加希望をお
 願いします。\n場所：すすきの周辺／費用：割り勘(予
 定)
LOCATION:11.CONCEPT SPERARE BLD 5F メンバーズエッジ 札幌オフィ
 ス 札幌市中央区南10条西1丁目1番65号
URL:https://techplay.jp/event/763977?utm_medium=referral&utm_source=ics&utm
 _campaign=ics
END:VEVENT
END:VCALENDAR
