BEGIN:VCALENDAR
VERSION:2.0
PRODID:-//https://techplay.jp//JP
CALSCALE:GREGORIAN
METHOD:PUBLISH
X-WR-CALDESC:SaCSS vol.110
X-WR-CALNAME:SaCSS vol.110
X-WR-TIMEZONE:Asia/Tokyo
BEGIN:VTIMEZONE
TZID:Asia/Tokyo
BEGIN:STANDARD
DTSTART:19700101T000000
TZOFFSETFROM:+0900
TZOFFSETTO:+0900
TZNAME:JST
END:STANDARD
END:VTIMEZONE
BEGIN:VEVENT
UID:764068@techplay.jp
SUMMARY:SaCSS vol.110
DTSTART;TZID=Asia/Tokyo:20200125T180000
DTEND;TZID=Asia/Tokyo:20200125T210000
DTSTAMP:20260423T103615Z
CREATED:20191218T142155Z
DESCRIPTION:イベント詳細はこちら\nhttps://techplay.jp/event/76406
 8?utm_medium=referral&utm_source=ics&utm_campaign=ics\n\n\n \n  SaCSS初
 の大人数部屋でのLT！\n \n\n\n\n \n  \n \n\n\n\n【概要・内
 容】\n\n\n\n \n  LT回になります。発表ネタ募集中です。
 （発表時間： 3分〜最長30分、先着順で調整します！（
 徐々に発表者調整します）\n \n \n  \n \n \n  【開催情報
 】\n  \n  \n  \n   日時：2020年01月25日（土）18:00 〜 21:00\n 
   \n   会場：札幌市民ホール　第1会議室 （札幌市中央
 区北1条西1丁目）\n  \n \n \n  \n \n \n  \n   【募集定員】\n 
  \n  \n  \n   60名\n  \n \n \n  \n \n \n  \n   【対象】\n  \n  \n  \
 n   Webデザイナー・コーダー（マークアップエンジニア
 ）・HTML＆CSSコーディング興味のある方（プログラマー
 などなど）・学生の方やWebについて現在勉強中の人\n  
 \n \n \n  \n \n \n  \n   【スタンス】\n  \n  \n  \n   気楽に参
 加できて、楽しく学ぶ！\n  \n \n \n  \n \n \n  \n   【スピ
 ーカー（予定者）】\n  \n  \n \n  \n    @redamoon :  Nuxt.js + Ne
 tlify Fromsで始めるサーバレスなフォームを試した\n    @n
 oliaki :  Webサイトで使える、（Vueの）小テク\n    @h1romas4
  :  楽しい WebAssembly\n    @wattlaa :  企画に煮詰まった時の
 アイデアづくりヒント10\n    @ kuromailserver  :  無音動画
 学習方法のススメ \n    @chi_cca3 :  未経験からAWSを勉強
 中\n    @kuma_hati :  ベンチャの話\n    @h2ham :  今試してい
 るツールについて （& 時間があれば、本日のフォロー
 アップ）\n  \n\n\n\n \n   【参加費】\n \n \n \n  1\,000円（LT
 発表者 無料、今回特別にブログ書く人と当日ツイート
 たくさんする人を募集します）\n \n\n\n\n\n\n\n \n  【その
 他】\n \n \n \n  \n   \n    プロジェクターを使って画面の
 共有します。\n   \n   \n    会場で使えるネット環境は用
 意していません。各自でご用意ください。\n   \n   \n    
 当日は勉強会の様子を撮影する可能性がございます（
 静止画）。予めご了承ねがいます。\n   \n   \n    勉強会
 中の動画配信はご遠慮願います。\n   \n   \n    勉強会中
 は質問・ご意見などなど遠慮せずにどんどんだしてく
 ださい！\n   \n   \n    当日会場での領収書発行は行いま
 せん。connpassの画面での確認をお願いします。 参照： 
 領収データを発行する - connpass ご利用ガイド\n   \n  \n \
 n\n\n\n \n\n\n\n \n  【懇親会】\n \n \n \n  勉強会終了後に懇
 親会を開催します。\n  \n  別途募集しますので、参加
 希望の方は懇親会イベントの方にも登録をお願いしま
 す。\n  \n  \n  \n   \n    懇親会参加登録\n   \n  \n \n
LOCATION:札幌市民ホール 会議室  札幌市中央区北1条西1丁
 目
URL:https://techplay.jp/event/764068?utm_medium=referral&utm_source=ics&utm
 _campaign=ics
END:VEVENT
END:VCALENDAR
