BEGIN:VCALENDAR
VERSION:2.0
PRODID:-//https://techplay.jp//JP
CALSCALE:GREGORIAN
METHOD:PUBLISH
X-WR-CALDESC:Lumion Youth Award 2019 二次審査会
X-WR-CALNAME:Lumion Youth Award 2019 二次審査会
X-WR-TIMEZONE:Asia/Tokyo
BEGIN:VTIMEZONE
TZID:Asia/Tokyo
BEGIN:STANDARD
DTSTART:19700101T000000
TZOFFSETFROM:+0900
TZOFFSETTO:+0900
TZNAME:JST
END:STANDARD
END:VTIMEZONE
BEGIN:VEVENT
UID:764689@techplay.jp
SUMMARY:Lumion Youth Award 2019 二次審査会
DTSTART;TZID=Asia/Tokyo:20200204T160000
DTEND;TZID=Asia/Tokyo:20200204T205000
DTSTAMP:20260425T012821Z
CREATED:20191224T021533Z
DESCRIPTION:イベント詳細はこちら\nhttps://techplay.jp/event/76468
 9?utm_medium=referral&utm_source=ics&utm_campaign=ics\n\nLumion Youth Awa
 rd 2019 二次審査会\n概要\n一次審査を通過した6組（日本
 人作品3組／モンゴル人作品3組）の二次審査として審
 査員の前でプレゼンを行い、最終的な賞を決めていき
 ます。※Youtubeライブ配信を予定しています。 ライブ
 配信のURL ：https://youtu.be/IIHqwWhCaSg\n登壇者\n\n水口 哲也\
 nエンハンス代表 / シナスタジアラボ主宰\nシナスタジ
 ア(共感覚)体験の拡張を目指し創作を続けている。2001 
 年、映像と音を融合させたゲーム作品「Rez」を発表。
 その後、音と光の電飾パズル「ルミネス」(2004)、指揮
 者のように操作しながら共感覚体験を可能にした「Chil
 d of Eden」(2010)、Rez のVR 拡張版である「Rez Infinite」(2016)
 、テトリスの VR 拡張版「Tetris Effect」(2018)、音楽を光
 と振動で全身に拡張する「シナスタジア・スーツ」(201
 6)、共感覚体験装置「シナスタジア X1 – 2.44」(2019)な
 ど。 2002年文化庁メディア芸術祭特別賞、2002年Ars Electr
 onicaインタラクティブアート部門Honorary Mention(Rez)、2006
 年米国プロデューサー協会(PGA)より「Digital 50」(世界の
 デジタル・イノヴェイター50人)の1人に選出。2017年米
 国The Game Award最優秀VR賞受賞。文化庁メディア芸術祭エ
 ンターテインメント部門審査主査、日本賞審査員、芸
 術選奨選考審査員などを歴任。Media Ambition Tokyo(MAT)理事
 。エッジ・オブ共同創業者兼CCO。 エンハンス Web: https:
 //enhance-experience.com シナスタジアラボ Web: https://enhance-ex
 perience.com/ja/synesthesia-lab\nタイムスケジュール\n\n\n\n時
 間\n内容\n\n\n15:30〜\n受付開始\n\n\n16:00〜16:10\n16:00〜16:10
 \n\n\n16:10〜16:40\n\n特別公演「これからのXR（拡張現実）
 体験の可能性について」\nエンハンス代表／水口 哲也
 氏VR、AR、MRなどに代表される拡張現実技術は、今後ど
 のように進化していく可能性があるのか？2020年以降の
 未来を予測しながら、その先の未来を考える。\n\n\n\n16
 :40〜17:10\n\n各審査員紹介審査委員長　慶応義塾大学大
 学院　池田靖史氏副審査委員長　モンゴル建築家協会
 会長　フレルバートル氏審査員　エンハンス　水口　
 哲也氏審査員　株式会社日建設計　大庭拓也氏\n\n\n\n17
 :10〜18:10\n\nファイナリストによるプレゼンテーション\
 n日本3組、モンゴル3組\n《日本》塚本 悠典　他4名 / 麻
 生建築＆デザイン専門学校\n佐藤 寛人 / 新潟大学大学
 院\n樺 浩太 / 熊本大学大学院\n《モンゴル》Bayarkhuu Alta
 ntsetseg / Mongolian university of science and technology\nEnkhbold Yesun
 -Erdene / Mongolan university of science an technology\nBat-Orgil Chinbat
  / Mongolian university of science and technology\n\nhttps://lumion3d.jp/
 youth2019/works/\n\n\n\n18:10〜19:10\n\n審査員による公開審査
 ディスカッション\n\n\n\n19:10〜19:30\n休憩\n\n\n19:30〜19:50\
 n\n結果発表および講評\n\n\n\n19:50〜20:50\n懇親会（モン
 ゴル 弦楽器演奏&モンゴル料理）\n\n\n20:50\n終了\n\n\n\n
 ※ 当日予告なく時間配分・内容が変更になる可能性が
 ございます。\n \n参加対象\n・学生\n・建築デザイナー\
 n・CGクリエイター\n・映像クリエイター\n※ リクルー
 ティング、勧誘など、採用目的でのイベント参加はお
 断りしております。 ※ 飲食のみを目的としたご応募
 ・ご来場はご遠慮ください。 ※ 補欠者の方は、ご来
 場いただいてもご入場いただくことが出来ませんので
 ご了承ください。\n持ち物\nなし\n参加費\n無料\nハッシ
 ュタグ\n#techplayjp\n注意事項\n※ 参加を辞退する場合は
 、詳細ページより申込のキャンセルをお願い致します
 。※ 無断キャンセル・欠席が続く場合、次回以降の参
 加をお断りさせていただく場合がございますのでご了
 承ください。\n 
LOCATION:品川シーズンテラスカンファレンス アネックス
 棟3階　ホール 〒108-0075 東京都港区港南1丁目2-2番70
URL:https://techplay.jp/event/764689?utm_medium=referral&utm_source=ics&utm
 _campaign=ics
END:VEVENT
END:VCALENDAR
