BEGIN:VCALENDAR
VERSION:2.0
PRODID:-//https://techplay.jp//JP
CALSCALE:GREGORIAN
METHOD:PUBLISH
X-WR-CALDESC:【データ分析初心者大歓迎！！】Pythonを使っ
 た機械学習実装入門〜線形回帰編〜
X-WR-CALNAME:【データ分析初心者大歓迎！！】Pythonを使っ
 た機械学習実装入門〜線形回帰編〜
X-WR-TIMEZONE:Asia/Tokyo
BEGIN:VTIMEZONE
TZID:Asia/Tokyo
BEGIN:STANDARD
DTSTART:19700101T000000
TZOFFSETFROM:+0900
TZOFFSETTO:+0900
TZNAME:JST
END:STANDARD
END:VTIMEZONE
BEGIN:VEVENT
UID:764856@techplay.jp
SUMMARY:【データ分析初心者大歓迎！！】Pythonを使った機
 械学習実装入門〜線形回帰編〜
DTSTART;TZID=Asia/Tokyo:20200117T190000
DTEND;TZID=Asia/Tokyo:20200117T220000
DTSTAMP:20260423T072057Z
CREATED:20191225T023030Z
DESCRIPTION:イベント詳細はこちら\nhttps://techplay.jp/event/76485
 6?utm_medium=referral&utm_source=ics&utm_campaign=ics\n\nセミナール
 ーム移転のお知らせ\nこの度、秋葉原駅前から下記住
 所へセミナールームを移転いたします。\nお越しにな
 る際はくれぐれもお間違いのないようご注意ください
 。\n移転先住所：中央区銀座2-14-4 銀座スクエア3階\n【
 東京メトロ日比谷線】東銀座駅徒歩4分\n【東京メトロ
 有楽町線】銀座一丁目駅徒歩5分\n【都営浅草線】宝町
 駅徒歩6分\n【東京メトロ銀座線】銀座駅徒歩7分\n【JR
 山手線】有楽町駅徒歩11分\n概要\n本講座は機械学習の
 最もシンプルで、例によく出される線形回帰やそのほ
 か類似手法に関する講座です！\n重回帰モデルや多項
 式回帰、分類に使われるロジスティック回帰など、比
 較的シンプルなものを取り上げます。\n本講座を受講
 することで、  さまざまな機械学習で考えられる概念
 や問題を捉えられるようになります。\nまた、シンプ
 ルとは言え気を付けて扱わなければいけない特性もあ
 るため、それもすべて網羅している講座になります。\
 n最初から挫折してしまったり、本を読んでも分かりに
 くいといった方にお勧めです！\n当講座の想定受講者
 は、機械学習について 「なんとなくは知っているけれ
 ど、具体的にどうするのか分からない」 という方です
 。機械学習の具体的な適応について知りたい方にはぴ
 ったりとなっております。\nレベル感としては以下に
 記載する講座を受講された方、受講はしていないが内
 容がある程度わかる方が対象です。\n\nPython入門講座\nP
 ythonデータ分析入門\nmatplotlib/seaborn入門\nNumpy入門\n【デ
 ータ分析初心者大歓迎！！】Pythonを使った機械学習実
 装入門〜評価指標と交差検証編〜\n\n講座を通じて得ら
 れること\n\n線形重回帰の理論，実装\nロジスティック
 回帰\n多項式回帰とその精度\n\n講座一覧のフローチャ
 ート\nどの講座から受講したら良いのかわからないと
 いうような方は、下記のフローチャートを参考にして
 いただければと思います。\n\n内容\n\n線形単回帰の理
 論，実装\n線形重回帰の実装と多重共線性について\nロ
 ジスティック回帰の理論，実装\n多項式回帰の理論と
 実装\n多項式回帰と過学習，正則化\n各種手法のメリッ
 トデメリット\n\n※ 当日予告なく時間配分・内容が変
 更になる可能性がございます。\n事前準備・持ち物\nPyt
 hon3をインストールしたPCの持参をお願いいたします。\
 nまた、以下のパッケージを当講座では利用しますので
 、当日までに動作確認をお願いいたします。\n\npandas\ns
 klearn\nmatplotlib\n\nまた、講義はJupyter Notebookを用いて行
 いますので、インストール頂いたほうがスムーズに講
 座を受けることが可能です。\n※インストールでお困
 りの方はinfo@to-kei.netまでご連絡いただければ、可能な
 範囲で対応致します。\nこんな人にオススメ\n\n機械学
 習の概要は分かって来たので、実用レベルのモデル構
 築に挑戦したい方\nPythonを用いた機械学習に不慣れな
 ので、演習を通じて慣れて行きたい方\n正確な理論を
 要点だけ知っておいて，使えるようになりたい方\n\n講
 師\n阿部祐大\n時系列データの強化学習によるモデル化
 の研究に従事。統計学、数理論理学などに精通。プロ
 グラミング言語論にも興味があり、手続き型言語、関
 数型言語、定理証明型言語を触った経験がある。\n\n領
 収書について\n【Stripeで事前決済の方】\nクレジットカ
 ード会社が発行する明細を領収書の代わりとしてご利
 用ください。\n【Paypalの方】\n決済処理後にPaypalから送
 付されるメール内容、またはPaypalの取引履歴から該当
 項目を確認の上、「詳細」をご覧ください。それらが
 領収書の代わりとなります。また、クレジットカード
 会社発行の利用明細書も領収書としてご利用いただけ
 ます。\n【別途領収書発行が必要な方】\n別途発行手数
 料として1000円頂きます。必要な方は、以下のフォーム
 よりご申請ください。領収書発行手数料と受講料金を
 合算した金額で発行いたします。\n全人類がわかる統
 計学 領収書発行フォーム\n受付・入場時間\n開始の10分
 前から\n※なるべく5分前までにお入りください。\n※
 途中参加も可能です。\nポータルサイト会員登録のお
 願い\n全人類がわかる統計学では、ポータルサイトを
 使って講座で扱う教材を受講者の皆様に共有いたしま
 す。\n初めて全人類がわかる統計学の講座に参加され
 る方は、あらかじめこちらより会員登録をお願いいた
 します。\nお問い合わせ\n\nメールでのお問い合わせは
 、info@to-kei.net　までご連絡ください。\nこちらで⇨LINE
 ＠からもお問い合わせいただけます。（推奨）\n\n注意
 事項\n\nリクルーティング、勧誘、採用活動など、目的
 に沿わない行為につきまして、主催者が相応しくない
 と判断した場合は即刻退出処分とします。全員が気持
 ちよく過ごすことが出来るよう、ご協力をお願い致し
 ます。\n講座内で扱うコンテンツは全て「全人類がわ
 かる統計学」に帰属しています。複製はご遠慮くださ
 い。\n個人ブログへの講義コンテンツの掲載はご遠慮
 ください。\n最小遂行人数は「3名」です。開催日の前
 日までにこの人数に達しない場合は中止となります。
 ただし、複数の媒体で募集を行っているので、本サイ
 トの申込者数が最小遂行人数に達しない場合でも開催
 になる場合がございます。もし、中止が決定した場合
 はその時点で「全額返金」し、登録しているメールア
 ドレスにご連絡させていただきます。\n前払いの方で
 急遽参加できなくなってしまった場合は、動画(一部講
 座のみ)・資料配布またはキャンセルに応じます。連絡
 先のメールアドレスまたはLINE＠（推奨）にご連絡くだ
 さい。キャンセルの場合は、開催日の4日前までのご連
 絡に限り、払い戻し手数料を差し引いた金額を返金い
 たします。それ以降は返金には応じ兼ねますのでご了
 承ください。\n\n全人類がわかる統計学とは\n株式会社A
 VILENが運営するサービスです。統計学・機械学習の学
 習用サイト全人類がわかる統計学を運営、管理するほ
 か、社会人向けのAI人材やデータサイエンティスト育
 成のための教育事業を行なっております。\n統計学や
 機械学習を、出来るだけわかりやすく多くの人々に届
 けるということを目指して活動しています。\n
LOCATION:東銀座駅徒歩4分/銀座一丁目駅徒歩5分/宝町駅徒
 歩6分/銀座駅徒歩7分/有楽町駅徒歩11分 中央区銀座2-14-4
  銀座スクエア3階
URL:https://techplay.jp/event/764856?utm_medium=referral&utm_source=ics&utm
 _campaign=ics
END:VEVENT
END:VCALENDAR
