BEGIN:VCALENDAR
VERSION:2.0
PRODID:-//https://techplay.jp//JP
CALSCALE:GREGORIAN
METHOD:PUBLISH
X-WR-CALDESC:【初心者歓迎】機械学習のための数学入門【
 関数・数列編】
X-WR-CALNAME:【初心者歓迎】機械学習のための数学入門【
 関数・数列編】
X-WR-TIMEZONE:Asia/Tokyo
BEGIN:VTIMEZONE
TZID:Asia/Tokyo
BEGIN:STANDARD
DTSTART:19700101T000000
TZOFFSETFROM:+0900
TZOFFSETTO:+0900
TZNAME:JST
END:STANDARD
END:VTIMEZONE
BEGIN:VEVENT
UID:764863@techplay.jp
SUMMARY:【初心者歓迎】機械学習のための数学入門【関数
 ・数列編】
DTSTART;TZID=Asia/Tokyo:20200119T190000
DTEND;TZID=Asia/Tokyo:20200119T220000
DTSTAMP:20260424T003114Z
CREATED:20191225T043550Z
DESCRIPTION:イベント詳細はこちら\nhttps://techplay.jp/event/76486
 3?utm_medium=referral&utm_source=ics&utm_campaign=ics\n\nセミナール
 ーム移転のお知らせ\nこの度、秋葉原駅前から下記住
 所へセミナールームを移転いたします。\nお越しにな
 る際はくれぐれもお間違いのないようご注意ください
 。\n移転先住所：中央区銀座2-14-4 銀座スクエア3階\n【
 東京メトロ日比谷線】東銀座駅徒歩4分\n【東京メトロ
 有楽町線】銀座一丁目駅徒歩5分\n【都営浅草線】宝町
 駅徒歩6分\n【東京メトロ銀座線】銀座駅徒歩7分\n【JR
 山手線】有楽町駅徒歩11分\n概要\n機械学習の理論を学
 ぶ上で、数学の基礎的な知識は欠かせません。そこで
 、機械学習を理解することに特化した数学基礎講座を
 開講いたします。\n講義内では深層学習の本などでは
 当たり前のように出てくる概念や記号に的を絞ってわ
 かりやすく解説いたします。具体的には、関数・微分
 ・Σ・多変数関数・勾配降下法による最適化などが取
 り扱い内容です。\n「機械学習にこれから挑戦したい
 方」「一度勉強しようとしたが、数学的なところでつ
 まずいて、先に進めなかった方」などに、これから学
 習を進めていくきっかけとして非常にオススメな内容
 となっております。\n※基本的な計算能力（中学レベ
 ル）は本講座を受講するための前提知識とさせていた
 だきます。\n講座を通じて得られること\n・機械学習に
 使われている数学的な基礎知識の習得\n・関数・微分
 ・Σ・多変数関数・勾配降下法への理解\nカリキュラム
 \n関数編\n関数とは\n関数の基本性質\n１変数関数\n多変
 数関数\n添え字付きの数（数列）\nΣ演算\n※各項目に
 は演習問題を用意しておりますので、ノートとペンを
 ご用意ください。\n※当日予告なく時間配分・内容が
 変更になる可能性がございます。\n講座一覧のフロー
 チャート\nどの講座から受講したら良いのかわからな
 いというような方は、下記のフローチャートを参考に
 していただければと思います。\n\n持ち物\n・パソコン
 やタブレットなど講義資料（PDF）を閲覧するのに適し
 たデバイス\n・ノートとペン（演習問題を多数用意し
 ております。）\nこんな人にオススメ\n・これから機械
 学習・ディープラーニングの動作メカニズムを理解し
 たい方\n・数学的な基礎知識を身に付けたい方\n講師\n
 阿部祐大\n時系列データの強化学習によるモデル化の
 研究に従事。統計学、数理論理学などに精通。プログ
 ラミング言語論にも興味があり、手続き型言語、関数
 型言語、定理証明型言語を触った経験がある。\n\n領収
 書について\n【Stripeで事前決済の方】\nクレジットカー
 ド会社が発行する明細を領収書の代わりとしてご利用
 ください。\n【Paypalの方】\n決済処理後にPaypalから送付
 されるメール内容、またはPaypalの取引履歴から該当項
 目を確認の上、「詳細」をご覧ください。それらが領
 収書の代わりとなります。また、クレジットカード会
 社発行の利用明細書も領収書としてご利用いただけま
 す。\n【別途領収書発行が必要な方】\n別途発行手数料
 として1000円頂きます。必要な方は、以下のフォームよ
 りご申請ください。領収書発行手数料と受講料金を合
 算した金額で発行いたします。\n全人類がわかる統計
 学 領収書発行フォーム\n受付・入場時間\n開始の10分前
 から\n※なるべく5分前までにお入りください。\n※途
 中参加も可能です。\nポータルサイト会員登録のお願
 い\n全人類がわかる統計学では、ポータルサイトを使
 って講座で扱う教材を受講者の皆様に共有いたします
 。\n初めて全人類がわかる統計学の講座に参加される
 方は、あらかじめこちらより会員登録をお願いいたし
 ます。\nお問い合わせ\n・メールでのお問い合わせは、
 info@to-kei.net　までご連絡ください。\n・こちらで⇨LINE
 ＠からもお問い合わせいただけます。（推奨）\n注意
 事項\n・リクルーティング、勧誘、採用活動など、目
 的に沿わない行為につきまして、主催者が相応しくな
 いと判断した場合は即刻退出処分とします。全員が気
 持ちよく過ごすことが出来るよう、ご協力をお願い致
 します。\n・講座内で扱うコンテンツは全て「全人類
 がわかる統計学」に帰属しています。複製はご遠慮く
 ださい。\n・個人ブログへの講義コンテンツの掲載は
 ご遠慮ください。\n・最小遂行人数は「3名」です。開
 催日の前日までにこの人数に達しない場合は中止とな
 ります。ただし、複数の媒体で募集を行っているので
 、本サイトの申込者数が最小遂行人数に達しない場合
 でも開催になる場合がございます。もし、中止が決定
 した場合はその時点で「全額返金」し、登録している
 メールアドレスにご連絡させていただきます。\n・前
 払いの方で急遽参加できなくなってしまった場合は、
 動画(一部講座のみ)・資料配布またはキャンセルに応
 じます。連絡先のメールアドレスまたはLINE＠（推奨）
 にご連絡ください。キャンセルの場合は、開催日の4日
 前までのご連絡に限り、払い戻し手数料を差し引いた
 金額を返金いたします。それ以降は返金には応じ兼ね
 ますのでご了承ください。\n全人類がわかる統計学と
 は\n株式会社AVILENが運営するサービスです。統計学・
 機械学習の学習用サイト全人類がわかる統計学を運営
 、管理するほか、社会人向けのAI人材やデータサイエ
 ンティスト育成のための教育事業を行なっております
 。\n統計学や機械学習を、出来るだけわかりやすく多
 くの人々に届けるということを目指して活動していま
 す。\n
LOCATION:東銀座駅徒歩4分/銀座一丁目駅徒歩5分/宝町駅徒
 歩6分/銀座駅徒歩7分/有楽町駅徒歩11分 中央区銀座2-14-4
  銀座スクエア3階
URL:https://techplay.jp/event/764863?utm_medium=referral&utm_source=ics&utm
 _campaign=ics
END:VEVENT
END:VCALENDAR
