BEGIN:VCALENDAR
VERSION:2.0
PRODID:-//https://techplay.jp//JP
CALSCALE:GREGORIAN
METHOD:PUBLISH
X-WR-CALDESC:【統計検定準1級合格レベル】統計学中級編〜
 分散分析と実験計画法〜
X-WR-CALNAME:【統計検定準1級合格レベル】統計学中級編〜
 分散分析と実験計画法〜
X-WR-TIMEZONE:Asia/Tokyo
BEGIN:VTIMEZONE
TZID:Asia/Tokyo
BEGIN:STANDARD
DTSTART:19700101T000000
TZOFFSETFROM:+0900
TZOFFSETTO:+0900
TZNAME:JST
END:STANDARD
END:VTIMEZONE
BEGIN:VEVENT
UID:764920@techplay.jp
SUMMARY:【統計検定準1級合格レベル】統計学中級編〜分散
 分析と実験計画法〜
DTSTART;TZID=Asia/Tokyo:20200126T190000
DTEND;TZID=Asia/Tokyo:20200126T213000
DTSTAMP:20260424T175904Z
CREATED:20191225T100143Z
DESCRIPTION:イベント詳細はこちら\nhttps://techplay.jp/event/76492
 0?utm_medium=referral&utm_source=ics&utm_campaign=ics\n\nセミナール
 ーム移転のお知らせ\nこの度、秋葉原駅前から下記住
 所へセミナールームを移転いたします。\nお越しにな
 る際はくれぐれもお間違いのないようご注意ください
 。\n移転先住所：中央区銀座2-14-4 銀座スクエア3階\n【
 東京メトロ日比谷線】東銀座駅徒歩4分\n【東京メトロ
 有楽町線】銀座一丁目駅徒歩5分\n【都営浅草線】宝町
 駅徒歩6分\n【東京メトロ銀座線】銀座駅徒歩7分\n【JR
 山手線】有楽町駅徒歩11分\n概要\n本講座は、実際のデ
 ータ分析の現場でも活躍する手法である分散分析や実
 験計画法の理論について取り扱います。\n統計検定2級
 レベルでは、2標本の平均値に差があるかどうかの検定
 を行う場合、「t検定」と呼ばれる手法を使用しました
 。\nでは、3標本以上のカテゴリーについてはどうすれ
 ば良いでしょうか？\nそこで使用する手法が、本講座
 で取り扱う「分散分析」です。これを用いると、例え
 ば３種類以上の薬を比較し、病気への効果の程度を調
 べることができます。\nさらに、「実験計画法」を使
 えば、分散分析の実験回数を劇的に効率化することが
 可能です。\n統計検定準１級では、2級で問われないレ
 ベルで数理面の厳密な理解を求められます。\n是非こ
 の機会を利用して理解を深めるとともに、これまで対
 応できなかった場面でも活用できる手法を取得しまし
 ょう！\n\n【本講座の内容をしっかり理解するための必
 須条件】\n\n統計検定2級取得者\n統計学、機械学習への
 理解\n\n【関連講座】\n中級1：統計学入門【確率変数・
 確率分布・ベイズ編】（統計検定2級合格レベル）\n【
 以下4講座は2月以降に再開講予定です】\n初級：統計学
 超入門【超基礎編】（ゼロ〜統計検定3級合格レベルま
 で）\n中級2：統計学入門【推定・仮説検定編】（統計
 検定2級合格レベル）\n中級3：統計学入門【回帰・分割
 表解析・分散分析編】（統計検定2級合格レベル）\n演
 習：統計学入門【徹底演習編】（統計検定2級合格レベ
 ル）\n※中級は初級までの知識を前提とします。\n※中
 級1~3は対象とする分野が異なるだけで、レベル差はあ
 りません。\n\n※中級は初級までの知識を前提とします
 。\n※中級1~3は対象とする分野が異なるだけで、レベ
 ル差はありません。\nカリキュラム\n【統計検定準1級
 合格レベル】統計学中級編〜分散分析と実験計画法〜\
 n\n二元配置分散分析\nフィッシャーの3原則\n完全無作
 為化法と乱塊法\n直交表実験\n\n※ それぞれの項目に演
 習問題を用意しておりますので、理解度を確認しなが
 ら受講できます。\nこの講座を通じて得られること\n\n
 分散分析への理解\n実験計画法への理解\n実データ解析
 手法への知見\n\n講座一覧のフローチャート\nどの講座
 から受講したら良いのかわからないというような方は
 、下記のフローチャートを参考にしていただければと
 思います。\n\n持ち物\n\npdfの資料を閲覧するためのデ
 バイス（ノートPC、タブレットなど）\nルートの計算が
 できるデバイス（ノートPC、スマホ、電卓など）\n筆記
 用具（演習問題を用意しております。）\n※ 資料をお
 手元でも確認できるよう、当日は資料をデータとして
 配布いたします。\n\nこんな人にオススメ\n\n統計検定
 準1級の合格を目指している方\n統計検定1級も見据えた
 学習を行いたい方\n\n講師\n德永備久\n大学にて、数理
 統計学を専攻。現在は中央大学大学院にて時系列解析
 に関する研究に従事。日常的にデータを収集し考察す
 ることを趣味としている。\n\n領収書について\n【Stripe
 で事前決済の方】\nクレジットカード会社が発行する
 明細を領収書の代わりとしてご利用ください。\n【Paypa
 lの方】\n決済処理後にPaypalから送付されるメール内容
 、またはPaypalの取引履歴から該当項目を確認の上、「
 詳細」をご覧ください。それらが領収書の代わりとな
 ります。また、クレジットカード会社発行の利用明細
 書も領収書としてご利用いただけます。\n【別途領収
 書発行が必要な方】\n別途発行手数料として1000円頂き
 ます。必要な方は、以下のフォームよりご申請くださ
 い。領収書発行手数料と受講料金を合算した金額で発
 行いたします。\n全人類がわかる統計学 領収書発行フ
 ォーム\n受付・入場時間\n開始の10分前から\nポータル
 サイト会員登録のお願い\n全人類がわかる統計学では
 、ポータルサイトを使って講座で扱う教材を受講者の
 皆様に共有いたします。\n初めて全人類がわかる統計
 学の講座に参加される方は、あらかじめこちらより会
 員登録をお願いいたします。\nお問い合わせ\n・メール
 でのお問い合わせは、info@to-kei.net　までご連絡くださ
 い。\n・こちらで⇨LINE＠からもお問い合わせいただけ
 ます。（推奨）\nお申し込みにあたっての注意事項\n・
 講義コンテンツは全て「全人類がわかる統計学」に帰
 属していますので、複・リクルーティング、勧誘、採
 用活動など、目的に沿わない行為につきまして、主催
 者が相応しくないと判断した場合は即刻退出処分とし
 ます。全員が気持ちよく過ごすことが出来るよう、ご
 協力をお願い致します。\n・講座内で扱うコンテンツ
 は全て「全人類がわかる統計学」に帰属しています。
 複製はご遠慮ください。\n・個人ブログへの講義コン
 テンツの掲載はご遠慮ください。\n・最小遂行人数は
 「3名」です。開催日の前日までにこの人数に達しない
 場合は中止となります。ただし、複数の媒体で募集を
 行っているので、本サイトの申込者数が最小遂行人数
 に達しない場合でも開催になる場合がございます。も
 し、中止が決定した場合はその時点で登録しているメ
 ールアドレスにご連絡させていただきます。\n・前払
 いの方で急遽参加できなくなってしまった場合は、動
 画(一部講座のみ)・資料配布またはキャンセルに応じ
 ます。連絡先のメールアドレスまたはLINE＠（推奨）に
 ご連絡ください。キャンセルの場合は、開催日の4日前
 までのご連絡に限り、払い戻し手数料を差し引いた金
 額を返金いたします。それ以降は返金には応じ兼ねま
 すのでご了承ください。\n全人類がわかる統計学とは\n
 株式会社AVILENが運営するサービスです。統計学・機械
 学習の学習用サイト全人類がわかる統計学を運営、管
 理するほか、社会人向けのAI人材やデータサイエンテ
 ィスト育成のための教育事業を行なっております。\n
 統計学や機械学習を、出来るだけわかりやすく多くの
 人々に届けるということを目指して活動しています。\
 n
LOCATION:東銀座駅徒歩4分/銀座一丁目駅徒歩5分/宝町駅徒
 歩6分/銀座駅徒歩7分/有楽町駅徒歩11分 中央区銀座2-14-4
  銀座スクエア3階
URL:https://techplay.jp/event/764920?utm_medium=referral&utm_source=ics&utm
 _campaign=ics
END:VEVENT
END:VCALENDAR
