BEGIN:VCALENDAR
VERSION:2.0
PRODID:-//https://techplay.jp//JP
CALSCALE:GREGORIAN
METHOD:PUBLISH
X-WR-CALDESC:【好評につき増席☆】SDGsが学べるボードゲー
 ムを用いたワークショップ
X-WR-CALNAME:【好評につき増席☆】SDGsが学べるボードゲー
 ムを用いたワークショップ
X-WR-TIMEZONE:Asia/Tokyo
BEGIN:VTIMEZONE
TZID:Asia/Tokyo
BEGIN:STANDARD
DTSTART:19700101T000000
TZOFFSETFROM:+0900
TZOFFSETTO:+0900
TZNAME:JST
END:STANDARD
END:VTIMEZONE
BEGIN:VEVENT
UID:765232@techplay.jp
SUMMARY:【好評につき増席☆】SDGsが学べるボードゲームを
 用いたワークショップ
DTSTART;TZID=Asia/Tokyo:20200124T193000
DTEND;TZID=Asia/Tokyo:20200124T220000
DTSTAMP:20260419T211535Z
CREATED:20191227T093335Z
DESCRIPTION:イベント詳細はこちら\nhttps://techplay.jp/event/76523
 2?utm_medium=referral&utm_source=ics&utm_campaign=ics\n\n【好評につ
 き増席☆】SDGsが学べるボードゲームを用いたワークシ
 ョップ\n\nイベント内容\n毎回好評頂き累計200名以上に
 参加頂いている未来技術推進協会主催の「SDGsが学べる
 ワークショップ」は、当協会が提供する企業研修のダ
 イジェスト版となっており、学生から社会人まで楽し
 くSDGsを学べる内容です。\nSDGsの事例にはTech（未来技
 術）の要素も満載です！\nボードゲームのルールも大
 幅にリニューアルし、より現実に即した内容となって
 います！！\n当日は大きく3つのコンテンツを実施しま
 す。\n（1）SDGsのインプット\nSDGsの概要やコンセプトに
 ついて説明します。\n（2）協会オリジナルボードゲー
 ム\nボードゲームを使って、SDGs達成に向けて楽しみな
 がら学びましょう！\n資金やSDGsの達成状況等実社会に
 沿った条件を取り入れいるため、リアルな体験ができ
 ます。\n（3）リフレクション(振り返り)\nゲームの結果
 や気付きの共有、現実社会とのギャップ等を振り返り
 ます。\n本イベントはこんな方にオススメ\n・SDGsに関
 する教育や研修にご関心のある人事や役員クラスの方\
 n・SDGsや社会課題に関連する仕事をされている方\n・未
 来技術推進協会やボードゲームに興味をお持ちいただ
 いた方\nどなたでも最大限楽しめる内容になっており
 、メインのイベントだけでなく懇親会へのご参加もお
 待ちしております！！\nSDGsワークショップや懇親会で
 の交流から、「自分も何か行動したい！」という想い
 を持った方同士で、将来に繋がる仲間がきっと見つか
 ります！\n##本イベントはこんな方にオススメ\n・世界
 のトレンドに置いていかれたくない方\n・社会課題に
 興味があり、事例を学びたい方\n・研修や教育へSDGsの
 活用を考えている方\n・SDGsを具体的な活動に落とし込
 みたい方\n##SDGsとは\nSustainable Development Goals（持続可能
 な開発目標）の略称で、国連が2015年に採択した、持続
 可能な世界を目指すための全世界共通のゴールのこと
 です。\nこの達成には一人一人が意識し行動すること
 が求められているが、まだまだ認知度が低く、協会も
 認知拡大やテクノロジーによる解決に向けた活動に力
 を入れています。\n\nタイムスケジュール\n\n\n\n時間\n
 内容\n\n\n\n\n19:20〜\n受付開始\n\n\n19:30〜\nSDGsの振り返り
 \n\n\n19:40〜\nボードゲーム\n\n\n21:15〜\n振り返り\n\n\n21:30
 〜\n懇親会\n\n\n21:50\n終了\n\n\n\n※ 当日予告なく時間配
 分・内容が変更になる可能性がございます。\n会場\nDMM
 .make AKIBA \n東京都千代田区神田練塀町3番地 富士ソフト
 秋葉原ビル 12階\n※4階の受付にお越しください。\n日
 時\n2020/1/24（金）\n19:30 〜 22:00 (予定)\n定員\n15名\n持ち
 物\n名刺1枚\n※ 受付時にお渡し下さい。\n参加費\n当日
 払い：3000円\n\nお申し込み\n本サイトよりお申し込みく
 ださい。\nお問い合わせ\n一般社団法人\n未来技術推進
 協会\n代表理事　中村\nTel：090-5441-7186\n事前アンケート
 内容\nお名前\nメールアドレス\n所属\n電子領収書の要
 否\nこのイベントに期待する事\n
LOCATION:DMM.make AKIBA 東京都千代田区神田練塀町3番地 富士
 ソフト秋葉原ビル 12階
URL:https://techplay.jp/event/765232?utm_medium=referral&utm_source=ics&utm
 _campaign=ics
END:VEVENT
END:VCALENDAR
