BEGIN:VCALENDAR
VERSION:2.0
PRODID:-//https://techplay.jp//JP
CALSCALE:GREGORIAN
METHOD:PUBLISH
X-WR-CALDESC:第648回マーケティング領域の最新動向とAIの活
 用を議論する会(ゲスト:井上裕介さん)
X-WR-CALNAME:第648回マーケティング領域の最新動向とAIの活
 用を議論する会(ゲスト:井上裕介さん)
X-WR-TIMEZONE:Asia/Tokyo
BEGIN:VTIMEZONE
TZID:Asia/Tokyo
BEGIN:STANDARD
DTSTART:19700101T000000
TZOFFSETFROM:+0900
TZOFFSETTO:+0900
TZNAME:JST
END:STANDARD
END:VTIMEZONE
BEGIN:VEVENT
UID:765887@techplay.jp
SUMMARY:第648回マーケティング領域の最新動向とAIの活用
 を議論する会(ゲスト:井上裕介さん)
DTSTART;TZID=Asia/Tokyo:20200114T193000
DTEND;TZID=Asia/Tokyo:20200114T213000
DTSTAMP:20260423T140227Z
CREATED:20200106T061237Z
DESCRIPTION:イベント詳細はこちら\nhttps://techplay.jp/event/76588
 7?utm_medium=referral&utm_source=ics&utm_campaign=ics\n\nこんにちは
 ！ Team AI代表 石井大輔です。\n今では主流になったマ
 ーケティング領域でのAI活用。\nユーザー行動解析や広
 告配信の最適化など、\n特にビッグデータを扱える醍
 醐味があるのが魅力ですよね。\nRental CMOとして活躍し
 、各業界のあらゆるマーケティング事例に精通した井
 上裕介さんを迎えて、トークショーとQ&A形式でお送り
 いたします。\n\nB2B Marketing\nB2C Marketing\nAd Tech\nContents Mar
 keting\nCase Study in Silicon Valley\nVideo Marketing\nE-Commerce Marketi
 ng\nAccount Based Marketing\nGrowth Hacking\nMarketing for Big Enterprise
 \nMarketing for Small Medium Business\nSelf-Branding\nFuture of marketing
 \nData Privacy & marketing\nGDPR and legal issues\n\nゲスト：井上
 裕介\n1980年岡山県出身。青山学院大学大学院MBA卒。\n
 音楽レーベル兼アーティ ストマネジメント会社を起業
 。COOとして年間売上1.2億円規模に成長させる。\n2015年
 より株式会社ウフルでデジタルマーケティングコンサ
 ルタント。\n2017年より株式会社グルコースでメディア
 コンサルティング、ウェブサービス開発事業で事業開
 発 プロジェクトマネージャー。\nムエタイのチャンピ
 ョンタイトルを持ち、自身のクラフトビールKOBUSHI BEER
 もプロデュースするマルチタレント。\n◇得意分野\n事
 業開発、業務コンサルティング、ビジネスアナリシス 
 デジタルマーケティング(コンテンツマーケティング/
 ソーシャルメディア/CRM) プロジェクトマネジメント(PMI
 (R)\n==========================================================\nFee:\n
 ワンドリンク (アルコール・ノンアルコール何でもあ
 ります)お願いします。\n1杯目のみ1000円、2杯目から400-
 600円程度。\nイベント自体は無料です。\n==================
 ========================================\n場所について：\nKOBUSHI 
 BEER Bar & Co-Working in Shibuya Dogenzaka\nhttps://kobushi.beer/bar\n===
 =======================================================\nContact:\nPlease
  contact\ndai@jenio.co\nor 08063062223\n質問がある方や、迷子に
 なったという方は、\ndai@jenio.co\nにご連絡ください。\n=
 =========================================================\n主催 ： 100
 万人の機械学習コミュニティを東京に創る Team AI\nhttp:/
 /www.team-ai.com/\n機械学習に特化した勉強会・人材紹介・
 受託開発の会社です。\n代表 ： 石井 大輔\n経歴；\nhttp
 s://www.ishiid.com\nhttp://www.jenio.co/\n株式会社ジェニオ代表
 取締役 1975年岡山県生まれ。\n京都大学で数学を専攻。
 伊藤忠商事でファッションの知的財産を使用した事業
 開発を担当。 ロンドン、ミラノでの駐在を経て、2011
 年ジェニオを創業。2016年機械学習研究会コミュニティ
 Team AIを開始。\n翔泳社より"機械学習エンジニアになり
 たい人への本"発売しました！\nhttps://amzn.to/2MSWSqV\n======
 ===============================================\n(2019/1/5更新)
LOCATION:KOBUSHI BEER LOUNGE & BAR 東京都渋谷区道玄坂2丁目17-2
 （トップ美奄 2Ｆ）
URL:https://techplay.jp/event/765887?utm_medium=referral&utm_source=ics&utm
 _campaign=ics
END:VEVENT
END:VCALENDAR
