BEGIN:VCALENDAR
VERSION:2.0
PRODID:-//https://techplay.jp//JP
CALSCALE:GREGORIAN
METHOD:PUBLISH
X-WR-CALDESC:Linux コツコツ勉強会9
X-WR-CALNAME:Linux コツコツ勉強会9
X-WR-TIMEZONE:Asia/Tokyo
BEGIN:VTIMEZONE
TZID:Asia/Tokyo
BEGIN:STANDARD
DTSTART:19700101T000000
TZOFFSETFROM:+0900
TZOFFSETTO:+0900
TZNAME:JST
END:STANDARD
END:VTIMEZONE
BEGIN:VEVENT
UID:766003@techplay.jp
SUMMARY:Linux コツコツ勉強会9
DTSTART;TZID=Asia/Tokyo:20200110T190000
DTEND;TZID=Asia/Tokyo:20200110T210000
DTSTAMP:20260422T002549Z
CREATED:20200106T230449Z
DESCRIPTION:イベント詳細はこちら\nhttps://techplay.jp/event/76600
 3?utm_medium=referral&utm_source=ics&utm_campaign=ics\n\nLinux コツコ
 ツ勉強会9\n\nこんにちは！当イベントの説明を致しま
 す。\n\n２～３週間に一度不定期にICCで開催される勉強
 会です。\n基本的にはもくもく会なのですが、今回は
 趣向を変えて、セッション形式で発表会のスタイルと
 します。\nLTの枠を1名分設けておりますので、この集
 まりの気になる方、飛び込みで参加お待ちしておりま
 す！(20:50-21:00で10分確保してます) 是非初顔合わせ同士
 仲良くなりましょう。\n\n当勉強会のコンセプトとして
 は、初心者へのITの教育がテーマとなっております。\n
 教育的な知見を得たい方や、ITを学びたい方、参加お
 待ちしています。\n\nスケジュール\n\n\n\n時刻\n発表者\n
 内容\n\n\n\n\n19:00\n\n東札幌の現地集合です。場所はサイ
 ゼリアの前にて待ちますのでご心配なく。\n\n\n19:10 - 19
 :30\nかず\nセッション1前回の続き「Go言語について」２
 週間の間Go言語を導入して新規サービスの立ち上げに
 着手しました。今回はその作業の進捗報告と、Go言語
 の教育にふさわしい資料を見つけましたので、そちら
 を使って、みんなでGo言語の基礎に触れたいと思いま
 す\n\n\n19:30 - 19:50\nAdachi Junichi\nセッション2 「過去に開
 発したプログラムについて」動作を交えてご紹介いた
 だきます。\n\n\n19:50 - 20:00\n\n休憩\n\n\n20:00 - 20:30\n\nグル
 ープディスカッション セッション１とセッション２で
 紹介した題材について、更に議論を深める内容として
 、質疑応答の場と致します。\n\n\n20:30 - 20:40\nramichan\n英
 会話教室\n\n\n20:40 - 20:50\n\n次回の日程調整 後片付け\n\n
 \n21:00\n\n解散です。時間厳守ではありません。時間に
 余裕がある方は、のんびり談笑されてみてはいかがで
 しょうか。お疲れさまでした！\n\n\n
LOCATION:ラソラ　サイゼリア 北海道札幌市白石区東札幌3
 条1-1-1　 ラソラ札幌 1F
URL:https://techplay.jp/event/766003?utm_medium=referral&utm_source=ics&utm
 _campaign=ics
END:VEVENT
END:VCALENDAR
