BEGIN:VCALENDAR
VERSION:2.0
PRODID:-//https://techplay.jp//JP
CALSCALE:GREGORIAN
METHOD:PUBLISH
X-WR-CALDESC:【オンライン配信での開催と変更になりまし
 た】「店舗×テクノロジー」- sight update session エンジニ
 アへのラブコール -
X-WR-CALNAME:【オンライン配信での開催と変更になりまし
 た】「店舗×テクノロジー」- sight update session エンジニ
 アへのラブコール -
X-WR-TIMEZONE:Asia/Tokyo
BEGIN:VTIMEZONE
TZID:Asia/Tokyo
BEGIN:STANDARD
DTSTART:19700101T000000
TZOFFSETFROM:+0900
TZOFFSETTO:+0900
TZNAME:JST
END:STANDARD
END:VTIMEZONE
BEGIN:VEVENT
UID:766561@techplay.jp
SUMMARY:【オンライン配信での開催と変更になりました】
 「店舗×テクノロジー」- sight update session エンジニアへ
 のラブコール -
DTSTART;TZID=Asia/Tokyo:20200221T193000
DTEND;TZID=Asia/Tokyo:20200221T220000
DTSTAMP:20260419T233239Z
CREATED:20200110T025859Z
DESCRIPTION:イベント詳細はこちら\nhttps://techplay.jp/event/76656
 1?utm_medium=referral&utm_source=ics&utm_campaign=ics\n\n【オンライ
 ン配信での開催へ変更となりました！】「店舗×テク
 ノロジー」- sight update session エンジニアへのラブコー
 ル -\n概要\nエンジニア向けに、音楽・ファッション・
 アート・食など、これからエンジニアが活躍すること
 が期待される業界の第一線で活躍するトップランナー
 をお招きしてトークショーを行う「sight update session」
 。\n\n第8弾は「店鋪×テクノロジー」として、福岡発全
 国250店舗を有する「トライアル」のトライアルのIT基
 盤を支える、株式会社ティー・アール・イーの古賀輝
 幸氏と伊勢の老舗食堂『ゑびや』小田島春樹氏に登壇
 いただき、地方でテクノロジーを活用して売り上げを
 伸ばしているその実態に迫っていきます。\n\n株式会社
 トライアルホールディングスは、福岡を本社に全国約2
 50店舗拠点を構える小売店で、売上高は3000億円。顧客
 体験を最高のものとすべく、2018年にはスマートストア
 を福岡でオープンしました。カメラや、バーコードを
 かざすだけて決済ができるカートを開発し、デジタル
 トランスフォーメーションの自前で行なっている挑戦
 し続けています。小売でありながら、しかも地方本社
 でありながら、東京でも追いつかないスピードでテク
 ノロジーを活かした挑戦をしている会社で、注目すべ
 きは全て内製で開発しているところです。ハードから
 、ソフトから、分析基盤を外注ではなく、テクノロジ
 ー組織を子会社につくり、そこで自前で回しているト
 ライアルの勢いを体感ください。\n\nまた、伊勢の老舗
 食堂『ゑびや』は、三重県伊勢市で商店（土産物店）
 や和食堂・屋台などの商業施設を営む創業100年の老舗
 。代表小田島春樹氏は、カメラやAI、データ分析によ
 る「予測的中率90％超」という来客予測ソリューショ
 ンを自社で開発。導入前後で売上4倍、利益率10倍、平
 均給与5万アップという実績をだしている。そのノウハ
 ウをプロダク化し、「Touch Point BI」という来客予測・
 マーケティング効果測定ツールをリテール店舗経営変
 革のビジネスツールとしての提供も開始している。自
 らテクノロジーを学びながら、組織やプロダクトも生
 み出していくための秘訣にも触れていきたい思います
 。\n\nテクノロジーで小売はどう変わるのか、店舗革命
 を起こしてきた2社に伺っていきます。登壇者からのエ
 ンジニアへのエールやラブコールをたっぷり受け取っ
 て下さい！！\n\n（企画：株式会社HEART CATCH）\nタイム
 スケジュール\n\n\n\n時間\n内容\n\n\n19:30〜19:40\nオープニ
 ング\n\n\n19:40〜20:30\nトークセッション１「店舗×テク
 ノロジー」\n\n\n20:30〜20:40\n休憩\n\n\n20:40〜21:20\nトーク
 セッション２「会場からの質問にお答えします！」\n\n
 \n\n※ 当日予告なく時間配分・内容が変更になる可能
 性がございます。\n登壇者\n\n\n\n\n小田島 春樹\n株式会
 社EBILAB　代表取締役 CEO\n1985年、北海道生まれ。大学で
 はマーケティングと会計を専攻。 大学卒業後、ソフト
 バンクに入社し組織人事や営業企画を担当。2012年、妻
 の実家が営む「ゑびや」に入社し、店長、専務を経て
 、有限会社ゑびやと株式会社EBILABの代表取締役を務め
 る。地域の課題解決をテーマに三重大学地域イノベー
 ション学研究科の博士課程を単位取得退学したが、引
 続き論文を執筆中。\n\n\n\n\n\n古賀 輝幸\nトライアルグ
 ループ 株式会社ティー・アール・イー CEO\n学校卒業後
 に株式会社ティー・アール・イーに入社し、流通業務
 向けシステム開発を行う。２００４年より中国でのシ
 ステム子会社立ち上げに参画。その後福岡本社に戻り
 小売に関わる。昨年より同社の社長に就任し、レジカ
 ートやＡＩカメラなど店舗をスマート化するリテールA
 Iのビジネスに取り組む。\n\n\n参加対象\n・エンジニア\
 n※ リクルーティング、勧誘など、採用目的でのイベ
 ント参加はお断りしております。 ※ 飲食のみを目的
 としたご応募・ご来場はご遠慮ください。 ※ 補欠者
 の方は、ご来場いただいてもご入場いただくことが出
 来ませんのでご了承ください。\n持ち物\n・名刺１枚（
 ※受付時にお出しください。）\n参加費\n無料\nハッシ
 ュタグ\n#sight\n「sight」とは\n転職サービス「doda」とシ
 ステムインテグレーター「Ｓｋｙ」と「TECH PLAY」がと
 もにエンジニアのキャリアを支援するプロジェクト「P
 ROJECT Next TECH」の一貫として運営しているWebマガジンで
 す。IT業界の著名人へのインタビューコンテンツや、
 話題の技術をわかりやすく紹介するマンガ記事、その
 道のプロフェッショナルを招いたトークセッションや
 、プロジェクトマネジメントを実践的に身につけるワ
 ークショップ等を実施していきます。\n「sight update sess
 ion」 開催スケジュール\n\n\n\n日程\nテーマ\nゲスト\nイ
 ベントレポート掲載ページ\n\n\n2019/11/07(木)\nライブパ
 フォーマンス\nMIKIKO × 真鍋 大度\nイベントレポートを
 読む\n\n\n2019/12/19(木)\n音楽\n亀田 誠治 × 及川 卓也\nイ
 ベントレポートを読む\n\n\n2019/12/20(金)\nアニメ\n神山 
 健治 × 川島 優志\nイベントレポートを読む\n\n\n2020/01/2
 4(金)\nファッション・建築\n森永 邦彦 × 豊田 啓介\nイ
 ベントレポートを読む\n\n\n2020/01/30(木)\nメディア\n明石
  ガクト × 西村 真里子\nイベントレポートを読む\n\n\n20
 20/02/06(木)\nエンタメ\n朴 正義 × 土屋 敏男\nイベントレ
 ポートを読む\n\n\n2020/02/14(金)\nアート\n長谷川 愛 × 西
 村 真里子\nイベントレポートを読む\n\n\n2020/02/21(金)\n
 店舗\n小田島 春樹 × 古賀 輝幸\nイベントレポートを読
 む\n\n\n2020/02/28(金)\n宇宙\n佐渡島 庸平 × 高田 真一\nイ
 ベントレポートを読む\n\n\n2020/04/09(木)\n食\n石川 善樹 
 × 松嶋 啓介\nイベントレポートを読む\n\n\n2020/05/12(火)\
 n漫画\n千代田 まどか × 中村 伊知哉\nイベントレポー
 トを読む\n\n\n2020/06/23(火)\n量子コンピューター超感染
 症社会\n大関 真之 × 東 博暢\nイベントレポートを読む
 \n\n\n\n
LOCATION:オンライン
URL:https://techplay.jp/event/766561?utm_medium=referral&utm_source=ics&utm
 _campaign=ics
END:VEVENT
END:VCALENDAR
