BEGIN:VCALENDAR
VERSION:2.0
PRODID:-//https://techplay.jp//JP
CALSCALE:GREGORIAN
METHOD:PUBLISH
X-WR-CALDESC:【東京】ドローン×ミートアップ☆ファンミー
 ティング☆
X-WR-CALNAME:【東京】ドローン×ミートアップ☆ファンミー
 ティング☆
X-WR-TIMEZONE:Asia/Tokyo
BEGIN:VTIMEZONE
TZID:Asia/Tokyo
BEGIN:STANDARD
DTSTART:19700101T000000
TZOFFSETFROM:+0900
TZOFFSETTO:+0900
TZNAME:JST
END:STANDARD
END:VTIMEZONE
BEGIN:VEVENT
UID:766800@techplay.jp
SUMMARY:【東京】ドローン×ミートアップ☆ファンミーテ
 ィング☆
DTSTART;TZID=Asia/Tokyo:20200119T193000
DTEND;TZID=Asia/Tokyo:20200119T214500
DTSTAMP:20260419T231223Z
CREATED:20200112T012740Z
DESCRIPTION:イベント詳細はこちら\nhttps://techplay.jp/event/76680
 0?utm_medium=referral&utm_source=ics&utm_campaign=ics\n\nドローン×
 ミートアップ\n☆ファンミーティング☆\nドローンを始
 めたい人へ☆ 知って、触れて、飛ばせる♪～\n概要\n
 女性限定でドローンの体験会＆懇親会を開催します♪\
 n私たちは全国にドローンの面白さを発信する女性チー
 ムです！\nドローンを全く知らない方でも大歓迎☆\n\n
 前回までの様子は、こちら♪\nhttp://drone-girls.com/reading/p
 ractice/\n \nテレビ朝日にも取り上げられました♪\n\n\n＊
 ☼＊――――＊☼＊――――＊☼＊\n\n内容：ミートア
 ップ（操縦体験）その後は懇親会をします\\(^o^)\n服装
 ：自由\n備考：\n・ドローンを購入予定の方は相談に乗
 ります！\n・練習風景撮影します♪\n・質問なんでも受
 付けます！\n\n参加対象\n・ドローンに触れた事がない
 方\n・興味はあるけど一人じゃ不安な方\n・コミュニテ
 ィで仲間を増やしたい方\n・ドローンを飛ばしてみた
 い方\n・購入に迷っている方\n・会社でドローンを扱う
 方\n\n※ リクルーティング、勧誘など、採用目的での
 イベント参加はお断りしております。 ※ 飲食のみを
 目的としたご応募・ご来場はご遠慮ください。 ※ 補
 欠者の方は、ご来場いただいてもご入場いただくこと
 が出来ませんのでご了承ください。 ※ 欠席される場
 合は、お手数ですが速やかにキャンセル処理をお願い
 致します。\n\nお問い合わせ\nイベントに関するお問い
 合わせはこちらからお願いします。
LOCATION:神保町 ※詳細は追ってご連絡致します※
URL:https://techplay.jp/event/766800?utm_medium=referral&utm_source=ics&utm
 _campaign=ics
END:VEVENT
END:VCALENDAR
