BEGIN:VCALENDAR
VERSION:2.0
PRODID:-//https://techplay.jp//JP
CALSCALE:GREGORIAN
METHOD:PUBLISH
X-WR-CALDESC:RSGTの参加報告会【札幌スクラムナイト】
X-WR-CALNAME:RSGTの参加報告会【札幌スクラムナイト】
X-WR-TIMEZONE:Asia/Tokyo
BEGIN:VTIMEZONE
TZID:Asia/Tokyo
BEGIN:STANDARD
DTSTART:19700101T000000
TZOFFSETFROM:+0900
TZOFFSETTO:+0900
TZNAME:JST
END:STANDARD
END:VTIMEZONE
BEGIN:VEVENT
UID:767092@techplay.jp
SUMMARY:RSGTの参加報告会【札幌スクラムナイト】
DTSTART;TZID=Asia/Tokyo:20200212T190000
DTEND;TZID=Asia/Tokyo:20200212T220000
DTSTAMP:20260422T162542Z
CREATED:20200114T140006Z
DESCRIPTION:イベント詳細はこちら\nhttps://techplay.jp/event/76709
 2?utm_medium=referral&utm_source=ics&utm_campaign=ics\n\n札幌でアジ
 ャイルやスクラムについて語れる場を！\n\n今回は日本
 一熱いスクラムのイベントであるRSGT（リージョナルス
 クラムギャザリング東京）の参加報告をしたいと思い
 ます。\nチケットが5分で完売というプラチナチケット
 の参加報告なのでぜひ参加ください。\n時間を長めに
 とって、お酒を飲みながら、ゆっくり話したいと思い
 ます。\n（早く帰る方はもちろん可能です）\n\nイベン
 ト内容\n\n下記のRSGTのセッションから参加者が面白い
 と思ったものを15分ずつくらいで発表します。\nhttps://c
 onfengine.com/regional-scrum-gathering-tokyo-2020/schedule\n\n発表者 
 （順不同）\n\n庄田さん\n\n\n[10min]・Yoh Nakamura - みなさ
 んのプロダクトバックログアイテムはOutcomeを生み出し
 ていますか？\n[10min]・Tadahiro Yasuda - 日本にJoy\,Incを創
 る！ぼくらのジョイインクジャーニー3年間の軌跡\n\n\n
 上戸鎖さん\n\n\n[15min]James Coplien - The Ten Bulls of the Scrum Pa
 tterns\n[15min]Michael Sahota - Lost in Translation: The Manager's Role i
 n Agile\n\n\n根本さん\n\n\n[10min]RSGT全体の話\n[10min]Takao Oyob
 e - Team-Based TEAM - 会社を越えるチーム -\n\n\n中野さん\n\n
 \n[10min]Mitsuyuki Shiiba - テックリードは未来の話をしよう
  (Tech Lead in Scrum)\n[10min]Ikuo Suyama - 見積りしないスクラ
 ム / NoEstimates Scrum\n\n\n日下部さん\n\n\n[10min]Kazuki Mori / Je
 an-Baptiste Vasseur / Kazunori Otani / Kenta Sasa - スクラムの理解
 を深めるスクラムショーワークショップ\n[10min]Woohyeok A
 aron Kim - 【元士官が語る】軍隊組織からみる、これか
 らのアジャイルのあり方\n[10min]OST：スタートアップで
 悩んでいること\n\n\n横山さん\n\n\n[10min]Mitsuo Hangai - 大
 企業の縦割り組織の中でProduct Discovery Teamを作ってサー
 ビスをリリース出来た話\n[10min]Kazutaka Matsusaki / 河野 彰
 範 - アジャイルな組織を創っていくには？地銀で取り
 組むアジャイルな組織創り\n\n\n※順不同、発表者は変
 わることがあります。\n\nイベント対象者\n\n\nスクラム
 を最近始めた方\nアジャイルやスクラムを勉強し始め
 た方\nスクラムの認定資格をお持ちの方\nアジャイル・
 スクラムを実践している方\n興味があるので他の方の
 話しを聞いてみたい方\n\n\n飲食について\n\nアルコール
 1本とソフトドリンクを用意します。\n飲食物の持ち込
 み可能です。必要であれば各自でお持ちください。\n(
 アルコール類も可です。節度のある適度な量でお願い
 します。)\n\n会場について\n\n札幌市中央区南10条西1丁
 目1番65号\n11.CONCEPT SPERARE BLD 5F メンバーズエッジ 札幌
 オフィス\n\n※1Fアパレル店舗内を通り、中央エレベー
 タより5Fへお越しください。19時以降、正面玄関が閉ま
 っている場合は裏口より出入りになるためご連絡下さ
 い。スタッフが迎えに行きます。
LOCATION:11.CONCEPT SPERARE BLD 5F メンバーズエッジ 札幌オフィ
 ス 北海道札幌市中央区南10条西1-1-65
URL:https://techplay.jp/event/767092?utm_medium=referral&utm_source=ics&utm
 _campaign=ics
END:VEVENT
END:VCALENDAR
