BEGIN:VCALENDAR
VERSION:2.0
PRODID:-//https://techplay.jp//JP
CALSCALE:GREGORIAN
METHOD:PUBLISH
X-WR-CALDESC:札幌オープンイノベーション勉強会 ＶＯＬ.７
 　北海道の宿がつくる★地域の新たなコミュニティー
X-WR-CALNAME:札幌オープンイノベーション勉強会 ＶＯＬ.７
 　北海道の宿がつくる★地域の新たなコミュニティー
X-WR-TIMEZONE:Asia/Tokyo
BEGIN:VTIMEZONE
TZID:Asia/Tokyo
BEGIN:STANDARD
DTSTART:19700101T000000
TZOFFSETFROM:+0900
TZOFFSETTO:+0900
TZNAME:JST
END:STANDARD
END:VTIMEZONE
BEGIN:VEVENT
UID:767269@techplay.jp
SUMMARY:札幌オープンイノベーション勉強会 ＶＯＬ.７　
 北海道の宿がつくる★地域の新たなコミュニティー
DTSTART;TZID=Asia/Tokyo:20200215T144000
DTEND;TZID=Asia/Tokyo:20200215T170000
DTSTAMP:20260421T050620Z
CREATED:20200115T062110Z
DESCRIPTION:イベント詳細はこちら\nhttps://techplay.jp/event/76726
 9?utm_medium=referral&utm_source=ics&utm_campaign=ics\n\n札幌オープ
 ンイノベーション勉強会　ＶＯＬ.7\n北海道の宿がつく
 る★地域の新たなコミュニティー\n \n北海道を舞台に
 、様々なジャンルで活躍する方をゲストに、地域の課
 題を考える札幌オープンイノベーション勉強会。7回目
 となる今回はフィールドが異なる道内3か所の宿事業者
 にお越しいただき、彼らの取り組む宿を活用した地域
 コミュニティーづくりについて考えます。\nなぜコミ
 ュニティーづくりを宿事業者が行うのか、いま取り組
 んでいる最新の動き、そして将来のビジョンなどを共
 有し、こうした場所に行きたい、開業したいと考えて
 いる若者などに情報提供し、地域で光る宿泊業の魅力
 をご紹介します。\n\n日　時\n2020年2月15日（土）\n\n\n\nt
 ime\ncontents\n\n\n\n\n14:00\n開場\n\n\n14:40-15:00\n開演・イント
 ロダクション\n\n\n15:00-15:50\nゲストトーク\n\n\n15:50-16:00\
 n休憩\n\n\n16:00-17:00\nパネルディスカッション\n\n\n17:00\n
 終演予定\n\n\n\n会　場\nNHK札幌放送局　スタジオ \n出　
 演\n出演のみなさんは、 札幌市や小樽市でゲストハウ
 スなどを運営する合同会社Staylink共同代表・柴田涼平
 さん（稚内市出身）。十勝シティデザインの創業者で
 、帯広市中心部のホテルヌプカをはじめ十勝全体を一
 つの観光圏としてつなぐ「まちやど」事業に取り組む
 柏尾哲哉さん（帯広市出身）。釧路市阿寒でゲストハ
 ウスコケコッコーを運営するほか、地域のクリエイタ
 ーらをつなぐ一般社団法人ドット道東やクスろ港など
 数多くのプロジェクトに参加している名塚ちひろさん
 （釧路市出身）の3名のみなさんです。\nさらに、世界
 中の都市再生を取り上げる雑誌「MEZZANINE」副編集長(株
 式会社アーキネティクス）で、NPO法人タブララサ(岡山
 県岡山市)理事としてまちづくりにも関わる河上直美さ
 ん（（岡山県岡山市）をファシリテーターとしてご登
 壇いただきます。\n＜コメンテーター＞ \n・柏尾哲哉
 （弁護士・ホテルヌプカ創業者）\n・柴田涼平（合同
 会社Staylink共同代表・ゲストハウスWaya）\n・名塚ちひ
 ろ（ゲストハウスコケコッコー代表・一般社団法人ド
 ット道東理事・クスろ副代表）\n＜ファシリテーター
 ＞ \n・河上直美（「MEZZANINE」副編集長・ＮＰＯ法人タ
 ブララサ理事）\n・瀬田宙大（NHK札幌放送局アナウン
 サー）\n\n\n\nその他\n\n当日はconnpassの受付番号をご準
 備下さい。\nイベントの様子はNHK札幌局の番組やHPなど
 で紹介する可能性があります。\n出演者の情報をほっ
 とニュース北海道の中でも紹介していきます。その放
 送告知のメール等を送らせていただく場合があります
 。\n内容は変更になる場合があります。\n\n\n主催・運
 営\n・主催：札幌オープンイノベーション勉強会\n・運
 営：NHK札幌放送局\n・特別協力：NoMaps事務局\n\n札幌オ
 ープンイノベーション勉強会とは\n業界・地域・職種
 ・世代・立場を越えた交流によるオープンな関係性に
 より発生する、地域内イノベーションを指向する勉強
 会。\n毎回異なるテーマを冠した勉強会・アイデアソ
 ンの企画・運営を通じ、札幌を中心とした北海道内の
 あらゆる業界や団体の垣根を越えた交流と、相互につ
 ながる事による新しい発想を起こす起爆剤になること
 を目指します。
LOCATION:NHK札幌放送局 札幌市中央区大通西1-1
URL:https://techplay.jp/event/767269?utm_medium=referral&utm_source=ics&utm
 _campaign=ics
END:VEVENT
END:VCALENDAR
