BEGIN:VCALENDAR
VERSION:2.0
PRODID:-//https://techplay.jp//JP
CALSCALE:GREGORIAN
METHOD:PUBLISH
X-WR-CALDESC: 18  Studio コードを書かずにwebサイトを作ろう
 ！
X-WR-CALNAME: 18  Studio コードを書かずにwebサイトを作ろう
 ！
X-WR-TIMEZONE:Asia/Tokyo
BEGIN:VTIMEZONE
TZID:Asia/Tokyo
BEGIN:STANDARD
DTSTART:19700101T000000
TZOFFSETFROM:+0900
TZOFFSETTO:+0900
TZNAME:JST
END:STANDARD
END:VTIMEZONE
BEGIN:VEVENT
UID:767289@techplay.jp
SUMMARY: 18  Studio コードを書かずにwebサイトを作ろう！
DTSTART;TZID=Asia/Tokyo:20200118T130000
DTEND;TZID=Asia/Tokyo:20200118T160000
DTSTAMP:20260423T081009Z
CREATED:20200115T134953Z
DESCRIPTION:イベント詳細はこちら\nhttps://techplay.jp/event/76728
 9?utm_medium=referral&utm_source=ics&utm_campaign=ics\n\nウェブ制作
 ができたら何ができるでしょうか。ポートフォリオサ
 イトをつくったり、近所のあの喫茶店のホームページ
 の制作の案件をとってきたり、デザイナーの方でした
 ら自分が頭に思い描いた通りのサイトを制作すること
 が出来たり 等々...、魅力的な未来が見えてきませんか
 ？？でも、SUNABACOの2か月のプログラミングスクールに
 通う時間は取れない...今回はそんな あなたに是非 参
 加して頂きたいイベントです！！この講座は無料で開
 催しております。当日は ご自身のパソコンをお持ちの
 上、Sunabaco Takamatsu までお越しください。お待ちしてお
 ります(^▽^)/【詳細】自らをデザインツールと名乗るST
 UDIOというCMSを利用して、簡単なページを作成します。
 講義ではゼロから始めますので、持ち物はご自身のパ
 ソコンです。STUDIOは Chrome が推薦されているため、 Chro
 me のインストールをよろしくお願いします。【STUDIOの
 ホームページ】https://studio.design/ja【STUDIOで作られたペ
 ージ】MIO HAYAKAWA PORTFOLIOhttps://miohayakawa.studio.design/mainTHE 
 BROS sandwich standhttps://thebrossandwichstand.com/?fbclid=IwAR1qs9fHdoO
 hViPtpYYRoW_wLAjAH9j2LUyqJMUkv3htHQV7zVKXhOT2pkYブラウンロールhttp
 s://brownroll.studio.design/\n 
LOCATION:香川県高松市常磐町１-３-１
URL:https://techplay.jp/event/767289?utm_medium=referral&utm_source=ics&utm
 _campaign=ics
END:VEVENT
END:VCALENDAR
