BEGIN:VCALENDAR
VERSION:2.0
PRODID:-//https://techplay.jp//JP
CALSCALE:GREGORIAN
METHOD:PUBLISH
X-WR-CALDESC:WordPress初級講座
X-WR-CALNAME:WordPress初級講座
X-WR-TIMEZONE:Asia/Tokyo
BEGIN:VTIMEZONE
TZID:Asia/Tokyo
BEGIN:STANDARD
DTSTART:19700101T000000
TZOFFSETFROM:+0900
TZOFFSETTO:+0900
TZNAME:JST
END:STANDARD
END:VTIMEZONE
BEGIN:VEVENT
UID:767354@techplay.jp
SUMMARY:WordPress初級講座
DTSTART;TZID=Asia/Tokyo:20200125T130000
DTEND;TZID=Asia/Tokyo:20200125T160000
DTSTAMP:20260421T162542Z
CREATED:20200115T142236Z
DESCRIPTION:イベント詳細はこちら\nhttps://techplay.jp/event/76735
 4?utm_medium=referral&utm_source=ics&utm_campaign=ics\n\n
LOCATION:SUNABACO高松 香川県高松市常磐町１-３-１
URL:https://techplay.jp/event/767354?utm_medium=referral&utm_source=ics&utm
 _campaign=ics
END:VEVENT
END:VCALENDAR
