BEGIN:VCALENDAR
VERSION:2.0
PRODID:-//https://techplay.jp//JP
CALSCALE:GREGORIAN
METHOD:PUBLISH
X-WR-CALDESC:WordPress上級講座
X-WR-CALNAME:WordPress上級講座
X-WR-TIMEZONE:Asia/Tokyo
BEGIN:VTIMEZONE
TZID:Asia/Tokyo
BEGIN:STANDARD
DTSTART:19700101T000000
TZOFFSETFROM:+0900
TZOFFSETTO:+0900
TZNAME:JST
END:STANDARD
END:VTIMEZONE
BEGIN:VEVENT
UID:767376@techplay.jp
SUMMARY:WordPress上級講座
DTSTART;TZID=Asia/Tokyo:20200208T130000
DTEND;TZID=Asia/Tokyo:20200208T160000
DTSTAMP:20260423T180507Z
CREATED:20200116T012135Z
DESCRIPTION:イベント詳細はこちら\nhttps://techplay.jp/event/76737
 6?utm_medium=referral&utm_source=ics&utm_campaign=ics\n\n※上級：3000
 円 でご案内しております※・【必須】参加の申し込み
 はこちらからhttps://docs.google.com/forms/d/e/1FAIpQLSevz1stYBUgG7p
 f6_C_B20TQK6LkWSO4FiP0HddgaiHQ93kJQ/viewform?usp=sf_link・WordPress上
 級講座 WordPress中級講座までの履修を完了した方が実務
 業務レベルの技法を学ぶ講座です！※参加者はWordPress
 講座 初級と中級履修者に限ります。講座内容ワードプ
 レスのプラグインを用いて、ウェブサイト作成後の保
 守・運用とセキュリティの設定について学びます。定
 員20名(申し込み順)日時2/8日) 13:00 - 16:00受講料3000円※
 受付にてお支払いいただきます。事前準備について1 .
 ノートpc持ち込みwindows Macどちらでも可能。ネットに繋
 がること2.自分のサーバー(ロリポップ)を準備済み
LOCATION:SUNABACO高松 香川県高松市常磐町１-３-１
URL:https://techplay.jp/event/767376?utm_medium=referral&utm_source=ics&utm
 _campaign=ics
END:VEVENT
END:VCALENDAR
