BEGIN:VCALENDAR
VERSION:2.0
PRODID:-//https://techplay.jp//JP
CALSCALE:GREGORIAN
METHOD:PUBLISH
X-WR-CALDESC:Progateもくもく会
X-WR-CALNAME:Progateもくもく会
X-WR-TIMEZONE:Asia/Tokyo
BEGIN:VTIMEZONE
TZID:Asia/Tokyo
BEGIN:STANDARD
DTSTART:19700101T000000
TZOFFSETFROM:+0900
TZOFFSETTO:+0900
TZNAME:JST
END:STANDARD
END:VTIMEZONE
BEGIN:VEVENT
UID:767377@techplay.jp
SUMMARY:Progateもくもく会
DTSTART;TZID=Asia/Tokyo:20200201T100000
DTEND;TZID=Asia/Tokyo:20200201T120000
DTSTAMP:20260422T231218Z
CREATED:20200116T012421Z
DESCRIPTION:イベント詳細はこちら\nhttps://techplay.jp/event/76737
 7?utm_medium=referral&utm_source=ics&utm_campaign=ics\n\nもくもく会
 とは各々がそれぞれタスクを持ち寄りゆる～い雰囲気
 でもくもくと作業をするという会です今回は「Progate」
 をテーマとしてみんなでもくもくと作業します！家だ
 となかなか作業が進まないという方、是非みんなで一
 緒にやりませんか？\n 
LOCATION:SUNABACO高松 香川県高松市常磐町１-３-１
URL:https://techplay.jp/event/767377?utm_medium=referral&utm_source=ics&utm
 _campaign=ics
END:VEVENT
END:VCALENDAR
