BEGIN:VCALENDAR
VERSION:2.0
PRODID:-//https://techplay.jp//JP
CALSCALE:GREGORIAN
METHOD:PUBLISH
X-WR-CALDESC:【初心者歓迎】機械学習のための数学入門【
 線形代数基礎編】
X-WR-CALNAME:【初心者歓迎】機械学習のための数学入門【
 線形代数基礎編】
X-WR-TIMEZONE:Asia/Tokyo
BEGIN:VTIMEZONE
TZID:Asia/Tokyo
BEGIN:STANDARD
DTSTART:19700101T000000
TZOFFSETFROM:+0900
TZOFFSETTO:+0900
TZNAME:JST
END:STANDARD
END:VTIMEZONE
BEGIN:VEVENT
UID:768188@techplay.jp
SUMMARY:【初心者歓迎】機械学習のための数学入門【線形
 代数基礎編】
DTSTART;TZID=Asia/Tokyo:20200215T190000
DTEND;TZID=Asia/Tokyo:20200215T210000
DTSTAMP:20260423T194415Z
CREATED:20200121T094304Z
DESCRIPTION:イベント詳細はこちら\nhttps://techplay.jp/event/76818
 8?utm_medium=referral&utm_source=ics&utm_campaign=ics\n\nセミナール
 ーム移転のお知らせ\nこの度、秋葉原駅前から下記住
 所へセミナールームを移転いたします。\nお越しにな
 る際はくれぐれもお間違いのないようご注意ください
 。\n移転先住所：中央区銀座2-14-4 銀座スクエア3階\n【
 東京メトロ日比谷線】東銀座駅徒歩4分\n【東京メトロ
 有楽町線】銀座一丁目駅徒歩5分\n【都営浅草線】宝町
 駅徒歩6分\n【東京メトロ銀座線】銀座駅徒歩7分\n【JR
 山手線】有楽町駅徒歩11分\n概要\n機械学習の理論を学
 ぶ上で、数学の基礎的な知識は欠かせません。そこで
 、機械学習を理解することに特化した数学基礎講座を
 開講いたします。\n講義内では深層学習の本などでは
 当たり前のように出てくる概念や記号に的を絞ってわ
 かりやすく解説いたします。今回は「線形代数」を扱
 います。ベクトルや行列の基本概念から始まり、行列
 式や逆行列までをわかりやすく解説いたします！\n「
 機械学習にこれから挑戦したい方」「一度勉強しよう
 としたが、数学的なところでつまずいて、先に進めな
 かった方」などに、これから学習を進めていくきっか
 けとして非常にオススメな内容となっております。\n
 ※基本的な計算能力（中学レベル）は本講座を受講す
 るための前提知識とさせていただきます。\n講座を通
 じて得られること\n\n機械学習に使われている数学的な
 基礎知識の習得\n線形代数の基礎的な知識の理解\n\nカ
 リキュラム\n• 線形代数の説明\n• スカラー、ベクト
 ル、行列\n• 行列の演算\n• 行列の割り算(逆行列)\n•
  単位行列\n• 行列のサイズについて\n※各項目には演
 習問題を用意しておりますので、ノートとペンをご用
 意ください。\n※当日予告なく時間配分・内容が変更
 になる可能性がございます。\n講座一覧のフローチャ
 ート\nどの講座から受講したら良いのかわからないと
 いうような方は、下記のフローチャートを参考にして
 いただければと思います。\n\n持ち物\n・パソコンやタ
 ブレットなど講義資料（PDF）を閲覧するのに適したデ
 バイス\n・ノートとペン（演習問題を多数用意してお
 ります。）\nこんな人にオススメ\n・これから機械学習
 ・ディープラーニングの動作メカニズムを数式レベル
 で理解したい方\n・数学的な基礎知識を身に付けたい
 方\n講師\n齊藤航\n大学時代は物理化学を専攻。高分子
 の温度による挙動変化を解析し、雑誌「Journal of Biorheol
 ogy」に論文が掲載された実績を持つ。現在はデータサ
 イエンティストとして銀行のシステム開発に携わって
 いる。AVILENでは機械学習に関する数学やデータ分析の
 講座を中心に講師を担当する。\n\n領収書について\n【S
 tripeで事前決済の方】\nクレジットカード会社が発行す
 る明細を領収書の代わりとしてご利用ください。\n【Pa
 ypalの方】\n決済処理後にPaypalから送付されるメール内
 容、またはPaypalの取引履歴から該当項目を確認の上、
 「詳細」をご覧ください。それらが領収書の代わりと
 なります。また、クレジットカード会社発行の利用明
 細書も領収書としてご利用いただけます。\n【別途領
 収書発行が必要な方】\n別途発行手数料として1000円頂
 きます。必要な方は、以下のフォームよりご申請くだ
 さい。領収書発行手数料と受講料金を合算した金額で
 発行いたします。\n全人類がわかる統計学 領収書発行
 フォーム\n受付・入場時間\n開始の10分前から\n※なる
 べく5分前までにお入りください。\n※途中参加も可能
 です。\nポータルサイト会員登録のお願い\n全人類がわ
 かる統計学では、ポータルサイトを使って講座で扱う
 教材を受講者の皆様に共有いたします。\n初めて全人
 類がわかる統計学の講座に参加される方は、あらかじ
 めこちらより会員登録をお願いいたします。\nお問い
 合わせ\n・メールでのお問い合わせは、info@to-kei.net　
 までご連絡ください。\n・こちらで⇨LINE＠からもお問
 い合わせいただけます。（推奨）\n注意事項\n・リクル
 ーティング、勧誘、採用活動など、目的に沿わない行
 為につきまして、主催者が相応しくないと判断した場
 合は即刻退出処分とします。全員が気持ちよく過ごす
 ことが出来るよう、ご協力をお願い致します。\n・講
 座内で扱うコンテンツは全て「全人類がわかる統計学
 」に帰属しています。複製はご遠慮ください。\n・個
 人ブログへの講義コンテンツの掲載はご遠慮ください
 。\n・最小遂行人数は「3名」です。開催日の前日まで
 にこの人数に達しない場合は中止となります。ただし
 、複数の媒体で募集を行っているので、本サイトの申
 込者数が最小遂行人数に達しない場合でも開催になる
 場合がございます。もし、中止が決定した場合はその
 時点で「全額返金」し、登録しているメールアドレス
 にご連絡させていただきます。\n・前払いの方で急遽
 参加できなくなってしまった場合は、動画(一部講座の
 み)・資料配布またはキャンセルに応じます。連絡先の
 メールアドレスまたはLINE＠（推奨）にご連絡ください
 。キャンセルの場合は、開催日の4日前までのご連絡に
 限り、払い戻し手数料を差し引いた金額を返金いたし
 ます。それ以降は返金には応じ兼ねますのでご了承く
 ださい。\n全人類がわかる統計学とは\n株式会社AVILENが
 運営するサービスです。統計学・機械学習の学習用サ
 イト全人類がわかる統計学を運営、管理するほか、社
 会人向けのAI人材やデータサイエンティスト育成のた
 めの教育事業を行なっております。\n統計学や機械学
 習を、出来るだけわかりやすく多くの人々に届けると
 いうことを目指して活動しています。\n
LOCATION:東銀座駅徒歩4分/銀座一丁目駅徒歩5分/宝町駅徒
 歩6分/銀座駅徒歩7分/有楽町駅徒歩11分 中央区銀座2-14-4
  銀座スクエア3階
URL:https://techplay.jp/event/768188?utm_medium=referral&utm_source=ics&utm
 _campaign=ics
END:VEVENT
END:VCALENDAR
