BEGIN:VCALENDAR
VERSION:2.0
PRODID:-//https://techplay.jp//JP
CALSCALE:GREGORIAN
METHOD:PUBLISH
X-WR-CALDESC:【大阪】BMB会員\,３人のWeb事業者がホンネで語
 る！Webサイト 制作・運用・集客の基礎知識（開催を中
 止しました）
X-WR-CALNAME:【大阪】BMB会員\,３人のWeb事業者がホンネで語
 る！Webサイト 制作・運用・集客の基礎知識（開催を中
 止しました）
X-WR-TIMEZONE:Asia/Tokyo
BEGIN:VTIMEZONE
TZID:Asia/Tokyo
BEGIN:STANDARD
DTSTART:19700101T000000
TZOFFSETFROM:+0900
TZOFFSETTO:+0900
TZNAME:JST
END:STANDARD
END:VTIMEZONE
BEGIN:VEVENT
UID:768470@techplay.jp
SUMMARY:【大阪】BMB会員\,３人のWeb事業者がホンネで語る
 ！Webサイト 制作・運用・集客の基礎知識（開催を中止
 しました）
DTSTART;TZID=Asia/Tokyo:20200225T150000
DTEND;TZID=Asia/Tokyo:20200225T173000
DTSTAMP:20260421T170736Z
CREATED:20200123T045743Z
DESCRIPTION:イベント詳細はこちら\nhttps://techplay.jp/event/76847
 0?utm_medium=referral&utm_source=ics&utm_campaign=ics\n\nBMB会員\,３
 人のWeb事業者がホンネで語る！Webサイト 制作・運用・
 集客の基礎知識\n概要\n昨日「大阪府新型コロナウイル
 ス対策本部」より、新型コロナウイルスの感染の影響
 を考慮し、「大阪府主催のイベントや集会を当面、1か
 月間（3月20日まで）は、開催中止又は延期する。」と
 の方針が発表されましたので、本イベントの開催を中
 止（延期）させていただきます。\nなお、本イベント
 は、新型コロナウイルス感染の終息が確認されました
 ら、再度開催を予定しておりますので、ご了承いただ
 きますよう、よろしくお願いします。　　　　BMB事務
 局\n\n中小企業経営者や個人事業主の皆様へ…「Webサイ
 トを何のために作っておられますか？」「SNSを何のた
 めに活用されていますか？」　\n「商品やサービスを
 紹介して新規顧客を増やしたい！」「強みをアピール
 して企業の信頼度を上げたい！」「家族的な雰囲気を
 紹介して優秀な人材に来て欲しい！」そんな当たり前
 の目標が達成できていますか？\n本勉強会では、いま
 さら聞けないWebサイトの立ち上げに関する基礎知識か
 ら、検索結果の上位に表示させるための運用方法、訪
 問客を増やすためのテクニック等について、第一線で
 活躍するWeb事業者の方々から、その実践方法をお話し
 いただきます。当日は、３人のWeb事業者の皆様にご登
 壇いただき、座談会形式で皆様の疑問にお答えします
 。\n気のおけない勉強会ですので、ぜひお気軽にお越
 しください！\nタイムスケジュール\n\n\n\n時間\n内容\n\n
 \n14:30〜\n受付開始\n\n\n15:00〜15:05\n主催者挨拶\n\n\n15:05
 〜15:30\n\n自社紹介①\n齊藤　真也\n株式会社ファースト
 ネットジャパン　 代表取締役\n\n\n\n15:30〜15:55\n\n自社
 紹介②\n丸山　有仁\n株式会社みやあじよ　代表取締役
 \n\n\n\n15:55〜16:00\n休憩\n\n\n16:00〜17:30\n\n座談会\n齊藤　
 真也 ／ 丸山　有仁\nモデレーター：松崎　匡浩（有限
 会社 流楽　代表取締役）\n\n\n\n17:30〜17:05\nアンケート
 回答\n\n\n18:00〜20:00\n懇親会（希望者のみ。参加者は当
 日受付にて懇親会費をお支払いください。）\n\n\n\n※ 
 当日予告なく時間配分・内容が変更になる可能性がご
 ざいます。\n登壇者\n\n齊藤　真也　Twitter\n株式会社フ
 ァーストネットジャパン　 代表取締役\n \n\n丸山　有
 仁　Twitter\n株式会社みやあじよ　代表取締役\n \n\n松崎
 　匡浩　Twitter\n有限会社 流楽　代表取締役\n参加対象\
 n・中小企業経営者、デザイナー、Web事業者等\n※ リク
 ルーティング、勧誘など、採用目的でのイベント参加
 はお断りしております。  ※ 補欠者の方は、ご来場い
 ただいてもご入場いただくことが出来ませんのでご了
 承ください。\n持ち物\nなし\n参加費\n無料\nハッシュタ
 グ\n#bmb-off48\n注意事項
LOCATION:マイドームおおさか　４階研修室 大阪市中央区
 本町橋2-5
URL:https://techplay.jp/event/768470?utm_medium=referral&utm_source=ics&utm
 _campaign=ics
END:VEVENT
END:VCALENDAR
