BEGIN:VCALENDAR
VERSION:2.0
PRODID:-//https://techplay.jp//JP
CALSCALE:GREGORIAN
METHOD:PUBLISH
X-WR-CALDESC:V字回復を成し遂げたデータドリブンな企業文
 化【メガネスーパー事例講演】デジタル戦略・企業変
 革のリアル
X-WR-CALNAME:V字回復を成し遂げたデータドリブンな企業文
 化【メガネスーパー事例講演】デジタル戦略・企業変
 革のリアル
X-WR-TIMEZONE:Asia/Tokyo
BEGIN:VTIMEZONE
TZID:Asia/Tokyo
BEGIN:STANDARD
DTSTART:19700101T000000
TZOFFSETFROM:+0900
TZOFFSETTO:+0900
TZNAME:JST
END:STANDARD
END:VTIMEZONE
BEGIN:VEVENT
UID:768604@techplay.jp
SUMMARY:V字回復を成し遂げたデータドリブンな企業文化【
 メガネスーパー事例講演】デジタル戦略・企業変革の
 リアル
DTSTART;TZID=Asia/Tokyo:20200206T150000
DTEND;TZID=Asia/Tokyo:20200206T170000
DTSTAMP:20260424T004029Z
CREATED:20200123T142208Z
DESCRIPTION:イベント詳細はこちら\nhttps://techplay.jp/event/76860
 4?utm_medium=referral&utm_source=ics&utm_campaign=ics\n\n企業変革に
 向けてデータをどう活かす？\nデータドリブンな企業
 文化をどう作る？\n顧客行動の変化、顧客の嗜好や年
 齢層の変化など様々な事業環境の変化への柔軟な対応
 が求められることが多い小売業界においてこのような
 お悩みを抱えている企業が多いのではないでしょうか
 ？\nECエバンジェリストとして小売業界のEC・オムニチ
 ャネル推進に向けた活動を行いメガネスーパーを擁す
 る株式会社ビジョナリーホールディングスにて執行役
 員及びデジタルエクスペリエンス事業本部本部長も務
 める川添　隆様をお迎えし、8期連続赤字経営からV字
 回復を成し遂げたデジタル戦略に基づく企業変革のリ
 アルをご講演いただきます。\nまた、デジタル戦略を
 進めるうえで顧客情報などの情報のデータ化や組織全
 体にデータ活用を浸透させるための環境の整備などの
 具体的実践方法をご紹介します。\nアジェンダ\n15:00〜1
 5:30【特別講演】\nメガネスーパーのV字回復からオムニ
 チャネル/OMO戦略にむかう生々しい話 ※サテライト開
 催となります。\n15:30〜16:00【トークセッション】\nデ
 ジタル化推進を裏で支えるデータと企業文化 ※サテラ
 イト開催となります。\n16:10〜16:40【ソリューション】\
 n目指すべきデータドリブンの具体的実践方法とは。\n
 開催概要\n開催日時 2020/2/6(木) 15:00～16:40（開場14:30）\n
 会場 ACU-A（アスティ45）小研修室1604\n詳細・お申込み\n
 https://info.wingarc.com/public/seminar/view/4553\n川添 隆 氏 プロ
 フィール\n株式会社ビジョナリーホールディングス\n執
 行役員・デジタルエクスペリエンス事業本部長　川添 
 隆 氏\n1982年生まれ、佐賀県唐津市出身。アパレル関連
 企業を2社経験し、2010年にガールズ系アパレルブラン
 ドを展開するクレッジに転じ、EC事業の責任者として
 自社ECサイトの内製化、EC事業を2年で2倍に拡大。2013年
 7月よりメガネスーパーに入社。EC事業、オムニチャネ
 ル推進、デジタルに関わる全てを統括し、6年強でEC事
 業の年間売上は6倍、自社ECは月間受注は13倍に拡大。20
 17年よりビジョナリーホールディングスを兼務。2018年
 より執行役員。
LOCATION:ACU-A（アスティ45）小研修室1604 〒060-0004 北海道 
 札幌市中央区北4条西5丁目アスティ45 12F
URL:https://techplay.jp/event/768604?utm_medium=referral&utm_source=ics&utm
 _campaign=ics
END:VEVENT
END:VCALENDAR
