BEGIN:VCALENDAR
VERSION:2.0
PRODID:-//https://techplay.jp//JP
CALSCALE:GREGORIAN
METHOD:PUBLISH
X-WR-CALDESC:AI OCRハンズオンセミナー～設定時のコツなど
 も解説！～
X-WR-CALNAME:AI OCRハンズオンセミナー～設定時のコツなど
 も解説！～
X-WR-TIMEZONE:Asia/Tokyo
BEGIN:VTIMEZONE
TZID:Asia/Tokyo
BEGIN:STANDARD
DTSTART:19700101T000000
TZOFFSETFROM:+0900
TZOFFSETTO:+0900
TZNAME:JST
END:STANDARD
END:VTIMEZONE
BEGIN:VEVENT
UID:769041@techplay.jp
SUMMARY:AI OCRハンズオンセミナー～設定時のコツなども解
 説！～
DTSTART;TZID=Asia/Tokyo:20200214T140000
DTEND;TZID=Asia/Tokyo:20200214T163000
DTSTAMP:20260422T043005Z
CREATED:20200127T062121Z
DESCRIPTION:イベント詳細はこちら\nhttps://techplay.jp/event/76904
 1?utm_medium=referral&utm_source=ics&utm_campaign=ics\n\nセミナータ
 イトル\n「書類をデータ化！同時に整理！」 文書デジ
 タル化の最前線。SPAの全貌を一挙公開！\n～ AI OCRを体
 験して理解するハンズオンセッション～\nセミナー内
 容\n14:00～14:40\n【第一部】文書デジタル化のヒントと
 「SPA」概要説明・デモ\n文書をデジタル化して活用す
 るために、紙のリスクと業務のボトルネック、電子化
 するにあたっての基礎知識、「電子帳簿保存法」や「
 文書情報管理」について事例を交えてご説明します。\
 n14:50～16:00\n【第二部】ハンズオンセッション\nより識
 字率を上げるために必要なOCRの前処理や設定、そもそ
 もの帳票フォーマットについて、ポイントや仕組みを
 解説します。その上でOCRを利用したデータ化、文書の
 自動振り分けについて設定から実行までをハンズオン
 にて体験していただきます。\n詳細・お申込み\n下記URL
 、ウイングアーク1stのページよりお願いいたします。\
 nhttps://info.wingarc.com/public/seminar/view/3794\nご紹介製品 SPA\n
 「ペーパーレス化」と叫ばれるようになってからもう
 何年も経ちましたが、現実はいかがでしょうか。\nデ
 ジタルになったのは社内の一部帳票に留まっており、
 取引先や対顧客とのやりとりはまだまだ紙が中心…。\
 nこんなお困り事はありませんか？\n・契約書の原本が
 キャビネットにあるが、見たい時にすぐ探すことがで
 きない\n・ファイルサーバーで文書管理をしようと思
 ったが、うまく分類して保管/検索ができない\n・FAXや
 郵送で届いた紙を確認しながらシステムへ都度入力す
 るコストや時間がかかっている\n本セミナーでは、紙
 にまつわる諸問題の解決策を、事例を交えて解説しま
 す。\nまた、電子文書活用ソリューションの「SPA」製
 品紹介や、\nAI OCRの設定や活用ポイントを現実的な落
 とし所を考慮した形で解説します。\nさらに、実機で
 「OCRとデジタル文書の自動振り分け機能」を体験いた
 だける環境をご用意しました。\n簡単な操作で”書類
 をデータ化・同時に整理”をぜひご体験下さい。
LOCATION:ACU-A（アスティ45）小研修室1604 北海道 札幌市中
 央区北4条西5丁目アスティ45 12F
URL:https://techplay.jp/event/769041?utm_medium=referral&utm_source=ics&utm
 _campaign=ics
END:VEVENT
END:VCALENDAR
