BEGIN:VCALENDAR
VERSION:2.0
PRODID:-//https://techplay.jp//JP
CALSCALE:GREGORIAN
METHOD:PUBLISH
X-WR-CALDESC:JavaScriptフレームワーク もくもく会 #008
X-WR-CALNAME:JavaScriptフレームワーク もくもく会 #008
X-WR-TIMEZONE:Asia/Tokyo
BEGIN:VTIMEZONE
TZID:Asia/Tokyo
BEGIN:STANDARD
DTSTART:19700101T000000
TZOFFSETFROM:+0900
TZOFFSETTO:+0900
TZNAME:JST
END:STANDARD
END:VTIMEZONE
BEGIN:VEVENT
UID:770055@techplay.jp
SUMMARY:JavaScriptフレームワーク もくもく会 #008
DTSTART;TZID=Asia/Tokyo:20200210T183000
DTEND;TZID=Asia/Tokyo:20200210T204500
DTSTAMP:20260421T112401Z
CREATED:20200202T230444Z
DESCRIPTION:イベント詳細はこちら\nhttps://techplay.jp/event/77005
 5?utm_medium=referral&utm_source=ics&utm_campaign=ics\n\n\n\nイベント
 概要\n近年、Angular・React・Vue.jsを代表とする様々なJavaS
 criptフレームワークが開発に利用されています。それ
 らのフレームワークについて、とにかくゆるい感じで
 もくもくする会です  \nJavaScriptフレームワークの、勉
 強をする場所や機会がほしいかたの憩いの場になれば
 嬉しいです。  \n参加者が私1人でも、鉄の心を持って
 心折れるまで続けたいお気持ちです。  \n私は、Angular
 ・Vue.js・Riot.jsあたりを攻めていきたいと思います  \n\n
 slack部屋\nslack部屋作りました。連絡事項とかおすすめ
 情報共有用にお気軽にご参加ください。\n登録フォー
 ム  \n\nタイムスケジュール\n\n\n\n時間\n内容\n\n\n\n\n18:15
 \n受付開始\n\n\n18:15～18:30\n来た順番でみんなに挨拶 (挨
 拶大事)\n\n\n18:30～20:30\n2h もくもく (雑談や情報共有と
 かもちろんOK)\n\n\n20:30〜20:45\n終了15分前くらいから発
 表したいひとはしてみる & 雑談 (聞くだけでもOK)\n\n\n20
 :45\n解散\n\n\n\nくらいのざっくりです。 お気軽にご参
 加ください。\n\n参加者想定\n\nフロントエンドの技術
 に興味があるかた  \nJavaScriptフレームワークをこれか
 ら始めたい  \nJavaScriptフレームワークをバリバリ利用
 しているかた  \n参考書をひたすら読み倒したいかた  \
 n個人サービスを作ってみたいかた  \nもくもくする場
 所がほしいかた  \n東札幌行きづらいけどそれでも参加
 したい勇敢なかた  \nとにかく試しに参加してみたいか
 た  \n\n\n日時\n2020年2月10日(月)\n18:30〜20:45  \n※主催者
 は18:00頃より会場でもくってます\n※途中入退場OK\n※Wi
 Fiと電源有\n※飲食OK (お酒とかカレーヌードルとかヘ
 ビーなものは一応NG)  \n\n開催場所\n  \nICC Cross x Garden (1F
 )  アクセス\n〒003-0005 北海道札幌市白石区 東札幌5条1
 丁目1番1号\n地下鉄東西線 東札幌駅より 徒歩7分  \n\n参
 加費\n無料\n\n\n主催者\n\n\nYasunori Kirimoto\nGIS and WebApp Arch
 itect  \nQGIS\, Leaflet\, Mapbox GL JSの本書いたりプラグイン
 公開したり、サーバーレスしたり、サービス開発した
 り、JavaScript・Pythonとなんだかんだでごちゃまぜです \n
 \nSelf-employed at dayjournal\nCo-founder at MIERUNE Inc. \n\nQGIS\, Mapb
 ox GL JS\, Leaflet\, OpenLayers\, Turf.js\, Vue.js\, Angular\, Flask\, Dj
 ango\, Firebase\, Amplify\, AWS\, GCP\, TypeScript\, JavaScript\, Python\
 n\nTwitter\nFacebook   \n\nJavaScriptではじめるWebマップアプリ
 ケーション\nPythonではじめるマップアプリケーション
 プラグイン \n
LOCATION:ICC Cross x Garden 札幌市白石区東札幌5条1丁目1－1
URL:https://techplay.jp/event/770055?utm_medium=referral&utm_source=ics&utm
 _campaign=ics
END:VEVENT
END:VCALENDAR
