BEGIN:VCALENDAR
VERSION:2.0
PRODID:-//https://techplay.jp//JP
CALSCALE:GREGORIAN
METHOD:PUBLISH
X-WR-CALDESC:【※ ※ ※ 開催延期 ※ ※ ※】 Adobe DX Night ～
 クリエイティブ x デジタルエクスペリエンスは顧客体
 験を変革する～
X-WR-CALNAME:【※ ※ ※ 開催延期 ※ ※ ※】 Adobe DX Night ～
 クリエイティブ x デジタルエクスペリエンスは顧客体
 験を変革する～
X-WR-TIMEZONE:Asia/Tokyo
BEGIN:VTIMEZONE
TZID:Asia/Tokyo
BEGIN:STANDARD
DTSTART:19700101T000000
TZOFFSETFROM:+0900
TZOFFSETTO:+0900
TZNAME:JST
END:STANDARD
END:VTIMEZONE
BEGIN:VEVENT
UID:770256@techplay.jp
SUMMARY:【※ ※ ※ 開催延期 ※ ※ ※】 Adobe DX Night ～クリ
 エイティブ x デジタルエクスペリエンスは顧客体験を
 変革する～
DTSTART;TZID=Asia/Tokyo:20200313T193000
DTEND;TZID=Asia/Tokyo:20200313T214500
DTSTAMP:20260423T110743Z
CREATED:20200204T013842Z
DESCRIPTION:イベント詳細はこちら\nhttps://techplay.jp/event/77025
 6?utm_medium=referral&utm_source=ics&utm_campaign=ics\n\n【開催延期
 のお知らせ】\n\n新型コロナウイルスの感染拡大状況を
 考慮し、開催を延期させていただくこととになりまし
 た。\n参加申込をいただいた皆様には大変申し訳ござ
 いませんが、参加者の健康、そして感染拡大防止に努
 めることを重視しての決定となります。\n何卒ご理解
 賜りますようお願い申し上げます。\n\n概要\n現代の多
 様化するニーズは「モノ（商品）」から「コト（体験
 ）」へシフトし、企業は良質な顧客体験を提供するこ
 とで、事業収益拡大への機会を見いだし始めています
 。 アドビはクリエイティブツールのみならず、企業の
 顧客体験全般を支援するプラットフォーム「Adobe Experie
 nce Cloud」が日本でも急成長し、クリエイティブとの融
 合により、新たな顧客体験をサポートしています。\n
 今回のイベントではアドビにしかできない、デジタル
 エクスペリエンスやビッグデータを駆使し、顧客体験
 マネージメントをどのように変革していくか、取り組
 みや事例を交えてお伝えします。\nタイムスケジュー
 ル\n\n\n\n時間\n内容\n\n\n19:00〜\n受付開始\n\n\n19:30〜19:35\
 nオープニング\n\n\n19:35〜19:50\n\nChange the world through Digita
 l Experience、アドビがかかげるミッションとは\n小沢 匠\
 n\n\n\n19:50〜20:20\n\nクリエイティブ領域のデジタル変革
 技術とサービス支援の魅力\n山田 智久\n\n\n\n20:20〜20:50\
 n\n元エンジニアが語る、顧客体験を支えるテクノロジ
 ーの楽しさ\n澤田 諒介\n\n\n\n20:50〜21:00\nアドビからの
 案内＆アンケート\n\n\n21:00〜21:45\n懇親会\n\n\n\n※ 当日
 予告なく時間配分・内容が変更になる可能性がござい
 ます。\n登壇者\n\n\n\n\n小沢 匠\nアドビ システムズ株式
 会社アドビ カスタマーソリューションズ統括本部常務
 執行役員 統括本部長\n2010年アドビ システムズ入社。 
 コンサルタントとしてデジタルマーケティングの組織
 戦略/人材育成、チェンジマネジメント、ならびにマネ
 ジメント向けコンサルティングを専門として業務に従
 事。主にメディア・通信・製造を担当。 米国バークリ
 ー音楽大学 卒業\n\n\n\n\n\n山田 智久\nアドビ システム
 ズ株式会社アドビ デジタルデザイン&オペレーション
 部 部長\n博報堂アイ・スタジオを経て、2016年2月アド
 ビ入社。マーケティング領域におけるブランドクリエ
 ティブとテクノロジーの融合を手段に、コミュニケー
 ションにおける課題解決に長年従事。\n\n\n\n\n\n澤田 諒
 介\nアドビ システムズ株式会社アドビ カスタマー ソ
 リューションズ統括本部プリンシパルコンサルタント\
 n複数のWebスタートアップ企業にてエンジニア/ディレ
 クターとして自社サービス開発や社内向けシステム・
 フレームワーク開発などを経験。 2013年にアドビに入
 社、Adobe Analytics / Adobe Target / Adobe Audience Manager を中心
 とした 他製品も含むコンサルティング業務に従事。Web
 業界の知見や技術的な知識を活かし、データ分析/施策
 設計や環境構築、施策推進などのProject推進を数多く実
 施。 2018年からAdobe Experience Cloudの活用を中心とした企
 業の課題解決を設計・ご提案するソリューションアー
 キテクトとしても活動。\n\n\n参加対象\n\nフロントエン
 ドエンジニア\nバックエンドエンジニア\nデータサイエ
 ンティスト\nPM、PdM\nITコンサルタント\n\n持ち物\n名刺1
 枚\n※ 受付時にお渡し下さい。\n参加費\n無料\n注意事
 項\n※ リクルーティング、勧誘など、採用目的でのイ
 ベント参加はお断りしております。 ※ 飲食のみを目
 的としたご応募・ご来場はご遠慮ください。※ 補欠者
 の方は、ご来場いただいてもご入場いただくことが出
 来ませんのでご了承ください。 ※ 参加を辞退する場
 合は、詳細ページより申込のキャンセルをお願い致し
 ます。 ※ 無断キャンセル・欠席が続く場合、次回以
 降の参加をお断りさせていただく場合がございますの
 でご了承ください。\n
LOCATION:TECH PLAY SHIBUYA 東京都渋谷区宇田川町20-17 NMF渋谷公
 園通りビル 8F
URL:https://techplay.jp/event/770256?utm_medium=referral&utm_source=ics&utm
 _campaign=ics
END:VEVENT
END:VCALENDAR
