BEGIN:VCALENDAR
VERSION:2.0
PRODID:-//https://techplay.jp//JP
CALSCALE:GREGORIAN
METHOD:PUBLISH
X-WR-CALDESC:WEBサイトの問い合わせ数を1.5倍にする！ユー
 ザー視点で考えるサイト改善のポイント
X-WR-CALNAME:WEBサイトの問い合わせ数を1.5倍にする！ユー
 ザー視点で考えるサイト改善のポイント
X-WR-TIMEZONE:Asia/Tokyo
BEGIN:VTIMEZONE
TZID:Asia/Tokyo
BEGIN:STANDARD
DTSTART:19700101T000000
TZOFFSETFROM:+0900
TZOFFSETTO:+0900
TZNAME:JST
END:STANDARD
END:VTIMEZONE
BEGIN:VEVENT
UID:770262@techplay.jp
SUMMARY:WEBサイトの問い合わせ数を1.5倍にする！ユーザー
 視点で考えるサイト改善のポイント
DTSTART;TZID=Asia/Tokyo:20200220T180000
DTEND;TZID=Asia/Tokyo:20200220T210000
DTSTAMP:20260424T015336Z
CREATED:20200204T031625Z
DESCRIPTION:イベント詳細はこちら\nhttps://techplay.jp/event/77026
 2?utm_medium=referral&utm_source=ics&utm_campaign=ics\n\n【開催中止
 のお知らせ】\n本セミナーにつきまして、新型コロナ
 ウイルスの感染拡大をうけまして、参加者様の安全を
 考慮いたしました結果、やむなく中止とさせていただ
 きます。お申込みいただいた皆さまにつきましては、
 大変なご迷惑をおかけしますことお詫び申し上げます
 。なにとぞご理解とご了承を賜りますようお願い申し
 上げます。\nーーーーーーーーーーーーーーーーーー
 ーーーーーーーーーーーーーーーーーーー\nWEBサイト
 の問い合わせ数を1.5倍にする！\nユーザー視点で考え
 るサイト改善のポイント\n概要\n企業の中でマーケティ
 ング、営業、広報のご担当者様の中には、このような
 悩みをお持ちの方はいらっしゃいませんか？\n「WEBサ
 イト経由での問い合わせ数・売上を、来期１.5倍にし
 なければいけないが道筋が見えない」\n世の中にはSEO
 やWEBサイト改善のテクニックが溢れていますが、それ
 を取捨選択して最適なものを実施していくのは非常に
 難しいと思います。\n今回のセミナーは以下のような
 方に向けてユーザー視点で考えるサイト改善のポイン
 トをご紹介します。\n・サイトのPVだけでなく問い合わ
 せ数や売上に繋げる活動をしたい\n・社内で上がって
 いるWEBサイトの施策を体系的に整理したい\n・サイト
 のリニューアルが本当に必要なのかどうか見極めたい\
 n見直すべきポイントや課題の見つけ方、またサイト改
 善のコツについて、業界で数々の実績を残してきたWEB
 マーケティングのプロが分かりやすくレクチャーいた
 します。\n当日はざっくばらんにご質問もしていただ
 けます。どうぞお気軽にお申込みください。\nタイム
 スケジュール\n\n\n\n時間\n内容\n\n\n17:45〜\n受付開始\n\n\
 n18:00〜18:10\nオープニング\n\n\n\n18:10～19:40\n\n\nWEBサイト
 の問い合わせ数を1.5倍にする！ユーザー視点で考える
 サイト改善のポイント\n登壇：ヒトノテ\n\n\n\n19:40〜19:5
 0\n\nアンケート回答\n\n\n\n19:50〜20:50\n\n懇親会\n※お酒
 と軽食をご用意させていただきます\n※各種準備の関
 係で基本的には皆様にご参加いただければと思ってい
 ます\n\n\n\n\n※ 当日予告なく時間配分・内容が変更に
 なる可能性がございます。\n登壇者\n\n坪 昌史株式会社
 ヒトノテ　代表取締役\n2008年　株式会社サイバーエー
 ジェントにてSEO R&D機関の立ち上げ\n2010年　株式会社リ
 クルートにて全社SEO技術責任者\n2015年　株式会社クラ
 ウドワークス　プラットフォーム事業部 事業部長\n2017
 年　株式会社ヒトノテ 創業\n \n\n天野 良香株式会社ヒ
 トノテ　CMO　\n2010年　WEB制作会社へ新卒で入社 WEBディ
 レクター 兼 フロントエンジニア2013年　株式会社プロ
 トコーポレーション入社 WEBプロデューサー、 グーネ
 ットのサイトリーダー2016年　同社 新規事業開発部へ
 異動 新規事業の企画、推進2019年～株式会社ヒトノテ W
 EBコンサルタント 自社のWEBマーケティング推進\n参加
 対象\n\nマーケティング部門の責任者もしくはそれに準
 ずる方\n広報部門の責任者もしくはそれに準ずる方\n営
 業部門の責任者もしくはそれに準ずる方\nサイト運用
 に外部パートナーを検討されている法人の方\n\n※ リ
 クルーティング、勧誘など、採用目的でのイベント参
 加はお断りしております。 ※ 飲食のみを目的とした
 ご応募・ご来場はご遠慮ください。※ 広告代理店及び
 、同業他社のご参加はお断りしております。予めご了
 承ください。\n持ち物\n名刺\n参加費\n無料\nハッシュタ
 グ\n#初心者　#サイト改善　#WEBマーケティング　#WEB担
 当　#GoogleAnalytics　#SEO\n注意事項\n※ 参加を辞退する場
 合は、詳細ページより申込のキャンセルをお願い致し
 ます。※ 無断キャンセル・欠席が続く場合、次回以降
 の参加をお断りさせていただく場合がございますので
 ご了承ください。\n 
LOCATION:イデアホリック会議室 神保町  東京都千代田区西
 神田２丁目８−５
URL:https://techplay.jp/event/770262?utm_medium=referral&utm_source=ics&utm
 _campaign=ics
END:VEVENT
END:VCALENDAR
