BEGIN:VCALENDAR
VERSION:2.0
PRODID:-//https://techplay.jp//JP
CALSCALE:GREGORIAN
METHOD:PUBLISH
X-WR-CALDESC:まだ間に合う「Vue」の基礎を学ぶ！（フロン
 トエンジニア＆バックエンドエンジニア向け）
X-WR-CALNAME:まだ間に合う「Vue」の基礎を学ぶ！（フロン
 トエンジニア＆バックエンドエンジニア向け）
X-WR-TIMEZONE:Asia/Tokyo
BEGIN:VTIMEZONE
TZID:Asia/Tokyo
BEGIN:STANDARD
DTSTART:19700101T000000
TZOFFSETFROM:+0900
TZOFFSETTO:+0900
TZNAME:JST
END:STANDARD
END:VTIMEZONE
BEGIN:VEVENT
UID:771298@techplay.jp
SUMMARY:まだ間に合う「Vue」の基礎を学ぶ！（フロントエ
 ンジニア＆バックエンドエンジニア向け）
DTSTART;TZID=Asia/Tokyo:20200216T100000
DTEND;TZID=Asia/Tokyo:20200216T113000
DTSTAMP:20260424T140825Z
CREATED:20200211T094404Z
DESCRIPTION:イベント詳細はこちら\nhttps://techplay.jp/event/77129
 8?utm_medium=referral&utm_source=ics&utm_campaign=ics\n\n参加者の満
 足度が高いと大好評をいただいている、株式会社エッ
 グシステムのシステムエンジニア向け勉強会です！ \n
 今回は、今やデファクトスタンダードになりつつある
 、JavaScriptフレームワーク「Vue.js」をご紹介します！\n 
 \nVue.jsはMVVMと呼ばれる設計パターンを採用しているフ
 レームワークです。MVVMフレームワークではModel、View、
  ViewModel の3つでアプリケーションを構築します。\nVue.j
 sのメリット・デメリットも説明しますので、「Vue」に
 ついてこれから勉強しようと思っている方にとっては
 最適な内容です！\n「これからVue.jsを学ぼうとしてい
 る」\n「独学でVue.jsを勉強し始めたけど、イマイチよ
 くわからない点があって、学習が滞っている」\n「既
 にVue.jsを扱っているけれど、復習を兼ねて基礎固めを
 したい」\n「新しい技術を学んで、スキルアップした
 い」\n\nVue.jsについてまだあまり知らない方向けに行い
 ます！\n参加者の方のペースに合わせて進めますので
 、安心してご参加ください！\n勉強会自体が初参加、
 という方も大歓迎です！\n学べること\n・Vue.jsは何かを
 知る\n・Vue.jsを使うことのメリットを知る\n・実際の導
 入事例や詳しい仕様を理解し、Vue.jsを扱えるようにな
 る\n\n当日の内容\n・自己紹介\n・Vueの概要\n　　◯ Vue
 とは何か\n　　◯ jqueryとの違い\n・Vue.jsの実際の導入
 事例\n・Vueの仕様について\n　　◯ VueObejcet、双方向バ
 インディング、emit/propsによる親子関係など\n・Vueの拡
 張モジュールについて\n・SPAを作る\n\n持ち物\n・ノー
 トパソコン\n※OSはWindows、Macどちらでもかまいません
 。\n ※コンセントの数には限りがあるので、事前の充
 電をお勧めします。 \n会場について\n〒160-0023\n東京都
 新宿区西新宿８丁目１１−１０　星野ビル３階株式会
 社エッグシステムオフィス\n・東京メトロ丸ノ内線「
 西新宿駅」より徒歩2分・JR、小田急、京王、都営地下
 鉄、東京メトロ「新宿駅」西口より徒歩10分\n※会場は
 10分前からご入室頂けます。※早くご到着された場合
 は、3Fエレベーターホールにてお待ちください。\n\n◆
 現地へのアクセス方法\n・Googleマップへのリンク\nhttps:
 //goo.gl/maps/2TcUwdrDy8RnUj7T9\n \nエッグシステムの仕事へジ
 ョイン！\n本内容を受けられた方は、ぜひ株式会社エ
 ッグシステムと一緒に仕事をしましょう！ 詳細は当日
 お伝えします。【主催】 株式会社エッグシステム https
 ://eggsystem.co.jp/ \n勉強会の様子\n\n\n\n\n\n参加者の声\n満
 足度が高かったという感想を多数いただいています。 
 ありがとうございます！ \n\n\n\n感想\n\n\n\n【H.Aさん／
 男性／参加した勉強会：WordPressをNuxtへ置き換え】 モ
 ダンなフロントエンド技術をデモを交えて教えていた
 だいたのが良かったです。\n\n\n\n\n【S.Iさん／男性／参
 加した勉強会：WordPressをNuxtへ置き換え】 全体的包括
 的な説明があり理解し易かった。\n\n\n\n\n【M.Sさん／男
 性／参加した勉強会：WordPressをNuxtへ置き換え】 NUXT JS 
 の概要がまとまっていてわかりやすかったです。Netlify
 とContentfulの管理画面のデモが見れたのはありがたかっ
 たです。\n\n\n\n\n【S.Kさん／女性／参加した勉強会：ホ
 ームページ制作】 Wordpressの基本的な構造を詳しくご説
 明いただけて分かりやすかったです。なんとなくの理
 解でWordpressを触っていたので、基礎が分かって助かり
 ました。ありがとうございました。\n\n\n\n【H.Tさん／
 男性／参加した勉強会：ホームページ制作 】 初心者
 に対して分かりやすく例を用いて説明してくれて、ホ
 ームページの基礎知識から制作、公開までの流れも詳
 しく説明していただきました。口調も穏やかで質問し
 やすく、非常に満足できました。 \n\n\n\n【A.K.さん／女
 性／参加した勉強会：ホームページ制作】 こんなにお
 安いお値段でお勉強させていただき、ありがたかった
 です。ワードプレスは１度諦めていたのですが、また
 やってみたいと思いました。 \n\n\n\n【K.W.さん／女性／
 参加した勉強会：ホームページ制作】 参加前は心配で
 したが、分かりやすく楽しめました。また参加したい
 と思います。 \n\n\n【K.W.さん／男性／参加した勉強会
 ：ホームページ制作】 勉強会には初めて参加したので
 すが、大変ためになりました。また次回も参加したい
 です。時間が足りないくらいでした。 \n\n\n【M.S.さん
 ／女性／参加した勉強会：ホームページ制作】 基礎で
 飛ばしていたところを再確認できました。他の方と一
 緒に勉強できる機会もとても貴重なのでありがたいで
 す。 \n\n\n【H.M.さん／男性／参加した勉強会：ホーム
 ページ制作】 興味のある内容だったし、分かりやすか
 ったのでとても勉強になった。分野を超えて教えてい
 ただいてありがたかった。\n\n\n【J.Tさん／男性／参加
 した勉強会：css勉強会 】 大規模システムでのcss設計
 について聞けたのが良かった。毎回実務で活かせる内
 容が多く、助かっています。\n\n\n【T.Iさん／男性／参
 加した勉強会：css勉強会 】他社で使われている、もし
 くは業界で一般的に使われているノウハウを学べ、と
 ても勉強になりました。0からサイト構築をする際の参
 考にさせていただきます。\n\n\n\n【T.Aさん／男性／参
 加した勉強会：css勉強会 】プロの目から見たコーディ
 ングが聞けて、大変参考になりました。\n\n\n\n【S.Yさ
 ん／男性／参加した勉強会：css勉強会 】 設計など色
 々話を聞けてよかった。また、現場の話を聞く機会が
 ないので、環境の話も知れてよかった。\n\n\n\n参加後
 のアンケートはこちらから\nhttps://goo.gl/forms/ZxTgRWVytehVeH
 0j1
LOCATION:東京都新宿区西新宿8-11-10 星野ビル3階 エッグシ
 ステムオフィス 東京都新宿区西新宿8-11-10 星野ビル3階
URL:https://techplay.jp/event/771298?utm_medium=referral&utm_source=ics&utm
 _campaign=ics
END:VEVENT
END:VCALENDAR
