BEGIN:VCALENDAR
VERSION:2.0
PRODID:-//https://techplay.jp//JP
CALSCALE:GREGORIAN
METHOD:PUBLISH
X-WR-CALDESC:iPadで試す A.I.とモバイルアプリ
X-WR-CALNAME:iPadで試す A.I.とモバイルアプリ
X-WR-TIMEZONE:Asia/Tokyo
BEGIN:VTIMEZONE
TZID:Asia/Tokyo
BEGIN:STANDARD
DTSTART:19700101T000000
TZOFFSETFROM:+0900
TZOFFSETTO:+0900
TZNAME:JST
END:STANDARD
END:VTIMEZONE
BEGIN:VEVENT
UID:771547@techplay.jp
SUMMARY:iPadで試す A.I.とモバイルアプリ
DTSTART;TZID=Asia/Tokyo:20200307T132000
DTEND;TZID=Asia/Tokyo:20200307T142000
DTSTAMP:20260421T035645Z
CREATED:20200212T142107Z
DESCRIPTION:イベント詳細はこちら\nhttps://techplay.jp/event/77154
 7?utm_medium=referral&utm_source=ics&utm_campaign=ics\n\nご案内\nこ
 のセッションは次の対応を行い開催いたします。\n1.参
 加される方々同士の空間を確保するため定員を半分に
 減らします。\n(この対応により定員に達しました)\n2.
 開催する部屋には手洗いコーナーがありますのでご利
 用お願いします。\n3.施設自体の換気に加え外窓を随時
 開放し外気換気を行います。\n4.その他、公的機関によ
 る予防策の実行を参加者皆様にお願いします。\n【追
 記2020.2.25】\n\nこのセッションでは、ライブストリーミ
 ングを行う予定です。\n会場後からのスクリーンと、iP
 ad\, MacBook Proの画面、講師を配信します。参加者が映り
 込まないよう配慮しますが、質問や会話など音声は入
 り込みますのであらかじめご了承ください。【追記2020
 .2.24】\n\nMOSA Multi-OS Software Artists と札幌Swiftは、毎月プ
 ログラミングを楽しむセッションを開催しています。\
 nこのセッションは、コードの入力はなく、プログラミ
 ングの知識も必要ありません。\nMOSAは、プログラミン
 グに取り組む方々を応援する団体です。\nhttp://www.mosa.g
 r.jp\n\niPadで試す A.I.とモバイルアプリ\nこんなところに
 も A.I.が使われています\nスマホやタブレットなどのモ
 バイル機器には様々なアプリがあります。このセッシ
 ョンでは、A.I.（人工知能）とそれを利用したアプリケ
 ーションについて紹介します。\nここ数年、人工知能
 と言われている事例の多くは、機械学習と呼ばれる分
 野の機能が使われています。このセッションでは、こ
 れから身近になる、また場合によっては気がつかずに
 利用することになる、A.I.（人工知能）とその応用アプ
 リを実際に試します。想像とことなる使い方もあるか
 もしれません。この機会にぜひご体験ください。\niPad
 向けにAppleが無料で公開している「Swift Playgrounds」アプ
 リを利用します。iPadに同アプリをインストールしてご
 持参いただければ、ご自分で試しながら参加できます
 。（できるだけサポートしますが、ハンズオンではあ
 りませんので、進行は予定通りに進めさせていただき
 ます。）\nAppleの関連する情報はそれぞれ次のリンクを
 ご参照ください。\n機械学習（日本語）\nhttps://developer.
 apple.com/jp/machine-learning/\n\niPad Swift Playgroundsの紹介（日
 本語）\nhttps://www.apple.com/jp/swift/playgrounds/\n\n\n会場\nさ
 っぽろ創世スクエア（札幌市民交流プラザ）\n　060-0001
  北海道札幌市中央区北１条西１丁目 ２丁目\n札幌市営
 地下鉄東西線、南北線、東豊線「大通」駅 31番出口か
 ら徒歩約2分\n※地下鉄大通駅地下通路直結（大通地下
 鉄駅・各ホームからは徒歩10〜20分程度）\nhttps://www.sapp
 oro-community-plaza.jp/access.html\n\n4階・控室405\nフロア案内
 図です。\nhttps://www.ikedajunji.com/mosa/map_4th_floor.jpeg\n\n（
 翌月4月18日開催以降は、2F・SCARTS ミーティングルーム
 になります。）\n\n必要なもの\n・特にありません。\n
 ・iPadをご持参いただければ、その場で試しながら参加
 できます。ハンズオンではありませんので、進行は時
 間通りになります。\n・最新のOSにアップデートし「Swi
 ft Playgrounds」をインストールしてご持参ください。\n\n
 配布資料\n・iPad Swift Playgroundsで利用可能なPlaygroundbook
 を配布します。\n扱う内容\n・A.I.（人工知能）につい
 て\n・機械学習・CoreMLついて\n・CreateMLについて\n\n対 
 象\n・IT、ICTに興味のある方\n・A.I.人工知能について知
 りたい方\n・iPadやiPhoneをもっと色々と使ってみたい方\
 n・iPad\, iPhoneなどのiOSアプリ・プログラミングに興味
 のある方\n・一般の方\n・小学生でも興味がある方は参
 加可能ですが、保護者同伴でお願いします。\n　（参
 加受付は人数分行ってください。）\n\n問い合わせ\n質
 問、問い合わせは「イベント管理者への問い合わせ」
 からお願いします。\n\n講師について\nMOSA Multi-OS Software
  Artists 暫定代表\n写真集、iOSアプリをリリースしてい
 ます。\nステレオ3D写真集、Stereo3D KITAシリーズなど\nhtt
 ps://apple.co/2NonAn2\n\niPhoneとLEGOブロックで撮った作品な
 ど Apple iBooks Store\nhttps://apple.co/2uzhzNm\n\nサーモグラフィ
 ック写真集などアマゾン・キンドルストア\nhttps://amzn.t
 o/2O5u2Rk\n\nステレオ3D撮影の最適な条件を計算するため
 のiOSアプリを公開しています。\nRittaiCalc3D\nhttps://itunes.
 apple.com/jp/app/rittaicalc3d/id424775719?mt=8\n\n\n\n開催当日、同
 じ会場で5つのセッションを行います。\n\n【iPadで試す 
 A.I.とモバイルアプリ】\nこんなところにもA.I.が使われ
 ています\n13:20〜14:20\nhttps://sapporoswift.connpass.com/event/1673
 20/\n\n【春のSwiftまつり】\niPadのPlaygroundsでライブ・コ
 ーディング！\n14:40〜15:40\nhttps://sapporoswift.connpass.com/even
 t/167321/\n\n【春から始めるSwiftUI】\niPadのPlaygroundsでライ
 ブ・コーディング！\n16:00〜17:00\nhttps://sapporoswift.connpass
 .com/event/167322/\n\n【SwiftUIのデータフローその2】\nSwiftUI
 の文法じっくり解説\n17:20〜18:20\nhttps://sapporoswift.connpass
 .com/event/167354/\n\n【SwiftUIとUIKitを組み合わせる】\nSwiftUI
 活用サンプル\n18:40〜19:40\nhttps://sapporoswift.connpass.com/even
 t/167356/\n\n\nフル割（一般）\n第一セッションは無料で
 ご参加いただけます。二番目以降のセッションは有料
 （1\,000円）です。二番目以降4つすべてのセッションに
 お申し込みの場合、1\,000円×4セッション=4\,000円を、合
 計でフル割：3\,000円になります。会場でお支払い時に
 お申し出ください。\n参加登録はセッション毎に必要
 です。\niPad試用希望分は別途お支払いください。\n\n学
 生割引\n「第二セッション」と「第三セッション」両
 方参加で計1\,000円に割引です。\n学生の方は、「第二
 ・第三・第四・第五」すべて受講の場合、2\,000円にな
 ります。\n会場で受付時に自己申告してください。\n参
 加登録はセッション毎に必要です。\n\n\n事前登録制で
 すが、空きがある場合は、当日参加も可能です。\n
LOCATION:さっぽろ創世スクエア さっぽろ創世スクエア：
 札幌市中央区北１条西１丁目 ２丁目
URL:https://techplay.jp/event/771547?utm_medium=referral&utm_source=ics&utm
 _campaign=ics
END:VEVENT
END:VCALENDAR
